BEGIN:VCALENDAR
VERSION:2.0
PRODID:-//Victoria Point Sharks Sporting Club - ECPv6.15.20//NONSGML v1.0//EN
CALSCALE:GREGORIAN
METHOD:PUBLISH
X-WR-CALNAME:Victoria Point Sharks Sporting Club
X-ORIGINAL-URL:https://sharksclub.com.au
X-WR-CALDESC:Events for Victoria Point Sharks Sporting Club
REFRESH-INTERVAL;VALUE=DURATION:PT1H
X-Robots-Tag:noindex
X-PUBLISHED-TTL:PT1H
BEGIN:VTIMEZONE
TZID:Australia/Brisbane
BEGIN:STANDARD
TZOFFSETFROM:+1000
TZOFFSETTO:+1000
TZNAME:AEST
DTSTART:20270101T000000
END:STANDARD
END:VTIMEZONE
BEGIN:VEVENT
DTSTART;TZID=Australia/Brisbane:20280204T183000
DTEND;TZID=Australia/Brisbane:20280204T223000
DTSTAMP:20260421T070216
CREATED:20240715T041713Z
LAST-MODIFIED:20251208T062541Z
UID:10019016-1833301800-1833316200@sharksclub.com.au
SUMMARY:Live Music
DESCRIPTION:Enjoy free weekly live music at The Sharks! \nExperience the best of local live music! Join us in our vibrant main lounge where talented musicians and bands perform a variety of genres to suit all tastes. \nWhether you’re looking for a relaxing evening with smooth jazz\, an upbeat night with lively rock\, or anything in between\, we have something for everyone.
URL:https://sharksclub.com.au/event/live-music/2028-02-04/
LOCATION:Vic Point Sharks\, 325 Colburn Avenue\, Victoria Point\, QLD\, 4165\, Australia
CATEGORIES:All,Entertainment,Live Music
ATTACH;FMTTYPE=image/jpeg:https://sharksclub.com.au/wp-content/uploads/2024/07/Fri-Sat-night-Entertainment-Featured-Event.jpg
END:VEVENT
BEGIN:VEVENT
DTSTART;TZID=Australia/Brisbane:20280205T183000
DTEND;TZID=Australia/Brisbane:20280205T223000
DTSTAMP:20260421T070216
CREATED:20240715T041713Z
LAST-MODIFIED:20251208T062541Z
UID:10019017-1833388200-1833402600@sharksclub.com.au
SUMMARY:Live Music
DESCRIPTION:Enjoy free weekly live music at The Sharks! \nExperience the best of local live music! Join us in our vibrant main lounge where talented musicians and bands perform a variety of genres to suit all tastes. \nWhether you’re looking for a relaxing evening with smooth jazz\, an upbeat night with lively rock\, or anything in between\, we have something for everyone.
URL:https://sharksclub.com.au/event/live-music/2028-02-05/
LOCATION:Vic Point Sharks\, 325 Colburn Avenue\, Victoria Point\, QLD\, 4165\, Australia
CATEGORIES:All,Entertainment,Live Music
ATTACH;FMTTYPE=image/jpeg:https://sharksclub.com.au/wp-content/uploads/2024/07/Fri-Sat-night-Entertainment-Featured-Event.jpg
END:VEVENT
BEGIN:VEVENT
DTSTART;TZID=Australia/Brisbane:20280211T183000
DTEND;TZID=Australia/Brisbane:20280211T223000
DTSTAMP:20260421T070217
CREATED:20240715T041713Z
LAST-MODIFIED:20251208T062541Z
UID:10019018-1833906600-1833921000@sharksclub.com.au
SUMMARY:Live Music
DESCRIPTION:Enjoy free weekly live music at The Sharks! \nExperience the best of local live music! Join us in our vibrant main lounge where talented musicians and bands perform a variety of genres to suit all tastes. \nWhether you’re looking for a relaxing evening with smooth jazz\, an upbeat night with lively rock\, or anything in between\, we have something for everyone.
URL:https://sharksclub.com.au/event/live-music/2028-02-11/
LOCATION:Vic Point Sharks\, 325 Colburn Avenue\, Victoria Point\, QLD\, 4165\, Australia
CATEGORIES:All,Entertainment,Live Music
ATTACH;FMTTYPE=image/jpeg:https://sharksclub.com.au/wp-content/uploads/2024/07/Fri-Sat-night-Entertainment-Featured-Event.jpg
END:VEVENT
BEGIN:VEVENT
DTSTART;TZID=Australia/Brisbane:20280212T183000
DTEND;TZID=Australia/Brisbane:20280212T223000
DTSTAMP:20260421T070217
CREATED:20240715T041713Z
LAST-MODIFIED:20251208T062541Z
UID:10019019-1833993000-1834007400@sharksclub.com.au
SUMMARY:Live Music
DESCRIPTION:Enjoy free weekly live music at The Sharks! \nExperience the best of local live music! Join us in our vibrant main lounge where talented musicians and bands perform a variety of genres to suit all tastes. \nWhether you’re looking for a relaxing evening with smooth jazz\, an upbeat night with lively rock\, or anything in between\, we have something for everyone.
URL:https://sharksclub.com.au/event/live-music/2028-02-12/
LOCATION:Vic Point Sharks\, 325 Colburn Avenue\, Victoria Point\, QLD\, 4165\, Australia
CATEGORIES:All,Entertainment,Live Music
ATTACH;FMTTYPE=image/jpeg:https://sharksclub.com.au/wp-content/uploads/2024/07/Fri-Sat-night-Entertainment-Featured-Event.jpg
END:VEVENT
BEGIN:VEVENT
DTSTART;TZID=Australia/Brisbane:20280218T183000
DTEND;TZID=Australia/Brisbane:20280218T223000
DTSTAMP:20260421T070217
CREATED:20240715T041713Z
LAST-MODIFIED:20251208T062541Z
UID:10019020-1834511400-1834525800@sharksclub.com.au
SUMMARY:Live Music
DESCRIPTION:Enjoy free weekly live music at The Sharks! \nExperience the best of local live music! Join us in our vibrant main lounge where talented musicians and bands perform a variety of genres to suit all tastes. \nWhether you’re looking for a relaxing evening with smooth jazz\, an upbeat night with lively rock\, or anything in between\, we have something for everyone.
URL:https://sharksclub.com.au/event/live-music/2028-02-18/
LOCATION:Vic Point Sharks\, 325 Colburn Avenue\, Victoria Point\, QLD\, 4165\, Australia
CATEGORIES:All,Entertainment,Live Music
ATTACH;FMTTYPE=image/jpeg:https://sharksclub.com.au/wp-content/uploads/2024/07/Fri-Sat-night-Entertainment-Featured-Event.jpg
END:VEVENT
BEGIN:VEVENT
DTSTART;TZID=Australia/Brisbane:20280219T183000
DTEND;TZID=Australia/Brisbane:20280219T223000
DTSTAMP:20260421T070217
CREATED:20240715T041713Z
LAST-MODIFIED:20251208T062541Z
UID:10019021-1834597800-1834612200@sharksclub.com.au
SUMMARY:Live Music
DESCRIPTION:Enjoy free weekly live music at The Sharks! \nExperience the best of local live music! Join us in our vibrant main lounge where talented musicians and bands perform a variety of genres to suit all tastes. \nWhether you’re looking for a relaxing evening with smooth jazz\, an upbeat night with lively rock\, or anything in between\, we have something for everyone.
URL:https://sharksclub.com.au/event/live-music/2028-02-19/
LOCATION:Vic Point Sharks\, 325 Colburn Avenue\, Victoria Point\, QLD\, 4165\, Australia
CATEGORIES:All,Entertainment,Live Music
ATTACH;FMTTYPE=image/jpeg:https://sharksclub.com.au/wp-content/uploads/2024/07/Fri-Sat-night-Entertainment-Featured-Event.jpg
END:VEVENT
BEGIN:VEVENT
DTSTART;TZID=Australia/Brisbane:20280225T183000
DTEND;TZID=Australia/Brisbane:20280225T223000
DTSTAMP:20260421T070217
CREATED:20240715T041713Z
LAST-MODIFIED:20251208T062541Z
UID:10019022-1835116200-1835130600@sharksclub.com.au
SUMMARY:Live Music
DESCRIPTION:Enjoy free weekly live music at The Sharks! \nExperience the best of local live music! Join us in our vibrant main lounge where talented musicians and bands perform a variety of genres to suit all tastes. \nWhether you’re looking for a relaxing evening with smooth jazz\, an upbeat night with lively rock\, or anything in between\, we have something for everyone.
URL:https://sharksclub.com.au/event/live-music/2028-02-25/
LOCATION:Vic Point Sharks\, 325 Colburn Avenue\, Victoria Point\, QLD\, 4165\, Australia
CATEGORIES:All,Entertainment,Live Music
ATTACH;FMTTYPE=image/jpeg:https://sharksclub.com.au/wp-content/uploads/2024/07/Fri-Sat-night-Entertainment-Featured-Event.jpg
END:VEVENT
BEGIN:VEVENT
DTSTART;TZID=Australia/Brisbane:20280226T183000
DTEND;TZID=Australia/Brisbane:20280226T223000
DTSTAMP:20260421T070217
CREATED:20240715T041713Z
LAST-MODIFIED:20251208T062541Z
UID:10019023-1835202600-1835217000@sharksclub.com.au
SUMMARY:Live Music
DESCRIPTION:Enjoy free weekly live music at The Sharks! \nExperience the best of local live music! Join us in our vibrant main lounge where talented musicians and bands perform a variety of genres to suit all tastes. \nWhether you’re looking for a relaxing evening with smooth jazz\, an upbeat night with lively rock\, or anything in between\, we have something for everyone.
URL:https://sharksclub.com.au/event/live-music/2028-02-26/
LOCATION:Vic Point Sharks\, 325 Colburn Avenue\, Victoria Point\, QLD\, 4165\, Australia
CATEGORIES:All,Entertainment,Live Music
ATTACH;FMTTYPE=image/jpeg:https://sharksclub.com.au/wp-content/uploads/2024/07/Fri-Sat-night-Entertainment-Featured-Event.jpg
END:VEVENT
END:VCALENDAR