BEGIN:VCALENDAR
VERSION:2.0
PRODID:-//Victoria Point Sharks Sporting Club - ECPv6.15.20//NONSGML v1.0//EN
CALSCALE:GREGORIAN
METHOD:PUBLISH
X-ORIGINAL-URL:https://sharksclub.com.au
X-WR-CALDESC:Events for Victoria Point Sharks Sporting Club
REFRESH-INTERVAL;VALUE=DURATION:PT1H
X-Robots-Tag:noindex
X-PUBLISHED-TTL:PT1H
BEGIN:VTIMEZONE
TZID:Australia/Brisbane
BEGIN:STANDARD
TZOFFSETFROM:+1000
TZOFFSETTO:+1000
TZNAME:AEST
DTSTART:20290101T000000
END:STANDARD
END:VTIMEZONE
BEGIN:VEVENT
DTSTART;TZID=Australia/Brisbane:20300601T183000
DTEND;TZID=Australia/Brisbane:20300601T223000
DTSTAMP:20260424T003011
CREATED:20240715T041713Z
LAST-MODIFIED:20251208T062541Z
UID:10035431-1906569000-1906583400@sharksclub.com.au
SUMMARY:Live Music
DESCRIPTION:Enjoy free weekly live music at The Sharks! \nExperience the best of local live music! Join us in our vibrant main lounge where talented musicians and bands perform a variety of genres to suit all tastes. \nWhether you’re looking for a relaxing evening with smooth jazz\, an upbeat night with lively rock\, or anything in between\, we have something for everyone.
URL:https://sharksclub.com.au/event/live-music/2030-06-01/
LOCATION:Vic Point Sharks\, 325 Colburn Avenue\, Victoria Point\, QLD\, 4165\, Australia
CATEGORIES:All,Entertainment,Live Music
ATTACH;FMTTYPE=image/jpeg:https://sharksclub.com.au/wp-content/uploads/2024/07/Fri-Sat-night-Entertainment-Featured-Event.jpg
END:VEVENT
BEGIN:VEVENT
DTSTART;TZID=Australia/Brisbane:20300607T183000
DTEND;TZID=Australia/Brisbane:20300607T223000
DTSTAMP:20260424T003011
CREATED:20240715T041713Z
LAST-MODIFIED:20251208T062541Z
UID:10035852-1907087400-1907101800@sharksclub.com.au
SUMMARY:Live Music
DESCRIPTION:Enjoy free weekly live music at The Sharks! \nExperience the best of local live music! Join us in our vibrant main lounge where talented musicians and bands perform a variety of genres to suit all tastes. \nWhether you’re looking for a relaxing evening with smooth jazz\, an upbeat night with lively rock\, or anything in between\, we have something for everyone.
URL:https://sharksclub.com.au/event/live-music/2030-06-07/
LOCATION:Vic Point Sharks\, 325 Colburn Avenue\, Victoria Point\, QLD\, 4165\, Australia
CATEGORIES:All,Entertainment,Live Music
ATTACH;FMTTYPE=image/jpeg:https://sharksclub.com.au/wp-content/uploads/2024/07/Fri-Sat-night-Entertainment-Featured-Event.jpg
END:VEVENT
BEGIN:VEVENT
DTSTART;TZID=Australia/Brisbane:20300608T183000
DTEND;TZID=Australia/Brisbane:20300608T223000
DTSTAMP:20260424T003011
CREATED:20240715T041713Z
LAST-MODIFIED:20251208T062541Z
UID:10035853-1907173800-1907188200@sharksclub.com.au
SUMMARY:Live Music
DESCRIPTION:Enjoy free weekly live music at The Sharks! \nExperience the best of local live music! Join us in our vibrant main lounge where talented musicians and bands perform a variety of genres to suit all tastes. \nWhether you’re looking for a relaxing evening with smooth jazz\, an upbeat night with lively rock\, or anything in between\, we have something for everyone.
URL:https://sharksclub.com.au/event/live-music/2030-06-08/
LOCATION:Vic Point Sharks\, 325 Colburn Avenue\, Victoria Point\, QLD\, 4165\, Australia
CATEGORIES:All,Entertainment,Live Music
ATTACH;FMTTYPE=image/jpeg:https://sharksclub.com.au/wp-content/uploads/2024/07/Fri-Sat-night-Entertainment-Featured-Event.jpg
END:VEVENT
BEGIN:VEVENT
DTSTART;TZID=Australia/Brisbane:20300614T183000
DTEND;TZID=Australia/Brisbane:20300614T223000
DTSTAMP:20260424T003011
CREATED:20240715T041713Z
LAST-MODIFIED:20251208T062541Z
UID:10035854-1907692200-1907706600@sharksclub.com.au
SUMMARY:Live Music
DESCRIPTION:Enjoy free weekly live music at The Sharks! \nExperience the best of local live music! Join us in our vibrant main lounge where talented musicians and bands perform a variety of genres to suit all tastes. \nWhether you’re looking for a relaxing evening with smooth jazz\, an upbeat night with lively rock\, or anything in between\, we have something for everyone.
URL:https://sharksclub.com.au/event/live-music/2030-06-14/
LOCATION:Vic Point Sharks\, 325 Colburn Avenue\, Victoria Point\, QLD\, 4165\, Australia
CATEGORIES:All,Entertainment,Live Music
ATTACH;FMTTYPE=image/jpeg:https://sharksclub.com.au/wp-content/uploads/2024/07/Fri-Sat-night-Entertainment-Featured-Event.jpg
END:VEVENT
BEGIN:VEVENT
DTSTART;TZID=Australia/Brisbane:20300615T183000
DTEND;TZID=Australia/Brisbane:20300615T223000
DTSTAMP:20260424T003011
CREATED:20240715T041713Z
LAST-MODIFIED:20251208T062541Z
UID:10035855-1907778600-1907793000@sharksclub.com.au
SUMMARY:Live Music
DESCRIPTION:Enjoy free weekly live music at The Sharks! \nExperience the best of local live music! Join us in our vibrant main lounge where talented musicians and bands perform a variety of genres to suit all tastes. \nWhether you’re looking for a relaxing evening with smooth jazz\, an upbeat night with lively rock\, or anything in between\, we have something for everyone.
URL:https://sharksclub.com.au/event/live-music/2030-06-15/
LOCATION:Vic Point Sharks\, 325 Colburn Avenue\, Victoria Point\, QLD\, 4165\, Australia
CATEGORIES:All,Entertainment,Live Music
ATTACH;FMTTYPE=image/jpeg:https://sharksclub.com.au/wp-content/uploads/2024/07/Fri-Sat-night-Entertainment-Featured-Event.jpg
END:VEVENT
BEGIN:VEVENT
DTSTART;TZID=Australia/Brisbane:20300621T183000
DTEND;TZID=Australia/Brisbane:20300621T223000
DTSTAMP:20260424T003011
CREATED:20240715T041713Z
LAST-MODIFIED:20251208T062541Z
UID:10035856-1908297000-1908311400@sharksclub.com.au
SUMMARY:Live Music
DESCRIPTION:Enjoy free weekly live music at The Sharks! \nExperience the best of local live music! Join us in our vibrant main lounge where talented musicians and bands perform a variety of genres to suit all tastes. \nWhether you’re looking for a relaxing evening with smooth jazz\, an upbeat night with lively rock\, or anything in between\, we have something for everyone.
URL:https://sharksclub.com.au/event/live-music/2030-06-21/
LOCATION:Vic Point Sharks\, 325 Colburn Avenue\, Victoria Point\, QLD\, 4165\, Australia
CATEGORIES:All,Entertainment,Live Music
ATTACH;FMTTYPE=image/jpeg:https://sharksclub.com.au/wp-content/uploads/2024/07/Fri-Sat-night-Entertainment-Featured-Event.jpg
END:VEVENT
BEGIN:VEVENT
DTSTART;TZID=Australia/Brisbane:20300622T183000
DTEND;TZID=Australia/Brisbane:20300622T223000
DTSTAMP:20260424T003011
CREATED:20240715T041713Z
LAST-MODIFIED:20251208T062541Z
UID:10035857-1908383400-1908397800@sharksclub.com.au
SUMMARY:Live Music
DESCRIPTION:Enjoy free weekly live music at The Sharks! \nExperience the best of local live music! Join us in our vibrant main lounge where talented musicians and bands perform a variety of genres to suit all tastes. \nWhether you’re looking for a relaxing evening with smooth jazz\, an upbeat night with lively rock\, or anything in between\, we have something for everyone.
URL:https://sharksclub.com.au/event/live-music/2030-06-22/
LOCATION:Vic Point Sharks\, 325 Colburn Avenue\, Victoria Point\, QLD\, 4165\, Australia
CATEGORIES:All,Entertainment,Live Music
ATTACH;FMTTYPE=image/jpeg:https://sharksclub.com.au/wp-content/uploads/2024/07/Fri-Sat-night-Entertainment-Featured-Event.jpg
END:VEVENT
BEGIN:VEVENT
DTSTART;TZID=Australia/Brisbane:20300628T183000
DTEND;TZID=Australia/Brisbane:20300628T223000
DTSTAMP:20260424T003011
CREATED:20240715T041713Z
LAST-MODIFIED:20251208T062541Z
UID:10035858-1908901800-1908916200@sharksclub.com.au
SUMMARY:Live Music
DESCRIPTION:Enjoy free weekly live music at The Sharks! \nExperience the best of local live music! Join us in our vibrant main lounge where talented musicians and bands perform a variety of genres to suit all tastes. \nWhether you’re looking for a relaxing evening with smooth jazz\, an upbeat night with lively rock\, or anything in between\, we have something for everyone.
URL:https://sharksclub.com.au/event/live-music/2030-06-28/
LOCATION:Vic Point Sharks\, 325 Colburn Avenue\, Victoria Point\, QLD\, 4165\, Australia
CATEGORIES:All,Entertainment,Live Music
ATTACH;FMTTYPE=image/jpeg:https://sharksclub.com.au/wp-content/uploads/2024/07/Fri-Sat-night-Entertainment-Featured-Event.jpg
END:VEVENT
BEGIN:VEVENT
DTSTART;TZID=Australia/Brisbane:20300629T183000
DTEND;TZID=Australia/Brisbane:20300629T223000
DTSTAMP:20260424T003011
CREATED:20240715T041713Z
LAST-MODIFIED:20251208T062541Z
UID:10035859-1908988200-1909002600@sharksclub.com.au
SUMMARY:Live Music
DESCRIPTION:Enjoy free weekly live music at The Sharks! \nExperience the best of local live music! Join us in our vibrant main lounge where talented musicians and bands perform a variety of genres to suit all tastes. \nWhether you’re looking for a relaxing evening with smooth jazz\, an upbeat night with lively rock\, or anything in between\, we have something for everyone.
URL:https://sharksclub.com.au/event/live-music/2030-06-29/
LOCATION:Vic Point Sharks\, 325 Colburn Avenue\, Victoria Point\, QLD\, 4165\, Australia
CATEGORIES:All,Entertainment,Live Music
ATTACH;FMTTYPE=image/jpeg:https://sharksclub.com.au/wp-content/uploads/2024/07/Fri-Sat-night-Entertainment-Featured-Event.jpg
END:VEVENT
END:VCALENDAR