BEGIN:VCALENDAR
VERSION:2.0
PRODID:-//Victoria Point Sharks Sporting Club - ECPv6.15.20//NONSGML v1.0//EN
CALSCALE:GREGORIAN
METHOD:PUBLISH
X-ORIGINAL-URL:https://sharksclub.com.au
X-WR-CALDESC:Events for Victoria Point Sharks Sporting Club
REFRESH-INTERVAL;VALUE=DURATION:PT1H
X-Robots-Tag:noindex
X-PUBLISHED-TTL:PT1H
BEGIN:VTIMEZONE
TZID:Australia/Brisbane
BEGIN:STANDARD
TZOFFSETFROM:+1000
TZOFFSETTO:+1000
TZNAME:AEST
DTSTART:20280101T000000
END:STANDARD
END:VTIMEZONE
BEGIN:VEVENT
DTSTART;TZID=Australia/Brisbane:20290525T183000
DTEND;TZID=Australia/Brisbane:20290525T223000
DTSTAMP:20260420T034042
CREATED:20240715T041713Z
LAST-MODIFIED:20251208T062541Z
UID:10019152-1874428200-1874442600@sharksclub.com.au
SUMMARY:Live Music
DESCRIPTION:Enjoy free weekly live music at The Sharks! \nExperience the best of local live music! Join us in our vibrant main lounge where talented musicians and bands perform a variety of genres to suit all tastes. \nWhether you’re looking for a relaxing evening with smooth jazz\, an upbeat night with lively rock\, or anything in between\, we have something for everyone.
URL:https://sharksclub.com.au/event/live-music/2029-05-25/
LOCATION:Vic Point Sharks\, 325 Colburn Avenue\, Victoria Point\, QLD\, 4165\, Australia
CATEGORIES:All,Entertainment,Live Music
ATTACH;FMTTYPE=image/jpeg:https://sharksclub.com.au/wp-content/uploads/2024/07/Fri-Sat-night-Entertainment-Featured-Event.jpg
END:VEVENT
BEGIN:VEVENT
DTSTART;TZID=Australia/Brisbane:20290526T183000
DTEND;TZID=Australia/Brisbane:20290526T223000
DTSTAMP:20260420T034042
CREATED:20240715T041713Z
LAST-MODIFIED:20251208T062541Z
UID:10019153-1874514600-1874529000@sharksclub.com.au
SUMMARY:Live Music
DESCRIPTION:Enjoy free weekly live music at The Sharks! \nExperience the best of local live music! Join us in our vibrant main lounge where talented musicians and bands perform a variety of genres to suit all tastes. \nWhether you’re looking for a relaxing evening with smooth jazz\, an upbeat night with lively rock\, or anything in between\, we have something for everyone.
URL:https://sharksclub.com.au/event/live-music/2029-05-26/
LOCATION:Vic Point Sharks\, 325 Colburn Avenue\, Victoria Point\, QLD\, 4165\, Australia
CATEGORIES:All,Entertainment,Live Music
ATTACH;FMTTYPE=image/jpeg:https://sharksclub.com.au/wp-content/uploads/2024/07/Fri-Sat-night-Entertainment-Featured-Event.jpg
END:VEVENT
BEGIN:VEVENT
DTSTART;TZID=Australia/Brisbane:20290601T183000
DTEND;TZID=Australia/Brisbane:20290601T223000
DTSTAMP:20260420T034042
CREATED:20240715T041713Z
LAST-MODIFIED:20251208T062541Z
UID:10019154-1875033000-1875047400@sharksclub.com.au
SUMMARY:Live Music
DESCRIPTION:Enjoy free weekly live music at The Sharks! \nExperience the best of local live music! Join us in our vibrant main lounge where talented musicians and bands perform a variety of genres to suit all tastes. \nWhether you’re looking for a relaxing evening with smooth jazz\, an upbeat night with lively rock\, or anything in between\, we have something for everyone.
URL:https://sharksclub.com.au/event/live-music/2029-06-01/
LOCATION:Vic Point Sharks\, 325 Colburn Avenue\, Victoria Point\, QLD\, 4165\, Australia
CATEGORIES:All,Entertainment,Live Music
ATTACH;FMTTYPE=image/jpeg:https://sharksclub.com.au/wp-content/uploads/2024/07/Fri-Sat-night-Entertainment-Featured-Event.jpg
END:VEVENT
BEGIN:VEVENT
DTSTART;TZID=Australia/Brisbane:20290602T183000
DTEND;TZID=Australia/Brisbane:20290602T223000
DTSTAMP:20260420T034042
CREATED:20240715T041713Z
LAST-MODIFIED:20251208T062541Z
UID:10019155-1875119400-1875133800@sharksclub.com.au
SUMMARY:Live Music
DESCRIPTION:Enjoy free weekly live music at The Sharks! \nExperience the best of local live music! Join us in our vibrant main lounge where talented musicians and bands perform a variety of genres to suit all tastes. \nWhether you’re looking for a relaxing evening with smooth jazz\, an upbeat night with lively rock\, or anything in between\, we have something for everyone.
URL:https://sharksclub.com.au/event/live-music/2029-06-02/
LOCATION:Vic Point Sharks\, 325 Colburn Avenue\, Victoria Point\, QLD\, 4165\, Australia
CATEGORIES:All,Entertainment,Live Music
ATTACH;FMTTYPE=image/jpeg:https://sharksclub.com.au/wp-content/uploads/2024/07/Fri-Sat-night-Entertainment-Featured-Event.jpg
END:VEVENT
BEGIN:VEVENT
DTSTART;TZID=Australia/Brisbane:20290608T183000
DTEND;TZID=Australia/Brisbane:20290608T223000
DTSTAMP:20260420T034042
CREATED:20240715T041713Z
LAST-MODIFIED:20251208T062541Z
UID:10019156-1875637800-1875652200@sharksclub.com.au
SUMMARY:Live Music
DESCRIPTION:Enjoy free weekly live music at The Sharks! \nExperience the best of local live music! Join us in our vibrant main lounge where talented musicians and bands perform a variety of genres to suit all tastes. \nWhether you’re looking for a relaxing evening with smooth jazz\, an upbeat night with lively rock\, or anything in between\, we have something for everyone.
URL:https://sharksclub.com.au/event/live-music/2029-06-08/
LOCATION:Vic Point Sharks\, 325 Colburn Avenue\, Victoria Point\, QLD\, 4165\, Australia
CATEGORIES:All,Entertainment,Live Music
ATTACH;FMTTYPE=image/jpeg:https://sharksclub.com.au/wp-content/uploads/2024/07/Fri-Sat-night-Entertainment-Featured-Event.jpg
END:VEVENT
BEGIN:VEVENT
DTSTART;TZID=Australia/Brisbane:20290609T183000
DTEND;TZID=Australia/Brisbane:20290609T223000
DTSTAMP:20260420T034042
CREATED:20240715T041713Z
LAST-MODIFIED:20251208T062541Z
UID:10019157-1875724200-1875738600@sharksclub.com.au
SUMMARY:Live Music
DESCRIPTION:Enjoy free weekly live music at The Sharks! \nExperience the best of local live music! Join us in our vibrant main lounge where talented musicians and bands perform a variety of genres to suit all tastes. \nWhether you’re looking for a relaxing evening with smooth jazz\, an upbeat night with lively rock\, or anything in between\, we have something for everyone.
URL:https://sharksclub.com.au/event/live-music/2029-06-09/
LOCATION:Vic Point Sharks\, 325 Colburn Avenue\, Victoria Point\, QLD\, 4165\, Australia
CATEGORIES:All,Entertainment,Live Music
ATTACH;FMTTYPE=image/jpeg:https://sharksclub.com.au/wp-content/uploads/2024/07/Fri-Sat-night-Entertainment-Featured-Event.jpg
END:VEVENT
BEGIN:VEVENT
DTSTART;TZID=Australia/Brisbane:20290615T183000
DTEND;TZID=Australia/Brisbane:20290615T223000
DTSTAMP:20260420T034042
CREATED:20240715T041713Z
LAST-MODIFIED:20251208T062541Z
UID:10019158-1876242600-1876257000@sharksclub.com.au
SUMMARY:Live Music
DESCRIPTION:Enjoy free weekly live music at The Sharks! \nExperience the best of local live music! Join us in our vibrant main lounge where talented musicians and bands perform a variety of genres to suit all tastes. \nWhether you’re looking for a relaxing evening with smooth jazz\, an upbeat night with lively rock\, or anything in between\, we have something for everyone.
URL:https://sharksclub.com.au/event/live-music/2029-06-15/
LOCATION:Vic Point Sharks\, 325 Colburn Avenue\, Victoria Point\, QLD\, 4165\, Australia
CATEGORIES:All,Entertainment,Live Music
ATTACH;FMTTYPE=image/jpeg:https://sharksclub.com.au/wp-content/uploads/2024/07/Fri-Sat-night-Entertainment-Featured-Event.jpg
END:VEVENT
BEGIN:VEVENT
DTSTART;TZID=Australia/Brisbane:20290616T183000
DTEND;TZID=Australia/Brisbane:20290616T223000
DTSTAMP:20260420T034042
CREATED:20240715T041713Z
LAST-MODIFIED:20251208T062541Z
UID:10019159-1876329000-1876343400@sharksclub.com.au
SUMMARY:Live Music
DESCRIPTION:Enjoy free weekly live music at The Sharks! \nExperience the best of local live music! Join us in our vibrant main lounge where talented musicians and bands perform a variety of genres to suit all tastes. \nWhether you’re looking for a relaxing evening with smooth jazz\, an upbeat night with lively rock\, or anything in between\, we have something for everyone.
URL:https://sharksclub.com.au/event/live-music/2029-06-16/
LOCATION:Vic Point Sharks\, 325 Colburn Avenue\, Victoria Point\, QLD\, 4165\, Australia
CATEGORIES:All,Entertainment,Live Music
ATTACH;FMTTYPE=image/jpeg:https://sharksclub.com.au/wp-content/uploads/2024/07/Fri-Sat-night-Entertainment-Featured-Event.jpg
END:VEVENT
BEGIN:VEVENT
DTSTART;TZID=Australia/Brisbane:20290622T183000
DTEND;TZID=Australia/Brisbane:20290622T223000
DTSTAMP:20260420T034042
CREATED:20240715T041713Z
LAST-MODIFIED:20251208T062541Z
UID:10019160-1876847400-1876861800@sharksclub.com.au
SUMMARY:Live Music
DESCRIPTION:Enjoy free weekly live music at The Sharks! \nExperience the best of local live music! Join us in our vibrant main lounge where talented musicians and bands perform a variety of genres to suit all tastes. \nWhether you’re looking for a relaxing evening with smooth jazz\, an upbeat night with lively rock\, or anything in between\, we have something for everyone.
URL:https://sharksclub.com.au/event/live-music/2029-06-22/
LOCATION:Vic Point Sharks\, 325 Colburn Avenue\, Victoria Point\, QLD\, 4165\, Australia
CATEGORIES:All,Entertainment,Live Music
ATTACH;FMTTYPE=image/jpeg:https://sharksclub.com.au/wp-content/uploads/2024/07/Fri-Sat-night-Entertainment-Featured-Event.jpg
END:VEVENT
BEGIN:VEVENT
DTSTART;TZID=Australia/Brisbane:20290623T183000
DTEND;TZID=Australia/Brisbane:20290623T223000
DTSTAMP:20260420T034042
CREATED:20240715T041713Z
LAST-MODIFIED:20251208T062541Z
UID:10019161-1876933800-1876948200@sharksclub.com.au
SUMMARY:Live Music
DESCRIPTION:Enjoy free weekly live music at The Sharks! \nExperience the best of local live music! Join us in our vibrant main lounge where talented musicians and bands perform a variety of genres to suit all tastes. \nWhether you’re looking for a relaxing evening with smooth jazz\, an upbeat night with lively rock\, or anything in between\, we have something for everyone.
URL:https://sharksclub.com.au/event/live-music/2029-06-23/
LOCATION:Vic Point Sharks\, 325 Colburn Avenue\, Victoria Point\, QLD\, 4165\, Australia
CATEGORIES:All,Entertainment,Live Music
ATTACH;FMTTYPE=image/jpeg:https://sharksclub.com.au/wp-content/uploads/2024/07/Fri-Sat-night-Entertainment-Featured-Event.jpg
END:VEVENT
BEGIN:VEVENT
DTSTART;TZID=Australia/Brisbane:20290629T183000
DTEND;TZID=Australia/Brisbane:20290629T223000
DTSTAMP:20260420T034042
CREATED:20240715T041713Z
LAST-MODIFIED:20251208T062541Z
UID:10019162-1877452200-1877466600@sharksclub.com.au
SUMMARY:Live Music
DESCRIPTION:Enjoy free weekly live music at The Sharks! \nExperience the best of local live music! Join us in our vibrant main lounge where talented musicians and bands perform a variety of genres to suit all tastes. \nWhether you’re looking for a relaxing evening with smooth jazz\, an upbeat night with lively rock\, or anything in between\, we have something for everyone.
URL:https://sharksclub.com.au/event/live-music/2029-06-29/
LOCATION:Vic Point Sharks\, 325 Colburn Avenue\, Victoria Point\, QLD\, 4165\, Australia
CATEGORIES:All,Entertainment,Live Music
ATTACH;FMTTYPE=image/jpeg:https://sharksclub.com.au/wp-content/uploads/2024/07/Fri-Sat-night-Entertainment-Featured-Event.jpg
END:VEVENT
BEGIN:VEVENT
DTSTART;TZID=Australia/Brisbane:20290630T183000
DTEND;TZID=Australia/Brisbane:20290630T223000
DTSTAMP:20260420T034042
CREATED:20240715T041713Z
LAST-MODIFIED:20251208T062541Z
UID:10019163-1877538600-1877553000@sharksclub.com.au
SUMMARY:Live Music
DESCRIPTION:Enjoy free weekly live music at The Sharks! \nExperience the best of local live music! Join us in our vibrant main lounge where talented musicians and bands perform a variety of genres to suit all tastes. \nWhether you’re looking for a relaxing evening with smooth jazz\, an upbeat night with lively rock\, or anything in between\, we have something for everyone.
URL:https://sharksclub.com.au/event/live-music/2029-06-30/
LOCATION:Vic Point Sharks\, 325 Colburn Avenue\, Victoria Point\, QLD\, 4165\, Australia
CATEGORIES:All,Entertainment,Live Music
ATTACH;FMTTYPE=image/jpeg:https://sharksclub.com.au/wp-content/uploads/2024/07/Fri-Sat-night-Entertainment-Featured-Event.jpg
END:VEVENT
BEGIN:VEVENT
DTSTART;TZID=Australia/Brisbane:20290706T183000
DTEND;TZID=Australia/Brisbane:20290706T223000
DTSTAMP:20260420T034042
CREATED:20240715T041713Z
LAST-MODIFIED:20251208T062541Z
UID:10019164-1878057000-1878071400@sharksclub.com.au
SUMMARY:Live Music
DESCRIPTION:Enjoy free weekly live music at The Sharks! \nExperience the best of local live music! Join us in our vibrant main lounge where talented musicians and bands perform a variety of genres to suit all tastes. \nWhether you’re looking for a relaxing evening with smooth jazz\, an upbeat night with lively rock\, or anything in between\, we have something for everyone.
URL:https://sharksclub.com.au/event/live-music/2029-07-06/
LOCATION:Vic Point Sharks\, 325 Colburn Avenue\, Victoria Point\, QLD\, 4165\, Australia
CATEGORIES:All,Entertainment,Live Music
ATTACH;FMTTYPE=image/jpeg:https://sharksclub.com.au/wp-content/uploads/2024/07/Fri-Sat-night-Entertainment-Featured-Event.jpg
END:VEVENT
BEGIN:VEVENT
DTSTART;TZID=Australia/Brisbane:20290707T183000
DTEND;TZID=Australia/Brisbane:20290707T223000
DTSTAMP:20260420T034042
CREATED:20240715T041713Z
LAST-MODIFIED:20251208T062541Z
UID:10019165-1878143400-1878157800@sharksclub.com.au
SUMMARY:Live Music
DESCRIPTION:Enjoy free weekly live music at The Sharks! \nExperience the best of local live music! Join us in our vibrant main lounge where talented musicians and bands perform a variety of genres to suit all tastes. \nWhether you’re looking for a relaxing evening with smooth jazz\, an upbeat night with lively rock\, or anything in between\, we have something for everyone.
URL:https://sharksclub.com.au/event/live-music/2029-07-07/
LOCATION:Vic Point Sharks\, 325 Colburn Avenue\, Victoria Point\, QLD\, 4165\, Australia
CATEGORIES:All,Entertainment,Live Music
ATTACH;FMTTYPE=image/jpeg:https://sharksclub.com.au/wp-content/uploads/2024/07/Fri-Sat-night-Entertainment-Featured-Event.jpg
END:VEVENT
BEGIN:VEVENT
DTSTART;TZID=Australia/Brisbane:20290713T183000
DTEND;TZID=Australia/Brisbane:20290713T223000
DTSTAMP:20260420T034042
CREATED:20240715T041713Z
LAST-MODIFIED:20251208T062541Z
UID:10019166-1878661800-1878676200@sharksclub.com.au
SUMMARY:Live Music
DESCRIPTION:Enjoy free weekly live music at The Sharks! \nExperience the best of local live music! Join us in our vibrant main lounge where talented musicians and bands perform a variety of genres to suit all tastes. \nWhether you’re looking for a relaxing evening with smooth jazz\, an upbeat night with lively rock\, or anything in between\, we have something for everyone.
URL:https://sharksclub.com.au/event/live-music/2029-07-13/
LOCATION:Vic Point Sharks\, 325 Colburn Avenue\, Victoria Point\, QLD\, 4165\, Australia
CATEGORIES:All,Entertainment,Live Music
ATTACH;FMTTYPE=image/jpeg:https://sharksclub.com.au/wp-content/uploads/2024/07/Fri-Sat-night-Entertainment-Featured-Event.jpg
END:VEVENT
BEGIN:VEVENT
DTSTART;TZID=Australia/Brisbane:20290714T183000
DTEND;TZID=Australia/Brisbane:20290714T223000
DTSTAMP:20260420T034042
CREATED:20240715T041713Z
LAST-MODIFIED:20251208T062541Z
UID:10019167-1878748200-1878762600@sharksclub.com.au
SUMMARY:Live Music
DESCRIPTION:Enjoy free weekly live music at The Sharks! \nExperience the best of local live music! Join us in our vibrant main lounge where talented musicians and bands perform a variety of genres to suit all tastes. \nWhether you’re looking for a relaxing evening with smooth jazz\, an upbeat night with lively rock\, or anything in between\, we have something for everyone.
URL:https://sharksclub.com.au/event/live-music/2029-07-14/
LOCATION:Vic Point Sharks\, 325 Colburn Avenue\, Victoria Point\, QLD\, 4165\, Australia
CATEGORIES:All,Entertainment,Live Music
ATTACH;FMTTYPE=image/jpeg:https://sharksclub.com.au/wp-content/uploads/2024/07/Fri-Sat-night-Entertainment-Featured-Event.jpg
END:VEVENT
BEGIN:VEVENT
DTSTART;TZID=Australia/Brisbane:20290720T183000
DTEND;TZID=Australia/Brisbane:20290720T223000
DTSTAMP:20260420T034042
CREATED:20240715T041713Z
LAST-MODIFIED:20251208T062541Z
UID:10022943-1879266600-1879281000@sharksclub.com.au
SUMMARY:Live Music
DESCRIPTION:Enjoy free weekly live music at The Sharks! \nExperience the best of local live music! Join us in our vibrant main lounge where talented musicians and bands perform a variety of genres to suit all tastes. \nWhether you’re looking for a relaxing evening with smooth jazz\, an upbeat night with lively rock\, or anything in between\, we have something for everyone.
URL:https://sharksclub.com.au/event/live-music/2029-07-20/
LOCATION:Vic Point Sharks\, 325 Colburn Avenue\, Victoria Point\, QLD\, 4165\, Australia
CATEGORIES:All,Entertainment,Live Music
ATTACH;FMTTYPE=image/jpeg:https://sharksclub.com.au/wp-content/uploads/2024/07/Fri-Sat-night-Entertainment-Featured-Event.jpg
END:VEVENT
BEGIN:VEVENT
DTSTART;TZID=Australia/Brisbane:20290721T183000
DTEND;TZID=Australia/Brisbane:20290721T223000
DTSTAMP:20260420T034042
CREATED:20240715T041713Z
LAST-MODIFIED:20251208T062541Z
UID:10022944-1879353000-1879367400@sharksclub.com.au
SUMMARY:Live Music
DESCRIPTION:Enjoy free weekly live music at The Sharks! \nExperience the best of local live music! Join us in our vibrant main lounge where talented musicians and bands perform a variety of genres to suit all tastes. \nWhether you’re looking for a relaxing evening with smooth jazz\, an upbeat night with lively rock\, or anything in between\, we have something for everyone.
URL:https://sharksclub.com.au/event/live-music/2029-07-21/
LOCATION:Vic Point Sharks\, 325 Colburn Avenue\, Victoria Point\, QLD\, 4165\, Australia
CATEGORIES:All,Entertainment,Live Music
ATTACH;FMTTYPE=image/jpeg:https://sharksclub.com.au/wp-content/uploads/2024/07/Fri-Sat-night-Entertainment-Featured-Event.jpg
END:VEVENT
BEGIN:VEVENT
DTSTART;TZID=Australia/Brisbane:20290727T183000
DTEND;TZID=Australia/Brisbane:20290727T223000
DTSTAMP:20260420T034042
CREATED:20240715T041713Z
LAST-MODIFIED:20251208T062541Z
UID:10026422-1879871400-1879885800@sharksclub.com.au
SUMMARY:Live Music
DESCRIPTION:Enjoy free weekly live music at The Sharks! \nExperience the best of local live music! Join us in our vibrant main lounge where talented musicians and bands perform a variety of genres to suit all tastes. \nWhether you’re looking for a relaxing evening with smooth jazz\, an upbeat night with lively rock\, or anything in between\, we have something for everyone.
URL:https://sharksclub.com.au/event/live-music/2029-07-27/
LOCATION:Vic Point Sharks\, 325 Colburn Avenue\, Victoria Point\, QLD\, 4165\, Australia
CATEGORIES:All,Entertainment,Live Music
ATTACH;FMTTYPE=image/jpeg:https://sharksclub.com.au/wp-content/uploads/2024/07/Fri-Sat-night-Entertainment-Featured-Event.jpg
END:VEVENT
BEGIN:VEVENT
DTSTART;TZID=Australia/Brisbane:20290728T183000
DTEND;TZID=Australia/Brisbane:20290728T223000
DTSTAMP:20260420T034042
CREATED:20240715T041713Z
LAST-MODIFIED:20251208T062541Z
UID:10026423-1879957800-1879972200@sharksclub.com.au
SUMMARY:Live Music
DESCRIPTION:Enjoy free weekly live music at The Sharks! \nExperience the best of local live music! Join us in our vibrant main lounge where talented musicians and bands perform a variety of genres to suit all tastes. \nWhether you’re looking for a relaxing evening with smooth jazz\, an upbeat night with lively rock\, or anything in between\, we have something for everyone.
URL:https://sharksclub.com.au/event/live-music/2029-07-28/
LOCATION:Vic Point Sharks\, 325 Colburn Avenue\, Victoria Point\, QLD\, 4165\, Australia
CATEGORIES:All,Entertainment,Live Music
ATTACH;FMTTYPE=image/jpeg:https://sharksclub.com.au/wp-content/uploads/2024/07/Fri-Sat-night-Entertainment-Featured-Event.jpg
END:VEVENT
BEGIN:VEVENT
DTSTART;TZID=Australia/Brisbane:20290803T183000
DTEND;TZID=Australia/Brisbane:20290803T223000
DTSTAMP:20260420T034042
CREATED:20240715T041713Z
LAST-MODIFIED:20251208T062541Z
UID:10026424-1880476200-1880490600@sharksclub.com.au
SUMMARY:Live Music
DESCRIPTION:Enjoy free weekly live music at The Sharks! \nExperience the best of local live music! Join us in our vibrant main lounge where talented musicians and bands perform a variety of genres to suit all tastes. \nWhether you’re looking for a relaxing evening with smooth jazz\, an upbeat night with lively rock\, or anything in between\, we have something for everyone.
URL:https://sharksclub.com.au/event/live-music/2029-08-03/
LOCATION:Vic Point Sharks\, 325 Colburn Avenue\, Victoria Point\, QLD\, 4165\, Australia
CATEGORIES:All,Entertainment,Live Music
ATTACH;FMTTYPE=image/jpeg:https://sharksclub.com.au/wp-content/uploads/2024/07/Fri-Sat-night-Entertainment-Featured-Event.jpg
END:VEVENT
BEGIN:VEVENT
DTSTART;TZID=Australia/Brisbane:20290804T183000
DTEND;TZID=Australia/Brisbane:20290804T223000
DTSTAMP:20260420T034042
CREATED:20240715T041713Z
LAST-MODIFIED:20251208T062541Z
UID:10026425-1880562600-1880577000@sharksclub.com.au
SUMMARY:Live Music
DESCRIPTION:Enjoy free weekly live music at The Sharks! \nExperience the best of local live music! Join us in our vibrant main lounge where talented musicians and bands perform a variety of genres to suit all tastes. \nWhether you’re looking for a relaxing evening with smooth jazz\, an upbeat night with lively rock\, or anything in between\, we have something for everyone.
URL:https://sharksclub.com.au/event/live-music/2029-08-04/
LOCATION:Vic Point Sharks\, 325 Colburn Avenue\, Victoria Point\, QLD\, 4165\, Australia
CATEGORIES:All,Entertainment,Live Music
ATTACH;FMTTYPE=image/jpeg:https://sharksclub.com.au/wp-content/uploads/2024/07/Fri-Sat-night-Entertainment-Featured-Event.jpg
END:VEVENT
BEGIN:VEVENT
DTSTART;TZID=Australia/Brisbane:20290810T183000
DTEND;TZID=Australia/Brisbane:20290810T223000
DTSTAMP:20260420T034042
CREATED:20240715T041713Z
LAST-MODIFIED:20251208T062541Z
UID:10026484-1881081000-1881095400@sharksclub.com.au
SUMMARY:Live Music
DESCRIPTION:Enjoy free weekly live music at The Sharks! \nExperience the best of local live music! Join us in our vibrant main lounge where talented musicians and bands perform a variety of genres to suit all tastes. \nWhether you’re looking for a relaxing evening with smooth jazz\, an upbeat night with lively rock\, or anything in between\, we have something for everyone.
URL:https://sharksclub.com.au/event/live-music/2029-08-10/
LOCATION:Vic Point Sharks\, 325 Colburn Avenue\, Victoria Point\, QLD\, 4165\, Australia
CATEGORIES:All,Entertainment,Live Music
ATTACH;FMTTYPE=image/jpeg:https://sharksclub.com.au/wp-content/uploads/2024/07/Fri-Sat-night-Entertainment-Featured-Event.jpg
END:VEVENT
BEGIN:VEVENT
DTSTART;TZID=Australia/Brisbane:20290811T183000
DTEND;TZID=Australia/Brisbane:20290811T223000
DTSTAMP:20260420T034042
CREATED:20240715T041713Z
LAST-MODIFIED:20251208T062541Z
UID:10026485-1881167400-1881181800@sharksclub.com.au
SUMMARY:Live Music
DESCRIPTION:Enjoy free weekly live music at The Sharks! \nExperience the best of local live music! Join us in our vibrant main lounge where talented musicians and bands perform a variety of genres to suit all tastes. \nWhether you’re looking for a relaxing evening with smooth jazz\, an upbeat night with lively rock\, or anything in between\, we have something for everyone.
URL:https://sharksclub.com.au/event/live-music/2029-08-11/
LOCATION:Vic Point Sharks\, 325 Colburn Avenue\, Victoria Point\, QLD\, 4165\, Australia
CATEGORIES:All,Entertainment,Live Music
ATTACH;FMTTYPE=image/jpeg:https://sharksclub.com.au/wp-content/uploads/2024/07/Fri-Sat-night-Entertainment-Featured-Event.jpg
END:VEVENT
BEGIN:VEVENT
DTSTART;TZID=Australia/Brisbane:20290817T183000
DTEND;TZID=Australia/Brisbane:20290817T223000
DTSTAMP:20260420T034042
CREATED:20240715T041713Z
LAST-MODIFIED:20251208T062541Z
UID:10026486-1881685800-1881700200@sharksclub.com.au
SUMMARY:Live Music
DESCRIPTION:Enjoy free weekly live music at The Sharks! \nExperience the best of local live music! Join us in our vibrant main lounge where talented musicians and bands perform a variety of genres to suit all tastes. \nWhether you’re looking for a relaxing evening with smooth jazz\, an upbeat night with lively rock\, or anything in between\, we have something for everyone.
URL:https://sharksclub.com.au/event/live-music/2029-08-17/
LOCATION:Vic Point Sharks\, 325 Colburn Avenue\, Victoria Point\, QLD\, 4165\, Australia
CATEGORIES:All,Entertainment,Live Music
ATTACH;FMTTYPE=image/jpeg:https://sharksclub.com.au/wp-content/uploads/2024/07/Fri-Sat-night-Entertainment-Featured-Event.jpg
END:VEVENT
BEGIN:VEVENT
DTSTART;TZID=Australia/Brisbane:20290818T183000
DTEND;TZID=Australia/Brisbane:20290818T223000
DTSTAMP:20260420T034042
CREATED:20240715T041713Z
LAST-MODIFIED:20251208T062541Z
UID:10026487-1881772200-1881786600@sharksclub.com.au
SUMMARY:Live Music
DESCRIPTION:Enjoy free weekly live music at The Sharks! \nExperience the best of local live music! Join us in our vibrant main lounge where talented musicians and bands perform a variety of genres to suit all tastes. \nWhether you’re looking for a relaxing evening with smooth jazz\, an upbeat night with lively rock\, or anything in between\, we have something for everyone.
URL:https://sharksclub.com.au/event/live-music/2029-08-18/
LOCATION:Vic Point Sharks\, 325 Colburn Avenue\, Victoria Point\, QLD\, 4165\, Australia
CATEGORIES:All,Entertainment,Live Music
ATTACH;FMTTYPE=image/jpeg:https://sharksclub.com.au/wp-content/uploads/2024/07/Fri-Sat-night-Entertainment-Featured-Event.jpg
END:VEVENT
BEGIN:VEVENT
DTSTART;TZID=Australia/Brisbane:20290824T183000
DTEND;TZID=Australia/Brisbane:20290824T223000
DTSTAMP:20260420T034042
CREATED:20240715T041713Z
LAST-MODIFIED:20251208T062541Z
UID:10026488-1882290600-1882305000@sharksclub.com.au
SUMMARY:Live Music
DESCRIPTION:Enjoy free weekly live music at The Sharks! \nExperience the best of local live music! Join us in our vibrant main lounge where talented musicians and bands perform a variety of genres to suit all tastes. \nWhether you’re looking for a relaxing evening with smooth jazz\, an upbeat night with lively rock\, or anything in between\, we have something for everyone.
URL:https://sharksclub.com.au/event/live-music/2029-08-24/
LOCATION:Vic Point Sharks\, 325 Colburn Avenue\, Victoria Point\, QLD\, 4165\, Australia
CATEGORIES:All,Entertainment,Live Music
ATTACH;FMTTYPE=image/jpeg:https://sharksclub.com.au/wp-content/uploads/2024/07/Fri-Sat-night-Entertainment-Featured-Event.jpg
END:VEVENT
BEGIN:VEVENT
DTSTART;TZID=Australia/Brisbane:20290825T183000
DTEND;TZID=Australia/Brisbane:20290825T223000
DTSTAMP:20260420T034042
CREATED:20240715T041713Z
LAST-MODIFIED:20251208T062541Z
UID:10026489-1882377000-1882391400@sharksclub.com.au
SUMMARY:Live Music
DESCRIPTION:Enjoy free weekly live music at The Sharks! \nExperience the best of local live music! Join us in our vibrant main lounge where talented musicians and bands perform a variety of genres to suit all tastes. \nWhether you’re looking for a relaxing evening with smooth jazz\, an upbeat night with lively rock\, or anything in between\, we have something for everyone.
URL:https://sharksclub.com.au/event/live-music/2029-08-25/
LOCATION:Vic Point Sharks\, 325 Colburn Avenue\, Victoria Point\, QLD\, 4165\, Australia
CATEGORIES:All,Entertainment,Live Music
ATTACH;FMTTYPE=image/jpeg:https://sharksclub.com.au/wp-content/uploads/2024/07/Fri-Sat-night-Entertainment-Featured-Event.jpg
END:VEVENT
BEGIN:VEVENT
DTSTART;TZID=Australia/Brisbane:20290831T183000
DTEND;TZID=Australia/Brisbane:20290831T223000
DTSTAMP:20260420T034042
CREATED:20240715T041713Z
LAST-MODIFIED:20251208T062541Z
UID:10026490-1882895400-1882909800@sharksclub.com.au
SUMMARY:Live Music
DESCRIPTION:Enjoy free weekly live music at The Sharks! \nExperience the best of local live music! Join us in our vibrant main lounge where talented musicians and bands perform a variety of genres to suit all tastes. \nWhether you’re looking for a relaxing evening with smooth jazz\, an upbeat night with lively rock\, or anything in between\, we have something for everyone.
URL:https://sharksclub.com.au/event/live-music/2029-08-31/
LOCATION:Vic Point Sharks\, 325 Colburn Avenue\, Victoria Point\, QLD\, 4165\, Australia
CATEGORIES:All,Entertainment,Live Music
ATTACH;FMTTYPE=image/jpeg:https://sharksclub.com.au/wp-content/uploads/2024/07/Fri-Sat-night-Entertainment-Featured-Event.jpg
END:VEVENT
BEGIN:VEVENT
DTSTART;TZID=Australia/Brisbane:20290901T183000
DTEND;TZID=Australia/Brisbane:20290901T223000
DTSTAMP:20260420T034042
CREATED:20240715T041713Z
LAST-MODIFIED:20251208T062541Z
UID:10026491-1882981800-1882996200@sharksclub.com.au
SUMMARY:Live Music
DESCRIPTION:Enjoy free weekly live music at The Sharks! \nExperience the best of local live music! Join us in our vibrant main lounge where talented musicians and bands perform a variety of genres to suit all tastes. \nWhether you’re looking for a relaxing evening with smooth jazz\, an upbeat night with lively rock\, or anything in between\, we have something for everyone.
URL:https://sharksclub.com.au/event/live-music/2029-09-01/
LOCATION:Vic Point Sharks\, 325 Colburn Avenue\, Victoria Point\, QLD\, 4165\, Australia
CATEGORIES:All,Entertainment,Live Music
ATTACH;FMTTYPE=image/jpeg:https://sharksclub.com.au/wp-content/uploads/2024/07/Fri-Sat-night-Entertainment-Featured-Event.jpg
END:VEVENT
END:VCALENDAR