BEGIN:VCALENDAR
VERSION:2.0
PRODID:-//Victoria Point Sharks Sporting Club - ECPv6.15.20//NONSGML v1.0//EN
CALSCALE:GREGORIAN
METHOD:PUBLISH
X-ORIGINAL-URL:https://sharksclub.com.au
X-WR-CALDESC:Events for Victoria Point Sharks Sporting Club
REFRESH-INTERVAL;VALUE=DURATION:PT1H
X-Robots-Tag:noindex
X-PUBLISHED-TTL:PT1H
BEGIN:VTIMEZONE
TZID:Australia/Brisbane
BEGIN:STANDARD
TZOFFSETFROM:+1000
TZOFFSETTO:+1000
TZNAME:AEST
DTSTART:20290101T000000
END:STANDARD
END:VTIMEZONE
BEGIN:VEVENT
DTSTART;TZID=Australia/Brisbane:20300830T183000
DTEND;TZID=Australia/Brisbane:20300830T223000
DTSTAMP:20260422T150109
CREATED:20240715T041713Z
LAST-MODIFIED:20251208T062541Z
UID:10038796-1914345000-1914359400@sharksclub.com.au
SUMMARY:Live Music
DESCRIPTION:Enjoy free weekly live music at The Sharks! \nExperience the best of local live music! Join us in our vibrant main lounge where talented musicians and bands perform a variety of genres to suit all tastes. \nWhether you’re looking for a relaxing evening with smooth jazz\, an upbeat night with lively rock\, or anything in between\, we have something for everyone.
URL:https://sharksclub.com.au/event/live-music/2030-08-30/
LOCATION:Vic Point Sharks\, 325 Colburn Avenue\, Victoria Point\, QLD\, 4165\, Australia
CATEGORIES:All,Entertainment,Live Music
ATTACH;FMTTYPE=image/jpeg:https://sharksclub.com.au/wp-content/uploads/2024/07/Fri-Sat-night-Entertainment-Featured-Event.jpg
END:VEVENT
BEGIN:VEVENT
DTSTART;TZID=Australia/Brisbane:20300831T183000
DTEND;TZID=Australia/Brisbane:20300831T223000
DTSTAMP:20260422T150109
CREATED:20240715T041713Z
LAST-MODIFIED:20251208T062541Z
UID:10038797-1914431400-1914445800@sharksclub.com.au
SUMMARY:Live Music
DESCRIPTION:Enjoy free weekly live music at The Sharks! \nExperience the best of local live music! Join us in our vibrant main lounge where talented musicians and bands perform a variety of genres to suit all tastes. \nWhether you’re looking for a relaxing evening with smooth jazz\, an upbeat night with lively rock\, or anything in between\, we have something for everyone.
URL:https://sharksclub.com.au/event/live-music/2030-08-31/
LOCATION:Vic Point Sharks\, 325 Colburn Avenue\, Victoria Point\, QLD\, 4165\, Australia
CATEGORIES:All,Entertainment,Live Music
ATTACH;FMTTYPE=image/jpeg:https://sharksclub.com.au/wp-content/uploads/2024/07/Fri-Sat-night-Entertainment-Featured-Event.jpg
END:VEVENT
BEGIN:VEVENT
DTSTART;TZID=Australia/Brisbane:20300906T183000
DTEND;TZID=Australia/Brisbane:20300906T223000
DTSTAMP:20260422T150109
CREATED:20240715T041713Z
LAST-MODIFIED:20251208T062541Z
UID:10038798-1914949800-1914964200@sharksclub.com.au
SUMMARY:Live Music
DESCRIPTION:Enjoy free weekly live music at The Sharks! \nExperience the best of local live music! Join us in our vibrant main lounge where talented musicians and bands perform a variety of genres to suit all tastes. \nWhether you’re looking for a relaxing evening with smooth jazz\, an upbeat night with lively rock\, or anything in between\, we have something for everyone.
URL:https://sharksclub.com.au/event/live-music/2030-09-06/
LOCATION:Vic Point Sharks\, 325 Colburn Avenue\, Victoria Point\, QLD\, 4165\, Australia
CATEGORIES:All,Entertainment,Live Music
ATTACH;FMTTYPE=image/jpeg:https://sharksclub.com.au/wp-content/uploads/2024/07/Fri-Sat-night-Entertainment-Featured-Event.jpg
END:VEVENT
BEGIN:VEVENT
DTSTART;TZID=Australia/Brisbane:20300907T183000
DTEND;TZID=Australia/Brisbane:20300907T223000
DTSTAMP:20260422T150109
CREATED:20240715T041713Z
LAST-MODIFIED:20251208T062541Z
UID:10038799-1915036200-1915050600@sharksclub.com.au
SUMMARY:Live Music
DESCRIPTION:Enjoy free weekly live music at The Sharks! \nExperience the best of local live music! Join us in our vibrant main lounge where talented musicians and bands perform a variety of genres to suit all tastes. \nWhether you’re looking for a relaxing evening with smooth jazz\, an upbeat night with lively rock\, or anything in between\, we have something for everyone.
URL:https://sharksclub.com.au/event/live-music/2030-09-07/
LOCATION:Vic Point Sharks\, 325 Colburn Avenue\, Victoria Point\, QLD\, 4165\, Australia
CATEGORIES:All,Entertainment,Live Music
ATTACH;FMTTYPE=image/jpeg:https://sharksclub.com.au/wp-content/uploads/2024/07/Fri-Sat-night-Entertainment-Featured-Event.jpg
END:VEVENT
BEGIN:VEVENT
DTSTART;TZID=Australia/Brisbane:20300913T183000
DTEND;TZID=Australia/Brisbane:20300913T223000
DTSTAMP:20260422T150109
CREATED:20240715T041713Z
LAST-MODIFIED:20251208T062541Z
UID:10038819-1915554600-1915569000@sharksclub.com.au
SUMMARY:Live Music
DESCRIPTION:Enjoy free weekly live music at The Sharks! \nExperience the best of local live music! Join us in our vibrant main lounge where talented musicians and bands perform a variety of genres to suit all tastes. \nWhether you’re looking for a relaxing evening with smooth jazz\, an upbeat night with lively rock\, or anything in between\, we have something for everyone.
URL:https://sharksclub.com.au/event/live-music/2030-09-13/
LOCATION:Vic Point Sharks\, 325 Colburn Avenue\, Victoria Point\, QLD\, 4165\, Australia
CATEGORIES:All,Entertainment,Live Music
ATTACH;FMTTYPE=image/jpeg:https://sharksclub.com.au/wp-content/uploads/2024/07/Fri-Sat-night-Entertainment-Featured-Event.jpg
END:VEVENT
BEGIN:VEVENT
DTSTART;TZID=Australia/Brisbane:20300914T183000
DTEND;TZID=Australia/Brisbane:20300914T223000
DTSTAMP:20260422T150109
CREATED:20240715T041713Z
LAST-MODIFIED:20251208T062541Z
UID:10038820-1915641000-1915655400@sharksclub.com.au
SUMMARY:Live Music
DESCRIPTION:Enjoy free weekly live music at The Sharks! \nExperience the best of local live music! Join us in our vibrant main lounge where talented musicians and bands perform a variety of genres to suit all tastes. \nWhether you’re looking for a relaxing evening with smooth jazz\, an upbeat night with lively rock\, or anything in between\, we have something for everyone.
URL:https://sharksclub.com.au/event/live-music/2030-09-14/
LOCATION:Vic Point Sharks\, 325 Colburn Avenue\, Victoria Point\, QLD\, 4165\, Australia
CATEGORIES:All,Entertainment,Live Music
ATTACH;FMTTYPE=image/jpeg:https://sharksclub.com.au/wp-content/uploads/2024/07/Fri-Sat-night-Entertainment-Featured-Event.jpg
END:VEVENT
BEGIN:VEVENT
DTSTART;TZID=Australia/Brisbane:20300920T183000
DTEND;TZID=Australia/Brisbane:20300920T223000
DTSTAMP:20260422T150109
CREATED:20240715T041713Z
LAST-MODIFIED:20251208T062541Z
UID:10043955-1916159400-1916173800@sharksclub.com.au
SUMMARY:Live Music
DESCRIPTION:Enjoy free weekly live music at The Sharks! \nExperience the best of local live music! Join us in our vibrant main lounge where talented musicians and bands perform a variety of genres to suit all tastes. \nWhether you’re looking for a relaxing evening with smooth jazz\, an upbeat night with lively rock\, or anything in between\, we have something for everyone.
URL:https://sharksclub.com.au/event/live-music/2030-09-20/
LOCATION:Vic Point Sharks\, 325 Colburn Avenue\, Victoria Point\, QLD\, 4165\, Australia
CATEGORIES:All,Entertainment,Live Music
ATTACH;FMTTYPE=image/jpeg:https://sharksclub.com.au/wp-content/uploads/2024/07/Fri-Sat-night-Entertainment-Featured-Event.jpg
END:VEVENT
BEGIN:VEVENT
DTSTART;TZID=Australia/Brisbane:20300921T183000
DTEND;TZID=Australia/Brisbane:20300921T223000
DTSTAMP:20260422T150109
CREATED:20240715T041713Z
LAST-MODIFIED:20251208T062541Z
UID:10043956-1916245800-1916260200@sharksclub.com.au
SUMMARY:Live Music
DESCRIPTION:Enjoy free weekly live music at The Sharks! \nExperience the best of local live music! Join us in our vibrant main lounge where talented musicians and bands perform a variety of genres to suit all tastes. \nWhether you’re looking for a relaxing evening with smooth jazz\, an upbeat night with lively rock\, or anything in between\, we have something for everyone.
URL:https://sharksclub.com.au/event/live-music/2030-09-21/
LOCATION:Vic Point Sharks\, 325 Colburn Avenue\, Victoria Point\, QLD\, 4165\, Australia
CATEGORIES:All,Entertainment,Live Music
ATTACH;FMTTYPE=image/jpeg:https://sharksclub.com.au/wp-content/uploads/2024/07/Fri-Sat-night-Entertainment-Featured-Event.jpg
END:VEVENT
BEGIN:VEVENT
DTSTART;TZID=Australia/Brisbane:20300927T183000
DTEND;TZID=Australia/Brisbane:20300927T223000
DTSTAMP:20260422T150109
CREATED:20240715T041713Z
LAST-MODIFIED:20251208T062541Z
UID:10043957-1916764200-1916778600@sharksclub.com.au
SUMMARY:Live Music
DESCRIPTION:Enjoy free weekly live music at The Sharks! \nExperience the best of local live music! Join us in our vibrant main lounge where talented musicians and bands perform a variety of genres to suit all tastes. \nWhether you’re looking for a relaxing evening with smooth jazz\, an upbeat night with lively rock\, or anything in between\, we have something for everyone.
URL:https://sharksclub.com.au/event/live-music/2030-09-27/
LOCATION:Vic Point Sharks\, 325 Colburn Avenue\, Victoria Point\, QLD\, 4165\, Australia
CATEGORIES:All,Entertainment,Live Music
ATTACH;FMTTYPE=image/jpeg:https://sharksclub.com.au/wp-content/uploads/2024/07/Fri-Sat-night-Entertainment-Featured-Event.jpg
END:VEVENT
BEGIN:VEVENT
DTSTART;TZID=Australia/Brisbane:20300928T183000
DTEND;TZID=Australia/Brisbane:20300928T223000
DTSTAMP:20260422T150109
CREATED:20240715T041713Z
LAST-MODIFIED:20251208T062541Z
UID:10043958-1916850600-1916865000@sharksclub.com.au
SUMMARY:Live Music
DESCRIPTION:Enjoy free weekly live music at The Sharks! \nExperience the best of local live music! Join us in our vibrant main lounge where talented musicians and bands perform a variety of genres to suit all tastes. \nWhether you’re looking for a relaxing evening with smooth jazz\, an upbeat night with lively rock\, or anything in between\, we have something for everyone.
URL:https://sharksclub.com.au/event/live-music/2030-09-28/
LOCATION:Vic Point Sharks\, 325 Colburn Avenue\, Victoria Point\, QLD\, 4165\, Australia
CATEGORIES:All,Entertainment,Live Music
ATTACH;FMTTYPE=image/jpeg:https://sharksclub.com.au/wp-content/uploads/2024/07/Fri-Sat-night-Entertainment-Featured-Event.jpg
END:VEVENT
BEGIN:VEVENT
DTSTART;TZID=Australia/Brisbane:20301004T183000
DTEND;TZID=Australia/Brisbane:20301004T223000
DTSTAMP:20260422T150109
CREATED:20240715T041713Z
LAST-MODIFIED:20251208T062541Z
UID:10043959-1917369000-1917383400@sharksclub.com.au
SUMMARY:Live Music
DESCRIPTION:Enjoy free weekly live music at The Sharks! \nExperience the best of local live music! Join us in our vibrant main lounge where talented musicians and bands perform a variety of genres to suit all tastes. \nWhether you’re looking for a relaxing evening with smooth jazz\, an upbeat night with lively rock\, or anything in between\, we have something for everyone.
URL:https://sharksclub.com.au/event/live-music/2030-10-04/
LOCATION:Vic Point Sharks\, 325 Colburn Avenue\, Victoria Point\, QLD\, 4165\, Australia
CATEGORIES:All,Entertainment,Live Music
ATTACH;FMTTYPE=image/jpeg:https://sharksclub.com.au/wp-content/uploads/2024/07/Fri-Sat-night-Entertainment-Featured-Event.jpg
END:VEVENT
BEGIN:VEVENT
DTSTART;TZID=Australia/Brisbane:20301005T183000
DTEND;TZID=Australia/Brisbane:20301005T223000
DTSTAMP:20260422T150109
CREATED:20240715T041713Z
LAST-MODIFIED:20251208T062541Z
UID:10043960-1917455400-1917469800@sharksclub.com.au
SUMMARY:Live Music
DESCRIPTION:Enjoy free weekly live music at The Sharks! \nExperience the best of local live music! Join us in our vibrant main lounge where talented musicians and bands perform a variety of genres to suit all tastes. \nWhether you’re looking for a relaxing evening with smooth jazz\, an upbeat night with lively rock\, or anything in between\, we have something for everyone.
URL:https://sharksclub.com.au/event/live-music/2030-10-05/
LOCATION:Vic Point Sharks\, 325 Colburn Avenue\, Victoria Point\, QLD\, 4165\, Australia
CATEGORIES:All,Entertainment,Live Music
ATTACH;FMTTYPE=image/jpeg:https://sharksclub.com.au/wp-content/uploads/2024/07/Fri-Sat-night-Entertainment-Featured-Event.jpg
END:VEVENT
BEGIN:VEVENT
DTSTART;TZID=Australia/Brisbane:20301011T183000
DTEND;TZID=Australia/Brisbane:20301011T223000
DTSTAMP:20260422T150109
CREATED:20240715T041713Z
LAST-MODIFIED:20251208T062541Z
UID:10043961-1917973800-1917988200@sharksclub.com.au
SUMMARY:Live Music
DESCRIPTION:Enjoy free weekly live music at The Sharks! \nExperience the best of local live music! Join us in our vibrant main lounge where talented musicians and bands perform a variety of genres to suit all tastes. \nWhether you’re looking for a relaxing evening with smooth jazz\, an upbeat night with lively rock\, or anything in between\, we have something for everyone.
URL:https://sharksclub.com.au/event/live-music/2030-10-11/
LOCATION:Vic Point Sharks\, 325 Colburn Avenue\, Victoria Point\, QLD\, 4165\, Australia
CATEGORIES:All,Entertainment,Live Music
ATTACH;FMTTYPE=image/jpeg:https://sharksclub.com.au/wp-content/uploads/2024/07/Fri-Sat-night-Entertainment-Featured-Event.jpg
END:VEVENT
BEGIN:VEVENT
DTSTART;TZID=Australia/Brisbane:20301012T183000
DTEND;TZID=Australia/Brisbane:20301012T223000
DTSTAMP:20260422T150109
CREATED:20240715T041713Z
LAST-MODIFIED:20251208T062541Z
UID:10043962-1918060200-1918074600@sharksclub.com.au
SUMMARY:Live Music
DESCRIPTION:Enjoy free weekly live music at The Sharks! \nExperience the best of local live music! Join us in our vibrant main lounge where talented musicians and bands perform a variety of genres to suit all tastes. \nWhether you’re looking for a relaxing evening with smooth jazz\, an upbeat night with lively rock\, or anything in between\, we have something for everyone.
URL:https://sharksclub.com.au/event/live-music/2030-10-12/
LOCATION:Vic Point Sharks\, 325 Colburn Avenue\, Victoria Point\, QLD\, 4165\, Australia
CATEGORIES:All,Entertainment,Live Music
ATTACH;FMTTYPE=image/jpeg:https://sharksclub.com.au/wp-content/uploads/2024/07/Fri-Sat-night-Entertainment-Featured-Event.jpg
END:VEVENT
BEGIN:VEVENT
DTSTART;TZID=Australia/Brisbane:20301018T183000
DTEND;TZID=Australia/Brisbane:20301018T223000
DTSTAMP:20260422T150109
CREATED:20240715T041713Z
LAST-MODIFIED:20251208T062541Z
UID:10043963-1918578600-1918593000@sharksclub.com.au
SUMMARY:Live Music
DESCRIPTION:Enjoy free weekly live music at The Sharks! \nExperience the best of local live music! Join us in our vibrant main lounge where talented musicians and bands perform a variety of genres to suit all tastes. \nWhether you’re looking for a relaxing evening with smooth jazz\, an upbeat night with lively rock\, or anything in between\, we have something for everyone.
URL:https://sharksclub.com.au/event/live-music/2030-10-18/
LOCATION:Vic Point Sharks\, 325 Colburn Avenue\, Victoria Point\, QLD\, 4165\, Australia
CATEGORIES:All,Entertainment,Live Music
ATTACH;FMTTYPE=image/jpeg:https://sharksclub.com.au/wp-content/uploads/2024/07/Fri-Sat-night-Entertainment-Featured-Event.jpg
END:VEVENT
BEGIN:VEVENT
DTSTART;TZID=Australia/Brisbane:20301019T183000
DTEND;TZID=Australia/Brisbane:20301019T223000
DTSTAMP:20260422T150109
CREATED:20240715T041713Z
LAST-MODIFIED:20251208T062541Z
UID:10043964-1918665000-1918679400@sharksclub.com.au
SUMMARY:Live Music
DESCRIPTION:Enjoy free weekly live music at The Sharks! \nExperience the best of local live music! Join us in our vibrant main lounge where talented musicians and bands perform a variety of genres to suit all tastes. \nWhether you’re looking for a relaxing evening with smooth jazz\, an upbeat night with lively rock\, or anything in between\, we have something for everyone.
URL:https://sharksclub.com.au/event/live-music/2030-10-19/
LOCATION:Vic Point Sharks\, 325 Colburn Avenue\, Victoria Point\, QLD\, 4165\, Australia
CATEGORIES:All,Entertainment,Live Music
ATTACH;FMTTYPE=image/jpeg:https://sharksclub.com.au/wp-content/uploads/2024/07/Fri-Sat-night-Entertainment-Featured-Event.jpg
END:VEVENT
BEGIN:VEVENT
DTSTART;TZID=Australia/Brisbane:20301025T183000
DTEND;TZID=Australia/Brisbane:20301025T223000
DTSTAMP:20260422T150109
CREATED:20240715T041713Z
LAST-MODIFIED:20251208T062541Z
UID:10043965-1919183400-1919197800@sharksclub.com.au
SUMMARY:Live Music
DESCRIPTION:Enjoy free weekly live music at The Sharks! \nExperience the best of local live music! Join us in our vibrant main lounge where talented musicians and bands perform a variety of genres to suit all tastes. \nWhether you’re looking for a relaxing evening with smooth jazz\, an upbeat night with lively rock\, or anything in between\, we have something for everyone.
URL:https://sharksclub.com.au/event/live-music/2030-10-25/
LOCATION:Vic Point Sharks\, 325 Colburn Avenue\, Victoria Point\, QLD\, 4165\, Australia
CATEGORIES:All,Entertainment,Live Music
ATTACH;FMTTYPE=image/jpeg:https://sharksclub.com.au/wp-content/uploads/2024/07/Fri-Sat-night-Entertainment-Featured-Event.jpg
END:VEVENT
BEGIN:VEVENT
DTSTART;TZID=Australia/Brisbane:20301026T183000
DTEND;TZID=Australia/Brisbane:20301026T223000
DTSTAMP:20260422T150109
CREATED:20240715T041713Z
LAST-MODIFIED:20251208T062541Z
UID:10043966-1919269800-1919284200@sharksclub.com.au
SUMMARY:Live Music
DESCRIPTION:Enjoy free weekly live music at The Sharks! \nExperience the best of local live music! Join us in our vibrant main lounge where talented musicians and bands perform a variety of genres to suit all tastes. \nWhether you’re looking for a relaxing evening with smooth jazz\, an upbeat night with lively rock\, or anything in between\, we have something for everyone.
URL:https://sharksclub.com.au/event/live-music/2030-10-26/
LOCATION:Vic Point Sharks\, 325 Colburn Avenue\, Victoria Point\, QLD\, 4165\, Australia
CATEGORIES:All,Entertainment,Live Music
ATTACH;FMTTYPE=image/jpeg:https://sharksclub.com.au/wp-content/uploads/2024/07/Fri-Sat-night-Entertainment-Featured-Event.jpg
END:VEVENT
BEGIN:VEVENT
DTSTART;TZID=Australia/Brisbane:20301101T183000
DTEND;TZID=Australia/Brisbane:20301101T223000
DTSTAMP:20260422T150109
CREATED:20240715T041713Z
LAST-MODIFIED:20251208T062541Z
UID:10043967-1919788200-1919802600@sharksclub.com.au
SUMMARY:Live Music
DESCRIPTION:Enjoy free weekly live music at The Sharks! \nExperience the best of local live music! Join us in our vibrant main lounge where talented musicians and bands perform a variety of genres to suit all tastes. \nWhether you’re looking for a relaxing evening with smooth jazz\, an upbeat night with lively rock\, or anything in between\, we have something for everyone.
URL:https://sharksclub.com.au/event/live-music/2030-11-01/
LOCATION:Vic Point Sharks\, 325 Colburn Avenue\, Victoria Point\, QLD\, 4165\, Australia
CATEGORIES:All,Entertainment,Live Music
ATTACH;FMTTYPE=image/jpeg:https://sharksclub.com.au/wp-content/uploads/2024/07/Fri-Sat-night-Entertainment-Featured-Event.jpg
END:VEVENT
BEGIN:VEVENT
DTSTART;TZID=Australia/Brisbane:20301102T183000
DTEND;TZID=Australia/Brisbane:20301102T223000
DTSTAMP:20260422T150109
CREATED:20240715T041713Z
LAST-MODIFIED:20251208T062541Z
UID:10043968-1919874600-1919889000@sharksclub.com.au
SUMMARY:Live Music
DESCRIPTION:Enjoy free weekly live music at The Sharks! \nExperience the best of local live music! Join us in our vibrant main lounge where talented musicians and bands perform a variety of genres to suit all tastes. \nWhether you’re looking for a relaxing evening with smooth jazz\, an upbeat night with lively rock\, or anything in between\, we have something for everyone.
URL:https://sharksclub.com.au/event/live-music/2030-11-02/
LOCATION:Vic Point Sharks\, 325 Colburn Avenue\, Victoria Point\, QLD\, 4165\, Australia
CATEGORIES:All,Entertainment,Live Music
ATTACH;FMTTYPE=image/jpeg:https://sharksclub.com.au/wp-content/uploads/2024/07/Fri-Sat-night-Entertainment-Featured-Event.jpg
END:VEVENT
BEGIN:VEVENT
DTSTART;TZID=Australia/Brisbane:20301108T183000
DTEND;TZID=Australia/Brisbane:20301108T223000
DTSTAMP:20260422T150109
CREATED:20240715T041713Z
LAST-MODIFIED:20251208T062541Z
UID:10043969-1920393000-1920407400@sharksclub.com.au
SUMMARY:Live Music
DESCRIPTION:Enjoy free weekly live music at The Sharks! \nExperience the best of local live music! Join us in our vibrant main lounge where talented musicians and bands perform a variety of genres to suit all tastes. \nWhether you’re looking for a relaxing evening with smooth jazz\, an upbeat night with lively rock\, or anything in between\, we have something for everyone.
URL:https://sharksclub.com.au/event/live-music/2030-11-08/
LOCATION:Vic Point Sharks\, 325 Colburn Avenue\, Victoria Point\, QLD\, 4165\, Australia
CATEGORIES:All,Entertainment,Live Music
ATTACH;FMTTYPE=image/jpeg:https://sharksclub.com.au/wp-content/uploads/2024/07/Fri-Sat-night-Entertainment-Featured-Event.jpg
END:VEVENT
BEGIN:VEVENT
DTSTART;TZID=Australia/Brisbane:20301109T183000
DTEND;TZID=Australia/Brisbane:20301109T223000
DTSTAMP:20260422T150109
CREATED:20240715T041713Z
LAST-MODIFIED:20251208T062541Z
UID:10043970-1920479400-1920493800@sharksclub.com.au
SUMMARY:Live Music
DESCRIPTION:Enjoy free weekly live music at The Sharks! \nExperience the best of local live music! Join us in our vibrant main lounge where talented musicians and bands perform a variety of genres to suit all tastes. \nWhether you’re looking for a relaxing evening with smooth jazz\, an upbeat night with lively rock\, or anything in between\, we have something for everyone.
URL:https://sharksclub.com.au/event/live-music/2030-11-09/
LOCATION:Vic Point Sharks\, 325 Colburn Avenue\, Victoria Point\, QLD\, 4165\, Australia
CATEGORIES:All,Entertainment,Live Music
ATTACH;FMTTYPE=image/jpeg:https://sharksclub.com.au/wp-content/uploads/2024/07/Fri-Sat-night-Entertainment-Featured-Event.jpg
END:VEVENT
BEGIN:VEVENT
DTSTART;TZID=Australia/Brisbane:20301115T183000
DTEND;TZID=Australia/Brisbane:20301115T223000
DTSTAMP:20260422T150109
CREATED:20240715T041713Z
LAST-MODIFIED:20251208T062541Z
UID:10043971-1920997800-1921012200@sharksclub.com.au
SUMMARY:Live Music
DESCRIPTION:Enjoy free weekly live music at The Sharks! \nExperience the best of local live music! Join us in our vibrant main lounge where talented musicians and bands perform a variety of genres to suit all tastes. \nWhether you’re looking for a relaxing evening with smooth jazz\, an upbeat night with lively rock\, or anything in between\, we have something for everyone.
URL:https://sharksclub.com.au/event/live-music/2030-11-15/
LOCATION:Vic Point Sharks\, 325 Colburn Avenue\, Victoria Point\, QLD\, 4165\, Australia
CATEGORIES:All,Entertainment,Live Music
ATTACH;FMTTYPE=image/jpeg:https://sharksclub.com.au/wp-content/uploads/2024/07/Fri-Sat-night-Entertainment-Featured-Event.jpg
END:VEVENT
BEGIN:VEVENT
DTSTART;TZID=Australia/Brisbane:20301116T183000
DTEND;TZID=Australia/Brisbane:20301116T223000
DTSTAMP:20260422T150109
CREATED:20240715T041713Z
LAST-MODIFIED:20251208T062541Z
UID:10043972-1921084200-1921098600@sharksclub.com.au
SUMMARY:Live Music
DESCRIPTION:Enjoy free weekly live music at The Sharks! \nExperience the best of local live music! Join us in our vibrant main lounge where talented musicians and bands perform a variety of genres to suit all tastes. \nWhether you’re looking for a relaxing evening with smooth jazz\, an upbeat night with lively rock\, or anything in between\, we have something for everyone.
URL:https://sharksclub.com.au/event/live-music/2030-11-16/
LOCATION:Vic Point Sharks\, 325 Colburn Avenue\, Victoria Point\, QLD\, 4165\, Australia
CATEGORIES:All,Entertainment,Live Music
ATTACH;FMTTYPE=image/jpeg:https://sharksclub.com.au/wp-content/uploads/2024/07/Fri-Sat-night-Entertainment-Featured-Event.jpg
END:VEVENT
BEGIN:VEVENT
DTSTART;TZID=Australia/Brisbane:20301122T183000
DTEND;TZID=Australia/Brisbane:20301122T223000
DTSTAMP:20260422T150109
CREATED:20240715T041713Z
LAST-MODIFIED:20251208T062541Z
UID:10043973-1921602600-1921617000@sharksclub.com.au
SUMMARY:Live Music
DESCRIPTION:Enjoy free weekly live music at The Sharks! \nExperience the best of local live music! Join us in our vibrant main lounge where talented musicians and bands perform a variety of genres to suit all tastes. \nWhether you’re looking for a relaxing evening with smooth jazz\, an upbeat night with lively rock\, or anything in between\, we have something for everyone.
URL:https://sharksclub.com.au/event/live-music/2030-11-22/
LOCATION:Vic Point Sharks\, 325 Colburn Avenue\, Victoria Point\, QLD\, 4165\, Australia
CATEGORIES:All,Entertainment,Live Music
ATTACH;FMTTYPE=image/jpeg:https://sharksclub.com.au/wp-content/uploads/2024/07/Fri-Sat-night-Entertainment-Featured-Event.jpg
END:VEVENT
BEGIN:VEVENT
DTSTART;TZID=Australia/Brisbane:20301123T183000
DTEND;TZID=Australia/Brisbane:20301123T223000
DTSTAMP:20260422T150109
CREATED:20240715T041713Z
LAST-MODIFIED:20251208T062541Z
UID:10043974-1921689000-1921703400@sharksclub.com.au
SUMMARY:Live Music
DESCRIPTION:Enjoy free weekly live music at The Sharks! \nExperience the best of local live music! Join us in our vibrant main lounge where talented musicians and bands perform a variety of genres to suit all tastes. \nWhether you’re looking for a relaxing evening with smooth jazz\, an upbeat night with lively rock\, or anything in between\, we have something for everyone.
URL:https://sharksclub.com.au/event/live-music/2030-11-23/
LOCATION:Vic Point Sharks\, 325 Colburn Avenue\, Victoria Point\, QLD\, 4165\, Australia
CATEGORIES:All,Entertainment,Live Music
ATTACH;FMTTYPE=image/jpeg:https://sharksclub.com.au/wp-content/uploads/2024/07/Fri-Sat-night-Entertainment-Featured-Event.jpg
END:VEVENT
BEGIN:VEVENT
DTSTART;TZID=Australia/Brisbane:20301129T183000
DTEND;TZID=Australia/Brisbane:20301129T223000
DTSTAMP:20260422T150109
CREATED:20240715T041713Z
LAST-MODIFIED:20251208T062541Z
UID:10043975-1922207400-1922221800@sharksclub.com.au
SUMMARY:Live Music
DESCRIPTION:Enjoy free weekly live music at The Sharks! \nExperience the best of local live music! Join us in our vibrant main lounge where talented musicians and bands perform a variety of genres to suit all tastes. \nWhether you’re looking for a relaxing evening with smooth jazz\, an upbeat night with lively rock\, or anything in between\, we have something for everyone.
URL:https://sharksclub.com.au/event/live-music/2030-11-29/
LOCATION:Vic Point Sharks\, 325 Colburn Avenue\, Victoria Point\, QLD\, 4165\, Australia
CATEGORIES:All,Entertainment,Live Music
ATTACH;FMTTYPE=image/jpeg:https://sharksclub.com.au/wp-content/uploads/2024/07/Fri-Sat-night-Entertainment-Featured-Event.jpg
END:VEVENT
BEGIN:VEVENT
DTSTART;TZID=Australia/Brisbane:20301130T183000
DTEND;TZID=Australia/Brisbane:20301130T223000
DTSTAMP:20260422T150109
CREATED:20240715T041713Z
LAST-MODIFIED:20251208T062541Z
UID:10043976-1922293800-1922308200@sharksclub.com.au
SUMMARY:Live Music
DESCRIPTION:Enjoy free weekly live music at The Sharks! \nExperience the best of local live music! Join us in our vibrant main lounge where talented musicians and bands perform a variety of genres to suit all tastes. \nWhether you’re looking for a relaxing evening with smooth jazz\, an upbeat night with lively rock\, or anything in between\, we have something for everyone.
URL:https://sharksclub.com.au/event/live-music/2030-11-30/
LOCATION:Vic Point Sharks\, 325 Colburn Avenue\, Victoria Point\, QLD\, 4165\, Australia
CATEGORIES:All,Entertainment,Live Music
ATTACH;FMTTYPE=image/jpeg:https://sharksclub.com.au/wp-content/uploads/2024/07/Fri-Sat-night-Entertainment-Featured-Event.jpg
END:VEVENT
BEGIN:VEVENT
DTSTART;TZID=Australia/Brisbane:20301206T183000
DTEND;TZID=Australia/Brisbane:20301206T223000
DTSTAMP:20260422T150109
CREATED:20240715T041713Z
LAST-MODIFIED:20251208T062541Z
UID:10043992-1922812200-1922826600@sharksclub.com.au
SUMMARY:Live Music
DESCRIPTION:Enjoy free weekly live music at The Sharks! \nExperience the best of local live music! Join us in our vibrant main lounge where talented musicians and bands perform a variety of genres to suit all tastes. \nWhether you’re looking for a relaxing evening with smooth jazz\, an upbeat night with lively rock\, or anything in between\, we have something for everyone.
URL:https://sharksclub.com.au/event/live-music/2030-12-06/
LOCATION:Vic Point Sharks\, 325 Colburn Avenue\, Victoria Point\, QLD\, 4165\, Australia
CATEGORIES:All,Entertainment,Live Music
ATTACH;FMTTYPE=image/jpeg:https://sharksclub.com.au/wp-content/uploads/2024/07/Fri-Sat-night-Entertainment-Featured-Event.jpg
END:VEVENT
BEGIN:VEVENT
DTSTART;TZID=Australia/Brisbane:20301207T183000
DTEND;TZID=Australia/Brisbane:20301207T223000
DTSTAMP:20260422T150109
CREATED:20240715T041713Z
LAST-MODIFIED:20251208T062541Z
UID:10043993-1922898600-1922913000@sharksclub.com.au
SUMMARY:Live Music
DESCRIPTION:Enjoy free weekly live music at The Sharks! \nExperience the best of local live music! Join us in our vibrant main lounge where talented musicians and bands perform a variety of genres to suit all tastes. \nWhether you’re looking for a relaxing evening with smooth jazz\, an upbeat night with lively rock\, or anything in between\, we have something for everyone.
URL:https://sharksclub.com.au/event/live-music/2030-12-07/
LOCATION:Vic Point Sharks\, 325 Colburn Avenue\, Victoria Point\, QLD\, 4165\, Australia
CATEGORIES:All,Entertainment,Live Music
ATTACH;FMTTYPE=image/jpeg:https://sharksclub.com.au/wp-content/uploads/2024/07/Fri-Sat-night-Entertainment-Featured-Event.jpg
END:VEVENT
END:VCALENDAR