BEGIN:VCALENDAR
VERSION:2.0
PRODID:-//Victoria Point Sharks Sporting Club - ECPv6.15.20//NONSGML v1.0//EN
CALSCALE:GREGORIAN
METHOD:PUBLISH
X-ORIGINAL-URL:https://sharksclub.com.au
X-WR-CALDESC:Events for Victoria Point Sharks Sporting Club
REFRESH-INTERVAL;VALUE=DURATION:PT1H
X-Robots-Tag:noindex
X-PUBLISHED-TTL:PT1H
BEGIN:VTIMEZONE
TZID:Australia/Brisbane
BEGIN:STANDARD
TZOFFSETFROM:+1000
TZOFFSETTO:+1000
TZNAME:AEST
DTSTART:20240101T000000
END:STANDARD
END:VTIMEZONE
BEGIN:VEVENT
DTSTART;TZID=Australia/Brisbane:20251001T103000
DTEND;TZID=Australia/Brisbane:20251001T130000
DTSTAMP:20260424T042251
CREATED:20240715T035954Z
LAST-MODIFIED:20260211T040326Z
UID:10048820-1759314600-1759323600@sharksclub.com.au
SUMMARY:Wednesday Bingo
DESCRIPTION:Wednesday Bingo at the Sharks! \nJoin us for a fun-filled Bingo morning every Wednesday in our comfortable\, air-conditioned Function Room. \nCome early and enjoy a great time with fellow Bingo enthusiasts! \nOur Members Courtesy Bus is also available if you do not wish to drive BOOK NOW! \n~ All funds raised help support our Sharks Football teams ~
URL:https://sharksclub.com.au/event/wednesday-bingo/2025-10-01/
LOCATION:Vic Point Sharks\, 325 Colburn Avenue\, Victoria Point\, QLD\, 4165\, Australia
CATEGORIES:All,Bingo,Weekly Activities
ATTACH;FMTTYPE=image/png:https://sharksclub.com.au/wp-content/uploads/2024/07/Bingo-Featured-Image.png
END:VEVENT
BEGIN:VEVENT
DTSTART;TZID=Australia/Brisbane:20251001T183000
DTEND;TZID=Australia/Brisbane:20251001T193000
DTSTAMP:20260424T042251
CREATED:20240724T033640Z
LAST-MODIFIED:20240729T224627Z
UID:10023069-1759343400-1759347000@sharksclub.com.au
SUMMARY:Trivia
DESCRIPTION:Think you’re a trivia master? \nThen come and join us every Wednesday & Thursday night and get ready to challenge your mind! \nWe have plenty of prizes to be won! \nAndrew Nasan hosts every Wednesday\, Mike Van Acker every Thursday.
URL:https://sharksclub.com.au/event/trivia/2025-10-01/
LOCATION:Vic Point Sharks\, 325 Colburn Avenue\, Victoria Point\, QLD\, 4165\, Australia
CATEGORIES:All,Trivia,Weekly Activities
ATTACH;FMTTYPE=image/jpeg:https://sharksclub.com.au/wp-content/uploads/2024/07/Trivia-Wed-Thurs-FEATURED-IMAGE.jpg
END:VEVENT
BEGIN:VEVENT
DTSTART;TZID=Australia/Brisbane:20251002T183000
DTEND;TZID=Australia/Brisbane:20251002T193000
DTSTAMP:20260424T042251
CREATED:20240724T033640Z
LAST-MODIFIED:20240729T224627Z
UID:10023070-1759429800-1759433400@sharksclub.com.au
SUMMARY:Trivia
DESCRIPTION:Think you’re a trivia master? \nThen come and join us every Wednesday & Thursday night and get ready to challenge your mind! \nWe have plenty of prizes to be won! \nAndrew Nasan hosts every Wednesday\, Mike Van Acker every Thursday.
URL:https://sharksclub.com.au/event/trivia/2025-10-02/
LOCATION:Vic Point Sharks\, 325 Colburn Avenue\, Victoria Point\, QLD\, 4165\, Australia
CATEGORIES:All,Trivia,Weekly Activities
ATTACH;FMTTYPE=image/jpeg:https://sharksclub.com.au/wp-content/uploads/2024/07/Trivia-Wed-Thurs-FEATURED-IMAGE.jpg
END:VEVENT
BEGIN:VEVENT
DTSTART;TZID=Australia/Brisbane:20251007T190000
DTEND;TZID=Australia/Brisbane:20251007T210000
DTSTAMP:20260424T042251
CREATED:20240715T041022Z
LAST-MODIFIED:20260330T232956Z
UID:10050515-1759863600-1759870800@sharksclub.com.au
SUMMARY:Tuesday Bingo - $1\,000 & $1\,500 Jackpots!!
DESCRIPTION:Tuesday Bingo at the Sharks is HUGE! \nJoin us for a fun-filled evening of Bingo every Tuesday in our comfortable\, air-conditioned Function Room. \nGet settled at 6pm for a 7pm eyes-down. We have complimentary self-serve tea and coffee available\, or why not order dinner from Zest Bistro? \nHeaps of Prizes including our 2 x MAJOR JACKPOTS of $1\,000 and $1\,500 each week! \nYou can even book our Member’s Courtesy Bus if you do not wish to drive BOOK NOW! \nAll funds raised go towards the LEUKAEMIA FOUNDATION
URL:https://sharksclub.com.au/event/tuesday-bingo/2025-10-07/
LOCATION:Vic Point Sharks\, 325 Colburn Avenue\, Victoria Point\, QLD\, 4165\, Australia
CATEGORIES:All,Bingo,Weekly Activities
ATTACH;FMTTYPE=image/png:https://sharksclub.com.au/wp-content/uploads/2024/07/1-1.png
END:VEVENT
BEGIN:VEVENT
DTSTART;TZID=Australia/Brisbane:20251008T103000
DTEND;TZID=Australia/Brisbane:20251008T130000
DTSTAMP:20260424T042251
CREATED:20240715T035954Z
LAST-MODIFIED:20260211T040326Z
UID:10048821-1759919400-1759928400@sharksclub.com.au
SUMMARY:Wednesday Bingo
DESCRIPTION:Wednesday Bingo at the Sharks! \nJoin us for a fun-filled Bingo morning every Wednesday in our comfortable\, air-conditioned Function Room. \nCome early and enjoy a great time with fellow Bingo enthusiasts! \nOur Members Courtesy Bus is also available if you do not wish to drive BOOK NOW! \n~ All funds raised help support our Sharks Football teams ~
URL:https://sharksclub.com.au/event/wednesday-bingo/2025-10-08/
LOCATION:Vic Point Sharks\, 325 Colburn Avenue\, Victoria Point\, QLD\, 4165\, Australia
CATEGORIES:All,Bingo,Weekly Activities
ATTACH;FMTTYPE=image/png:https://sharksclub.com.au/wp-content/uploads/2024/07/Bingo-Featured-Image.png
END:VEVENT
BEGIN:VEVENT
DTSTART;TZID=Australia/Brisbane:20251014T190000
DTEND;TZID=Australia/Brisbane:20251014T210000
DTSTAMP:20260424T042251
CREATED:20240715T041022Z
LAST-MODIFIED:20260330T232956Z
UID:10050516-1760468400-1760475600@sharksclub.com.au
SUMMARY:Tuesday Bingo - $1\,000 & $1\,500 Jackpots!!
DESCRIPTION:Tuesday Bingo at the Sharks is HUGE! \nJoin us for a fun-filled evening of Bingo every Tuesday in our comfortable\, air-conditioned Function Room. \nGet settled at 6pm for a 7pm eyes-down. We have complimentary self-serve tea and coffee available\, or why not order dinner from Zest Bistro? \nHeaps of Prizes including our 2 x MAJOR JACKPOTS of $1\,000 and $1\,500 each week! \nYou can even book our Member’s Courtesy Bus if you do not wish to drive BOOK NOW! \nAll funds raised go towards the LEUKAEMIA FOUNDATION
URL:https://sharksclub.com.au/event/tuesday-bingo/2025-10-14/
LOCATION:Vic Point Sharks\, 325 Colburn Avenue\, Victoria Point\, QLD\, 4165\, Australia
CATEGORIES:All,Bingo,Weekly Activities
ATTACH;FMTTYPE=image/png:https://sharksclub.com.au/wp-content/uploads/2024/07/1-1.png
END:VEVENT
BEGIN:VEVENT
DTSTART;TZID=Australia/Brisbane:20251015T103000
DTEND;TZID=Australia/Brisbane:20251015T130000
DTSTAMP:20260424T042251
CREATED:20240715T035954Z
LAST-MODIFIED:20260211T040326Z
UID:10048822-1760524200-1760533200@sharksclub.com.au
SUMMARY:Wednesday Bingo
DESCRIPTION:Wednesday Bingo at the Sharks! \nJoin us for a fun-filled Bingo morning every Wednesday in our comfortable\, air-conditioned Function Room. \nCome early and enjoy a great time with fellow Bingo enthusiasts! \nOur Members Courtesy Bus is also available if you do not wish to drive BOOK NOW! \n~ All funds raised help support our Sharks Football teams ~
URL:https://sharksclub.com.au/event/wednesday-bingo/2025-10-15/
LOCATION:Vic Point Sharks\, 325 Colburn Avenue\, Victoria Point\, QLD\, 4165\, Australia
CATEGORIES:All,Bingo,Weekly Activities
ATTACH;FMTTYPE=image/png:https://sharksclub.com.au/wp-content/uploads/2024/07/Bingo-Featured-Image.png
END:VEVENT
BEGIN:VEVENT
DTSTART;TZID=Australia/Brisbane:20251021T190000
DTEND;TZID=Australia/Brisbane:20251021T210000
DTSTAMP:20260424T042251
CREATED:20240715T041022Z
LAST-MODIFIED:20260330T232956Z
UID:10050517-1761073200-1761080400@sharksclub.com.au
SUMMARY:Tuesday Bingo - $1\,000 & $1\,500 Jackpots!!
DESCRIPTION:Tuesday Bingo at the Sharks is HUGE! \nJoin us for a fun-filled evening of Bingo every Tuesday in our comfortable\, air-conditioned Function Room. \nGet settled at 6pm for a 7pm eyes-down. We have complimentary self-serve tea and coffee available\, or why not order dinner from Zest Bistro? \nHeaps of Prizes including our 2 x MAJOR JACKPOTS of $1\,000 and $1\,500 each week! \nYou can even book our Member’s Courtesy Bus if you do not wish to drive BOOK NOW! \nAll funds raised go towards the LEUKAEMIA FOUNDATION
URL:https://sharksclub.com.au/event/tuesday-bingo/2025-10-21/
LOCATION:Vic Point Sharks\, 325 Colburn Avenue\, Victoria Point\, QLD\, 4165\, Australia
CATEGORIES:All,Bingo,Weekly Activities
ATTACH;FMTTYPE=image/png:https://sharksclub.com.au/wp-content/uploads/2024/07/1-1.png
END:VEVENT
BEGIN:VEVENT
DTSTART;TZID=Australia/Brisbane:20251022T103000
DTEND;TZID=Australia/Brisbane:20251022T130000
DTSTAMP:20260424T042251
CREATED:20240715T035954Z
LAST-MODIFIED:20260211T040326Z
UID:10048823-1761129000-1761138000@sharksclub.com.au
SUMMARY:Wednesday Bingo
DESCRIPTION:Wednesday Bingo at the Sharks! \nJoin us for a fun-filled Bingo morning every Wednesday in our comfortable\, air-conditioned Function Room. \nCome early and enjoy a great time with fellow Bingo enthusiasts! \nOur Members Courtesy Bus is also available if you do not wish to drive BOOK NOW! \n~ All funds raised help support our Sharks Football teams ~
URL:https://sharksclub.com.au/event/wednesday-bingo/2025-10-22/
LOCATION:Vic Point Sharks\, 325 Colburn Avenue\, Victoria Point\, QLD\, 4165\, Australia
CATEGORIES:All,Bingo,Weekly Activities
ATTACH;FMTTYPE=image/png:https://sharksclub.com.au/wp-content/uploads/2024/07/Bingo-Featured-Image.png
END:VEVENT
BEGIN:VEVENT
DTSTART;TZID=Australia/Brisbane:20251028T190000
DTEND;TZID=Australia/Brisbane:20251028T210000
DTSTAMP:20260424T042251
CREATED:20240715T041022Z
LAST-MODIFIED:20260330T232956Z
UID:10050518-1761678000-1761685200@sharksclub.com.au
SUMMARY:Tuesday Bingo - $1\,000 & $1\,500 Jackpots!!
DESCRIPTION:Tuesday Bingo at the Sharks is HUGE! \nJoin us for a fun-filled evening of Bingo every Tuesday in our comfortable\, air-conditioned Function Room. \nGet settled at 6pm for a 7pm eyes-down. We have complimentary self-serve tea and coffee available\, or why not order dinner from Zest Bistro? \nHeaps of Prizes including our 2 x MAJOR JACKPOTS of $1\,000 and $1\,500 each week! \nYou can even book our Member’s Courtesy Bus if you do not wish to drive BOOK NOW! \nAll funds raised go towards the LEUKAEMIA FOUNDATION
URL:https://sharksclub.com.au/event/tuesday-bingo/2025-10-28/
LOCATION:Vic Point Sharks\, 325 Colburn Avenue\, Victoria Point\, QLD\, 4165\, Australia
CATEGORIES:All,Bingo,Weekly Activities
ATTACH;FMTTYPE=image/png:https://sharksclub.com.au/wp-content/uploads/2024/07/1-1.png
END:VEVENT
BEGIN:VEVENT
DTSTART;TZID=Australia/Brisbane:20251029T103000
DTEND;TZID=Australia/Brisbane:20251029T130000
DTSTAMP:20260424T042251
CREATED:20240715T035954Z
LAST-MODIFIED:20260211T040326Z
UID:10048824-1761733800-1761742800@sharksclub.com.au
SUMMARY:Wednesday Bingo
DESCRIPTION:Wednesday Bingo at the Sharks! \nJoin us for a fun-filled Bingo morning every Wednesday in our comfortable\, air-conditioned Function Room. \nCome early and enjoy a great time with fellow Bingo enthusiasts! \nOur Members Courtesy Bus is also available if you do not wish to drive BOOK NOW! \n~ All funds raised help support our Sharks Football teams ~
URL:https://sharksclub.com.au/event/wednesday-bingo/2025-10-29/
LOCATION:Vic Point Sharks\, 325 Colburn Avenue\, Victoria Point\, QLD\, 4165\, Australia
CATEGORIES:All,Bingo,Weekly Activities
ATTACH;FMTTYPE=image/png:https://sharksclub.com.au/wp-content/uploads/2024/07/Bingo-Featured-Image.png
END:VEVENT
END:VCALENDAR