BEGIN:VCALENDAR
VERSION:2.0
PRODID:-//Victoria Point Sharks Sporting Club - ECPv6.15.20//NONSGML v1.0//EN
CALSCALE:GREGORIAN
METHOD:PUBLISH
X-WR-CALNAME:Victoria Point Sharks Sporting Club
X-ORIGINAL-URL:https://sharksclub.com.au
X-WR-CALDESC:Events for Victoria Point Sharks Sporting Club
REFRESH-INTERVAL;VALUE=DURATION:PT1H
X-Robots-Tag:noindex
X-PUBLISHED-TTL:PT1H
BEGIN:VTIMEZONE
TZID:Australia/Brisbane
BEGIN:STANDARD
TZOFFSETFROM:+1000
TZOFFSETTO:+1000
TZNAME:AEST
DTSTART:20240101T000000
END:STANDARD
END:VTIMEZONE
BEGIN:VEVENT
DTSTART;TZID=Australia/Brisbane:20251202T190000
DTEND;TZID=Australia/Brisbane:20251202T210000
DTSTAMP:20260424T002818
CREATED:20240715T041022Z
LAST-MODIFIED:20260330T232956Z
UID:10050523-1764702000-1764709200@sharksclub.com.au
SUMMARY:Tuesday Bingo - $1\,000 & $1\,500 Jackpots!!
DESCRIPTION:Tuesday Bingo at the Sharks is HUGE! \nJoin us for a fun-filled evening of Bingo every Tuesday in our comfortable\, air-conditioned Function Room. \nGet settled at 6pm for a 7pm eyes-down. We have complimentary self-serve tea and coffee available\, or why not order dinner from Zest Bistro? \nHeaps of Prizes including our 2 x MAJOR JACKPOTS of $1\,000 and $1\,500 each week! \nYou can even book our Member’s Courtesy Bus if you do not wish to drive BOOK NOW! \nAll funds raised go towards the LEUKAEMIA FOUNDATION
URL:https://sharksclub.com.au/event/tuesday-bingo/2025-12-02/
LOCATION:Vic Point Sharks\, 325 Colburn Avenue\, Victoria Point\, QLD\, 4165\, Australia
CATEGORIES:All,Bingo,Weekly Activities
ATTACH;FMTTYPE=image/png:https://sharksclub.com.au/wp-content/uploads/2024/07/1-1.png
END:VEVENT
BEGIN:VEVENT
DTSTART;TZID=Australia/Brisbane:20251203T103000
DTEND;TZID=Australia/Brisbane:20251203T130000
DTSTAMP:20260424T002818
CREATED:20240715T035954Z
LAST-MODIFIED:20260211T040326Z
UID:10048829-1764757800-1764766800@sharksclub.com.au
SUMMARY:Wednesday Bingo
DESCRIPTION:Wednesday Bingo at the Sharks! \nJoin us for a fun-filled Bingo morning every Wednesday in our comfortable\, air-conditioned Function Room. \nCome early and enjoy a great time with fellow Bingo enthusiasts! \nOur Members Courtesy Bus is also available if you do not wish to drive BOOK NOW! \n~ All funds raised help support our Sharks Football teams ~
URL:https://sharksclub.com.au/event/wednesday-bingo/2025-12-03/
LOCATION:Vic Point Sharks\, 325 Colburn Avenue\, Victoria Point\, QLD\, 4165\, Australia
CATEGORIES:All,Bingo,Weekly Activities
ATTACH;FMTTYPE=image/png:https://sharksclub.com.au/wp-content/uploads/2024/07/Bingo-Featured-Image.png
END:VEVENT
BEGIN:VEVENT
DTSTART;TZID=Australia/Brisbane:20251204T190000
DTEND;TZID=Australia/Brisbane:20251204T210000
DTSTAMP:20260424T002818
CREATED:20251117T054651Z
LAST-MODIFIED:20251201T055839Z
UID:10041760-1764874800-1764882000@sharksclub.com.au
SUMMARY:Buzz'd Trivia
DESCRIPTION:Buzz’d is the exciting new music quiz which combines the thrill of a gameshow and the joy of a full pub sing-a-long. \nEach team has the opportunity to buzz in and show off their music knowledge – if they get it correct the song will jump directly to the chorus and every player has the opportunity to celebrate and sing their hearts out. \nWith incredible banter and hilarious rivalries\, come along and show us what you’ve got and win prizes! \nReserve your seat BOOK NOW! \n 
URL:https://sharksclub.com.au/event/buzzd-trivia/2025-12-04/
LOCATION:Vic Point Sharks\, 325 Colburn Avenue\, Victoria Point\, QLD\, 4165\, Australia
CATEGORIES:All,Entertainment,Special Events,Trivia,Weekly Activities
ATTACH;FMTTYPE=image/png:https://sharksclub.com.au/wp-content/uploads/2025/11/Buzzd-Music-Trivia-Featured-Event-2.png
END:VEVENT
BEGIN:VEVENT
DTSTART;TZID=Australia/Brisbane:20251209T190000
DTEND;TZID=Australia/Brisbane:20251209T210000
DTSTAMP:20260424T002818
CREATED:20240715T041022Z
LAST-MODIFIED:20260330T232956Z
UID:10050524-1765306800-1765314000@sharksclub.com.au
SUMMARY:Tuesday Bingo - $1\,000 & $1\,500 Jackpots!!
DESCRIPTION:Tuesday Bingo at the Sharks is HUGE! \nJoin us for a fun-filled evening of Bingo every Tuesday in our comfortable\, air-conditioned Function Room. \nGet settled at 6pm for a 7pm eyes-down. We have complimentary self-serve tea and coffee available\, or why not order dinner from Zest Bistro? \nHeaps of Prizes including our 2 x MAJOR JACKPOTS of $1\,000 and $1\,500 each week! \nYou can even book our Member’s Courtesy Bus if you do not wish to drive BOOK NOW! \nAll funds raised go towards the LEUKAEMIA FOUNDATION
URL:https://sharksclub.com.au/event/tuesday-bingo/2025-12-09/
LOCATION:Vic Point Sharks\, 325 Colburn Avenue\, Victoria Point\, QLD\, 4165\, Australia
CATEGORIES:All,Bingo,Weekly Activities
ATTACH;FMTTYPE=image/png:https://sharksclub.com.au/wp-content/uploads/2024/07/1-1.png
END:VEVENT
BEGIN:VEVENT
DTSTART;TZID=Australia/Brisbane:20251210T103000
DTEND;TZID=Australia/Brisbane:20251210T130000
DTSTAMP:20260424T002818
CREATED:20240715T035954Z
LAST-MODIFIED:20260211T040326Z
UID:10048830-1765362600-1765371600@sharksclub.com.au
SUMMARY:Wednesday Bingo
DESCRIPTION:Wednesday Bingo at the Sharks! \nJoin us for a fun-filled Bingo morning every Wednesday in our comfortable\, air-conditioned Function Room. \nCome early and enjoy a great time with fellow Bingo enthusiasts! \nOur Members Courtesy Bus is also available if you do not wish to drive BOOK NOW! \n~ All funds raised help support our Sharks Football teams ~
URL:https://sharksclub.com.au/event/wednesday-bingo/2025-12-10/
LOCATION:Vic Point Sharks\, 325 Colburn Avenue\, Victoria Point\, QLD\, 4165\, Australia
CATEGORIES:All,Bingo,Weekly Activities
ATTACH;FMTTYPE=image/png:https://sharksclub.com.au/wp-content/uploads/2024/07/Bingo-Featured-Image.png
END:VEVENT
BEGIN:VEVENT
DTSTART;TZID=Australia/Brisbane:20251211T190000
DTEND;TZID=Australia/Brisbane:20251211T210000
DTSTAMP:20260424T002818
CREATED:20251117T054651Z
LAST-MODIFIED:20251201T055839Z
UID:10043946-1765479600-1765486800@sharksclub.com.au
SUMMARY:Buzz'd Trivia
DESCRIPTION:Buzz’d is the exciting new music quiz which combines the thrill of a gameshow and the joy of a full pub sing-a-long. \nEach team has the opportunity to buzz in and show off their music knowledge – if they get it correct the song will jump directly to the chorus and every player has the opportunity to celebrate and sing their hearts out. \nWith incredible banter and hilarious rivalries\, come along and show us what you’ve got and win prizes! \nReserve your seat BOOK NOW! \n 
URL:https://sharksclub.com.au/event/buzzd-trivia/2025-12-11/
LOCATION:Vic Point Sharks\, 325 Colburn Avenue\, Victoria Point\, QLD\, 4165\, Australia
CATEGORIES:All,Entertainment,Special Events,Trivia,Weekly Activities
ATTACH;FMTTYPE=image/png:https://sharksclub.com.au/wp-content/uploads/2025/11/Buzzd-Music-Trivia-Featured-Event-2.png
END:VEVENT
BEGIN:VEVENT
DTSTART;TZID=Australia/Brisbane:20251216T190000
DTEND;TZID=Australia/Brisbane:20251216T210000
DTSTAMP:20260424T002818
CREATED:20240715T041022Z
LAST-MODIFIED:20260330T232956Z
UID:10050525-1765911600-1765918800@sharksclub.com.au
SUMMARY:Tuesday Bingo - $1\,000 & $1\,500 Jackpots!!
DESCRIPTION:Tuesday Bingo at the Sharks is HUGE! \nJoin us for a fun-filled evening of Bingo every Tuesday in our comfortable\, air-conditioned Function Room. \nGet settled at 6pm for a 7pm eyes-down. We have complimentary self-serve tea and coffee available\, or why not order dinner from Zest Bistro? \nHeaps of Prizes including our 2 x MAJOR JACKPOTS of $1\,000 and $1\,500 each week! \nYou can even book our Member’s Courtesy Bus if you do not wish to drive BOOK NOW! \nAll funds raised go towards the LEUKAEMIA FOUNDATION
URL:https://sharksclub.com.au/event/tuesday-bingo/2025-12-16/
LOCATION:Vic Point Sharks\, 325 Colburn Avenue\, Victoria Point\, QLD\, 4165\, Australia
CATEGORIES:All,Bingo,Weekly Activities
ATTACH;FMTTYPE=image/png:https://sharksclub.com.au/wp-content/uploads/2024/07/1-1.png
END:VEVENT
BEGIN:VEVENT
DTSTART;TZID=Australia/Brisbane:20251217T103000
DTEND;TZID=Australia/Brisbane:20251217T130000
DTSTAMP:20260424T002818
CREATED:20240715T035954Z
LAST-MODIFIED:20260211T040326Z
UID:10048831-1765967400-1765976400@sharksclub.com.au
SUMMARY:Wednesday Bingo
DESCRIPTION:Wednesday Bingo at the Sharks! \nJoin us for a fun-filled Bingo morning every Wednesday in our comfortable\, air-conditioned Function Room. \nCome early and enjoy a great time with fellow Bingo enthusiasts! \nOur Members Courtesy Bus is also available if you do not wish to drive BOOK NOW! \n~ All funds raised help support our Sharks Football teams ~
URL:https://sharksclub.com.au/event/wednesday-bingo/2025-12-17/
LOCATION:Vic Point Sharks\, 325 Colburn Avenue\, Victoria Point\, QLD\, 4165\, Australia
CATEGORIES:All,Bingo,Weekly Activities
ATTACH;FMTTYPE=image/png:https://sharksclub.com.au/wp-content/uploads/2024/07/Bingo-Featured-Image.png
END:VEVENT
END:VCALENDAR