BEGIN:VCALENDAR
VERSION:2.0
PRODID:-//Victoria Point Sharks Sporting Club - ECPv6.15.20//NONSGML v1.0//EN
CALSCALE:GREGORIAN
METHOD:PUBLISH
X-WR-CALNAME:Victoria Point Sharks Sporting Club
X-ORIGINAL-URL:https://sharksclub.com.au
X-WR-CALDESC:Events for Victoria Point Sharks Sporting Club
REFRESH-INTERVAL;VALUE=DURATION:PT1H
X-Robots-Tag:noindex
X-PUBLISHED-TTL:PT1H
BEGIN:VTIMEZONE
TZID:Australia/Brisbane
BEGIN:STANDARD
TZOFFSETFROM:+1000
TZOFFSETTO:+1000
TZNAME:AEST
DTSTART:20270101T000000
END:STANDARD
END:VTIMEZONE
BEGIN:VEVENT
DTSTART;TZID=Australia/Brisbane:20280602T103000
DTEND;TZID=Australia/Brisbane:20280602T130000
DTSTAMP:20260425T233726
CREATED:20260118T103230Z
LAST-MODIFIED:20260211T030946Z
UID:10048646-1843554600-1843563600@sharksclub.com.au
SUMMARY:Friday Bingo
DESCRIPTION:Friday Bingo at the Sharks! \nJoin us for a fun-filled Bingo morning every Friday in our comfortable\, air-conditioned Function Room. \nCome early and enjoy a great time with fellow Bingo enthusiasts! \nOur Member’s Courtesy Bus is also available if you do not wish to drive BOOK NOW! \n~ All funds raised help support our Sharks Football teams ~
URL:https://sharksclub.com.au/event/friday-bingo-6/2028-06-02/
LOCATION:Function Room\, 325 Colburn Avenue\, Victoria Point\, QLD\, 4165\, Australia
CATEGORIES:All,Bingo,Weekly Activities
ATTACH;FMTTYPE=image/png:https://sharksclub.com.au/wp-content/uploads/2024/07/Bingo-Featured-Image-1.png
END:VEVENT
BEGIN:VEVENT
DTSTART;TZID=Australia/Brisbane:20280605T173000
DTEND;TZID=Australia/Brisbane:20280605T200000
DTSTAMP:20260425T233726
CREATED:20240715T043131Z
LAST-MODIFIED:20260128T055847Z
UID:10048299-1843839000-1843848000@sharksclub.com.au
SUMMARY:Monday Kids Eat Free
DESCRIPTION:Unleash the Family Fun on Monday Nights! \nTreat the whole crew to a delicious dinner at Zest Bistro every Monday night\, where kids eat FREE! Receive a free kids meal with the purchase of an adult main meal. \nIndulge in our mouthwatering menu while the little ones enjoy their favorite dishes on us. \nDinner service kicks off at 5:30pm. The big kids can make the most of our $22 Steak Night special\, also available every Monday night! \n*not available Public Holidays* \nReserve a table BOOK NOW!
URL:https://sharksclub.com.au/event/kids-eat-free/2028-06-05/
LOCATION:Zest Bistro at The Sharks\, 325 Colburn Avenue\, Victoria Point\, QLD\, 4165\, Australia
CATEGORIES:All,Kids,Meal Specials
ATTACH;FMTTYPE=image/png:https://sharksclub.com.au/wp-content/uploads/2024/07/Kids-Eat-Free-School-Hols-Featured-Image-1.png
END:VEVENT
BEGIN:VEVENT
DTSTART;TZID=Australia/Brisbane:20280606T190000
DTEND;TZID=Australia/Brisbane:20280606T210000
DTSTAMP:20260425T233726
CREATED:20240715T041022Z
LAST-MODIFIED:20260330T232956Z
UID:10050648-1843930800-1843938000@sharksclub.com.au
SUMMARY:Tuesday Bingo - $1\,000 & $1\,500 Jackpots!!
DESCRIPTION:Tuesday Bingo at the Sharks is HUGE! \nJoin us for a fun-filled evening of Bingo every Tuesday in our comfortable\, air-conditioned Function Room. \nGet settled at 6pm for a 7pm eyes-down. We have complimentary self-serve tea and coffee available\, or why not order dinner from Zest Bistro? \nHeaps of Prizes including our 2 x MAJOR JACKPOTS of $1\,000 and $1\,500 each week! \nYou can even book our Member’s Courtesy Bus if you do not wish to drive BOOK NOW! \nAll funds raised go towards the LEUKAEMIA FOUNDATION
URL:https://sharksclub.com.au/event/tuesday-bingo/2028-06-06/
LOCATION:Vic Point Sharks\, 325 Colburn Avenue\, Victoria Point\, QLD\, 4165\, Australia
CATEGORIES:All,Bingo,Weekly Activities
ATTACH;FMTTYPE=image/png:https://sharksclub.com.au/wp-content/uploads/2024/07/1-1.png
END:VEVENT
BEGIN:VEVENT
DTSTART;TZID=Australia/Brisbane:20280607T103000
DTEND;TZID=Australia/Brisbane:20280607T130000
DTSTAMP:20260425T233726
CREATED:20240715T035954Z
LAST-MODIFIED:20260211T040326Z
UID:10048958-1843986600-1843995600@sharksclub.com.au
SUMMARY:Wednesday Bingo
DESCRIPTION:Wednesday Bingo at the Sharks! \nJoin us for a fun-filled Bingo morning every Wednesday in our comfortable\, air-conditioned Function Room. \nCome early and enjoy a great time with fellow Bingo enthusiasts! \nOur Members Courtesy Bus is also available if you do not wish to drive BOOK NOW! \n~ All funds raised help support our Sharks Football teams ~
URL:https://sharksclub.com.au/event/wednesday-bingo/2028-06-07/
LOCATION:Vic Point Sharks\, 325 Colburn Avenue\, Victoria Point\, QLD\, 4165\, Australia
CATEGORIES:All,Bingo,Weekly Activities
ATTACH;FMTTYPE=image/png:https://sharksclub.com.au/wp-content/uploads/2024/07/Bingo-Featured-Image.png
END:VEVENT
BEGIN:VEVENT
DTSTART;TZID=Australia/Brisbane:20280609T103000
DTEND;TZID=Australia/Brisbane:20280609T130000
DTSTAMP:20260425T233726
CREATED:20260118T103230Z
LAST-MODIFIED:20260211T030946Z
UID:10048647-1844159400-1844168400@sharksclub.com.au
SUMMARY:Friday Bingo
DESCRIPTION:Friday Bingo at the Sharks! \nJoin us for a fun-filled Bingo morning every Friday in our comfortable\, air-conditioned Function Room. \nCome early and enjoy a great time with fellow Bingo enthusiasts! \nOur Member’s Courtesy Bus is also available if you do not wish to drive BOOK NOW! \n~ All funds raised help support our Sharks Football teams ~
URL:https://sharksclub.com.au/event/friday-bingo-6/2028-06-09/
LOCATION:Function Room\, 325 Colburn Avenue\, Victoria Point\, QLD\, 4165\, Australia
CATEGORIES:All,Bingo,Weekly Activities
ATTACH;FMTTYPE=image/png:https://sharksclub.com.au/wp-content/uploads/2024/07/Bingo-Featured-Image-1.png
END:VEVENT
BEGIN:VEVENT
DTSTART;TZID=Australia/Brisbane:20280612T173000
DTEND;TZID=Australia/Brisbane:20280612T200000
DTSTAMP:20260425T233726
CREATED:20240715T043131Z
LAST-MODIFIED:20260128T055847Z
UID:10048300-1844443800-1844452800@sharksclub.com.au
SUMMARY:Monday Kids Eat Free
DESCRIPTION:Unleash the Family Fun on Monday Nights! \nTreat the whole crew to a delicious dinner at Zest Bistro every Monday night\, where kids eat FREE! Receive a free kids meal with the purchase of an adult main meal. \nIndulge in our mouthwatering menu while the little ones enjoy their favorite dishes on us. \nDinner service kicks off at 5:30pm. The big kids can make the most of our $22 Steak Night special\, also available every Monday night! \n*not available Public Holidays* \nReserve a table BOOK NOW!
URL:https://sharksclub.com.au/event/kids-eat-free/2028-06-12/
LOCATION:Zest Bistro at The Sharks\, 325 Colburn Avenue\, Victoria Point\, QLD\, 4165\, Australia
CATEGORIES:All,Kids,Meal Specials
ATTACH;FMTTYPE=image/png:https://sharksclub.com.au/wp-content/uploads/2024/07/Kids-Eat-Free-School-Hols-Featured-Image-1.png
END:VEVENT
BEGIN:VEVENT
DTSTART;TZID=Australia/Brisbane:20280613T190000
DTEND;TZID=Australia/Brisbane:20280613T210000
DTSTAMP:20260425T233726
CREATED:20240715T041022Z
LAST-MODIFIED:20260330T232956Z
UID:10050649-1844535600-1844542800@sharksclub.com.au
SUMMARY:Tuesday Bingo - $1\,000 & $1\,500 Jackpots!!
DESCRIPTION:Tuesday Bingo at the Sharks is HUGE! \nJoin us for a fun-filled evening of Bingo every Tuesday in our comfortable\, air-conditioned Function Room. \nGet settled at 6pm for a 7pm eyes-down. We have complimentary self-serve tea and coffee available\, or why not order dinner from Zest Bistro? \nHeaps of Prizes including our 2 x MAJOR JACKPOTS of $1\,000 and $1\,500 each week! \nYou can even book our Member’s Courtesy Bus if you do not wish to drive BOOK NOW! \nAll funds raised go towards the LEUKAEMIA FOUNDATION
URL:https://sharksclub.com.au/event/tuesday-bingo/2028-06-13/
LOCATION:Vic Point Sharks\, 325 Colburn Avenue\, Victoria Point\, QLD\, 4165\, Australia
CATEGORIES:All,Bingo,Weekly Activities
ATTACH;FMTTYPE=image/png:https://sharksclub.com.au/wp-content/uploads/2024/07/1-1.png
END:VEVENT
BEGIN:VEVENT
DTSTART;TZID=Australia/Brisbane:20280614T103000
DTEND;TZID=Australia/Brisbane:20280614T130000
DTSTAMP:20260425T233726
CREATED:20240715T035954Z
LAST-MODIFIED:20260211T040326Z
UID:10048959-1844591400-1844600400@sharksclub.com.au
SUMMARY:Wednesday Bingo
DESCRIPTION:Wednesday Bingo at the Sharks! \nJoin us for a fun-filled Bingo morning every Wednesday in our comfortable\, air-conditioned Function Room. \nCome early and enjoy a great time with fellow Bingo enthusiasts! \nOur Members Courtesy Bus is also available if you do not wish to drive BOOK NOW! \n~ All funds raised help support our Sharks Football teams ~
URL:https://sharksclub.com.au/event/wednesday-bingo/2028-06-14/
LOCATION:Vic Point Sharks\, 325 Colburn Avenue\, Victoria Point\, QLD\, 4165\, Australia
CATEGORIES:All,Bingo,Weekly Activities
ATTACH;FMTTYPE=image/png:https://sharksclub.com.au/wp-content/uploads/2024/07/Bingo-Featured-Image.png
END:VEVENT
BEGIN:VEVENT
DTSTART;TZID=Australia/Brisbane:20280616T103000
DTEND;TZID=Australia/Brisbane:20280616T130000
DTSTAMP:20260425T233726
CREATED:20260118T103230Z
LAST-MODIFIED:20260211T030946Z
UID:10048648-1844764200-1844773200@sharksclub.com.au
SUMMARY:Friday Bingo
DESCRIPTION:Friday Bingo at the Sharks! \nJoin us for a fun-filled Bingo morning every Friday in our comfortable\, air-conditioned Function Room. \nCome early and enjoy a great time with fellow Bingo enthusiasts! \nOur Member’s Courtesy Bus is also available if you do not wish to drive BOOK NOW! \n~ All funds raised help support our Sharks Football teams ~
URL:https://sharksclub.com.au/event/friday-bingo-6/2028-06-16/
LOCATION:Function Room\, 325 Colburn Avenue\, Victoria Point\, QLD\, 4165\, Australia
CATEGORIES:All,Bingo,Weekly Activities
ATTACH;FMTTYPE=image/png:https://sharksclub.com.au/wp-content/uploads/2024/07/Bingo-Featured-Image-1.png
END:VEVENT
BEGIN:VEVENT
DTSTART;TZID=Australia/Brisbane:20280619T173000
DTEND;TZID=Australia/Brisbane:20280619T200000
DTSTAMP:20260425T233726
CREATED:20240715T043131Z
LAST-MODIFIED:20260128T055847Z
UID:10048301-1845048600-1845057600@sharksclub.com.au
SUMMARY:Monday Kids Eat Free
DESCRIPTION:Unleash the Family Fun on Monday Nights! \nTreat the whole crew to a delicious dinner at Zest Bistro every Monday night\, where kids eat FREE! Receive a free kids meal with the purchase of an adult main meal. \nIndulge in our mouthwatering menu while the little ones enjoy their favorite dishes on us. \nDinner service kicks off at 5:30pm. The big kids can make the most of our $22 Steak Night special\, also available every Monday night! \n*not available Public Holidays* \nReserve a table BOOK NOW!
URL:https://sharksclub.com.au/event/kids-eat-free/2028-06-19/
LOCATION:Zest Bistro at The Sharks\, 325 Colburn Avenue\, Victoria Point\, QLD\, 4165\, Australia
CATEGORIES:All,Kids,Meal Specials
ATTACH;FMTTYPE=image/png:https://sharksclub.com.au/wp-content/uploads/2024/07/Kids-Eat-Free-School-Hols-Featured-Image-1.png
END:VEVENT
BEGIN:VEVENT
DTSTART;TZID=Australia/Brisbane:20280620T190000
DTEND;TZID=Australia/Brisbane:20280620T210000
DTSTAMP:20260425T233726
CREATED:20240715T041022Z
LAST-MODIFIED:20260330T232956Z
UID:10050650-1845140400-1845147600@sharksclub.com.au
SUMMARY:Tuesday Bingo - $1\,000 & $1\,500 Jackpots!!
DESCRIPTION:Tuesday Bingo at the Sharks is HUGE! \nJoin us for a fun-filled evening of Bingo every Tuesday in our comfortable\, air-conditioned Function Room. \nGet settled at 6pm for a 7pm eyes-down. We have complimentary self-serve tea and coffee available\, or why not order dinner from Zest Bistro? \nHeaps of Prizes including our 2 x MAJOR JACKPOTS of $1\,000 and $1\,500 each week! \nYou can even book our Member’s Courtesy Bus if you do not wish to drive BOOK NOW! \nAll funds raised go towards the LEUKAEMIA FOUNDATION
URL:https://sharksclub.com.au/event/tuesday-bingo/2028-06-20/
LOCATION:Vic Point Sharks\, 325 Colburn Avenue\, Victoria Point\, QLD\, 4165\, Australia
CATEGORIES:All,Bingo,Weekly Activities
ATTACH;FMTTYPE=image/png:https://sharksclub.com.au/wp-content/uploads/2024/07/1-1.png
END:VEVENT
BEGIN:VEVENT
DTSTART;TZID=Australia/Brisbane:20280621T103000
DTEND;TZID=Australia/Brisbane:20280621T130000
DTSTAMP:20260425T233726
CREATED:20240715T035954Z
LAST-MODIFIED:20260211T040326Z
UID:10048960-1845196200-1845205200@sharksclub.com.au
SUMMARY:Wednesday Bingo
DESCRIPTION:Wednesday Bingo at the Sharks! \nJoin us for a fun-filled Bingo morning every Wednesday in our comfortable\, air-conditioned Function Room. \nCome early and enjoy a great time with fellow Bingo enthusiasts! \nOur Members Courtesy Bus is also available if you do not wish to drive BOOK NOW! \n~ All funds raised help support our Sharks Football teams ~
URL:https://sharksclub.com.au/event/wednesday-bingo/2028-06-21/
LOCATION:Vic Point Sharks\, 325 Colburn Avenue\, Victoria Point\, QLD\, 4165\, Australia
CATEGORIES:All,Bingo,Weekly Activities
ATTACH;FMTTYPE=image/png:https://sharksclub.com.au/wp-content/uploads/2024/07/Bingo-Featured-Image.png
END:VEVENT
BEGIN:VEVENT
DTSTART;TZID=Australia/Brisbane:20280623T103000
DTEND;TZID=Australia/Brisbane:20280623T130000
DTSTAMP:20260425T233726
CREATED:20260118T103230Z
LAST-MODIFIED:20260211T030946Z
UID:10048649-1845369000-1845378000@sharksclub.com.au
SUMMARY:Friday Bingo
DESCRIPTION:Friday Bingo at the Sharks! \nJoin us for a fun-filled Bingo morning every Friday in our comfortable\, air-conditioned Function Room. \nCome early and enjoy a great time with fellow Bingo enthusiasts! \nOur Member’s Courtesy Bus is also available if you do not wish to drive BOOK NOW! \n~ All funds raised help support our Sharks Football teams ~
URL:https://sharksclub.com.au/event/friday-bingo-6/2028-06-23/
LOCATION:Function Room\, 325 Colburn Avenue\, Victoria Point\, QLD\, 4165\, Australia
CATEGORIES:All,Bingo,Weekly Activities
ATTACH;FMTTYPE=image/png:https://sharksclub.com.au/wp-content/uploads/2024/07/Bingo-Featured-Image-1.png
END:VEVENT
BEGIN:VEVENT
DTSTART;TZID=Australia/Brisbane:20280626T173000
DTEND;TZID=Australia/Brisbane:20280626T200000
DTSTAMP:20260425T233726
CREATED:20240715T043131Z
LAST-MODIFIED:20260128T055847Z
UID:10048302-1845653400-1845662400@sharksclub.com.au
SUMMARY:Monday Kids Eat Free
DESCRIPTION:Unleash the Family Fun on Monday Nights! \nTreat the whole crew to a delicious dinner at Zest Bistro every Monday night\, where kids eat FREE! Receive a free kids meal with the purchase of an adult main meal. \nIndulge in our mouthwatering menu while the little ones enjoy their favorite dishes on us. \nDinner service kicks off at 5:30pm. The big kids can make the most of our $22 Steak Night special\, also available every Monday night! \n*not available Public Holidays* \nReserve a table BOOK NOW!
URL:https://sharksclub.com.au/event/kids-eat-free/2028-06-26/
LOCATION:Zest Bistro at The Sharks\, 325 Colburn Avenue\, Victoria Point\, QLD\, 4165\, Australia
CATEGORIES:All,Kids,Meal Specials
ATTACH;FMTTYPE=image/png:https://sharksclub.com.au/wp-content/uploads/2024/07/Kids-Eat-Free-School-Hols-Featured-Image-1.png
END:VEVENT
BEGIN:VEVENT
DTSTART;TZID=Australia/Brisbane:20280627T190000
DTEND;TZID=Australia/Brisbane:20280627T210000
DTSTAMP:20260425T233726
CREATED:20240715T041022Z
LAST-MODIFIED:20260330T232956Z
UID:10050651-1845745200-1845752400@sharksclub.com.au
SUMMARY:Tuesday Bingo - $1\,000 & $1\,500 Jackpots!!
DESCRIPTION:Tuesday Bingo at the Sharks is HUGE! \nJoin us for a fun-filled evening of Bingo every Tuesday in our comfortable\, air-conditioned Function Room. \nGet settled at 6pm for a 7pm eyes-down. We have complimentary self-serve tea and coffee available\, or why not order dinner from Zest Bistro? \nHeaps of Prizes including our 2 x MAJOR JACKPOTS of $1\,000 and $1\,500 each week! \nYou can even book our Member’s Courtesy Bus if you do not wish to drive BOOK NOW! \nAll funds raised go towards the LEUKAEMIA FOUNDATION
URL:https://sharksclub.com.au/event/tuesday-bingo/2028-06-27/
LOCATION:Vic Point Sharks\, 325 Colburn Avenue\, Victoria Point\, QLD\, 4165\, Australia
CATEGORIES:All,Bingo,Weekly Activities
ATTACH;FMTTYPE=image/png:https://sharksclub.com.au/wp-content/uploads/2024/07/1-1.png
END:VEVENT
BEGIN:VEVENT
DTSTART;TZID=Australia/Brisbane:20280628T103000
DTEND;TZID=Australia/Brisbane:20280628T130000
DTSTAMP:20260425T233726
CREATED:20240715T035954Z
LAST-MODIFIED:20260211T040326Z
UID:10048961-1845801000-1845810000@sharksclub.com.au
SUMMARY:Wednesday Bingo
DESCRIPTION:Wednesday Bingo at the Sharks! \nJoin us for a fun-filled Bingo morning every Wednesday in our comfortable\, air-conditioned Function Room. \nCome early and enjoy a great time with fellow Bingo enthusiasts! \nOur Members Courtesy Bus is also available if you do not wish to drive BOOK NOW! \n~ All funds raised help support our Sharks Football teams ~
URL:https://sharksclub.com.au/event/wednesday-bingo/2028-06-28/
LOCATION:Vic Point Sharks\, 325 Colburn Avenue\, Victoria Point\, QLD\, 4165\, Australia
CATEGORIES:All,Bingo,Weekly Activities
ATTACH;FMTTYPE=image/png:https://sharksclub.com.au/wp-content/uploads/2024/07/Bingo-Featured-Image.png
END:VEVENT
BEGIN:VEVENT
DTSTART;TZID=Australia/Brisbane:20280630T103000
DTEND;TZID=Australia/Brisbane:20280630T130000
DTSTAMP:20260425T233726
CREATED:20260118T103230Z
LAST-MODIFIED:20260211T030946Z
UID:10048650-1845973800-1845982800@sharksclub.com.au
SUMMARY:Friday Bingo
DESCRIPTION:Friday Bingo at the Sharks! \nJoin us for a fun-filled Bingo morning every Friday in our comfortable\, air-conditioned Function Room. \nCome early and enjoy a great time with fellow Bingo enthusiasts! \nOur Member’s Courtesy Bus is also available if you do not wish to drive BOOK NOW! \n~ All funds raised help support our Sharks Football teams ~
URL:https://sharksclub.com.au/event/friday-bingo-6/2028-06-30/
LOCATION:Function Room\, 325 Colburn Avenue\, Victoria Point\, QLD\, 4165\, Australia
CATEGORIES:All,Bingo,Weekly Activities
ATTACH;FMTTYPE=image/png:https://sharksclub.com.au/wp-content/uploads/2024/07/Bingo-Featured-Image-1.png
END:VEVENT
END:VCALENDAR