BEGIN:VCALENDAR
VERSION:2.0
PRODID:-//Victoria Point Sharks Sporting Club - ECPv6.15.20//NONSGML v1.0//EN
CALSCALE:GREGORIAN
METHOD:PUBLISH
X-WR-CALNAME:Victoria Point Sharks Sporting Club
X-ORIGINAL-URL:https://sharksclub.com.au
X-WR-CALDESC:Events for Victoria Point Sharks Sporting Club
REFRESH-INTERVAL;VALUE=DURATION:PT1H
X-Robots-Tag:noindex
X-PUBLISHED-TTL:PT1H
BEGIN:VTIMEZONE
TZID:Australia/Brisbane
BEGIN:STANDARD
TZOFFSETFROM:+1000
TZOFFSETTO:+1000
TZNAME:AEST
DTSTART:20240101T000000
END:STANDARD
END:VTIMEZONE
BEGIN:VEVENT
DTSTART;TZID=Australia/Brisbane:20250722T190000
DTEND;TZID=Australia/Brisbane:20250722T210000
DTSTAMP:20260424T130832
CREATED:20240715T041022Z
LAST-MODIFIED:20260330T232956Z
UID:10050504-1753210800-1753218000@sharksclub.com.au
SUMMARY:Tuesday Bingo - $1\,000 & $1\,500 Jackpots!!
DESCRIPTION:Tuesday Bingo at the Sharks is HUGE! \nJoin us for a fun-filled evening of Bingo every Tuesday in our comfortable\, air-conditioned Function Room. \nGet settled at 6pm for a 7pm eyes-down. We have complimentary self-serve tea and coffee available\, or why not order dinner from Zest Bistro? \nHeaps of Prizes including our 2 x MAJOR JACKPOTS of $1\,000 and $1\,500 each week! \nYou can even book our Member’s Courtesy Bus if you do not wish to drive BOOK NOW! \nAll funds raised go towards the LEUKAEMIA FOUNDATION
URL:https://sharksclub.com.au/event/tuesday-bingo/2025-07-22/
LOCATION:Vic Point Sharks\, 325 Colburn Avenue\, Victoria Point\, QLD\, 4165\, Australia
CATEGORIES:All,Bingo,Weekly Activities
ATTACH;FMTTYPE=image/png:https://sharksclub.com.au/wp-content/uploads/2024/07/1-1.png
END:VEVENT
BEGIN:VEVENT
DTSTART;TZID=Australia/Brisbane:20250723T103000
DTEND;TZID=Australia/Brisbane:20250723T130000
DTSTAMP:20260424T130832
CREATED:20240715T035954Z
LAST-MODIFIED:20260211T040326Z
UID:10048810-1753266600-1753275600@sharksclub.com.au
SUMMARY:Wednesday Bingo
DESCRIPTION:Wednesday Bingo at the Sharks! \nJoin us for a fun-filled Bingo morning every Wednesday in our comfortable\, air-conditioned Function Room. \nCome early and enjoy a great time with fellow Bingo enthusiasts! \nOur Members Courtesy Bus is also available if you do not wish to drive BOOK NOW! \n~ All funds raised help support our Sharks Football teams ~
URL:https://sharksclub.com.au/event/wednesday-bingo/2025-07-23/
LOCATION:Vic Point Sharks\, 325 Colburn Avenue\, Victoria Point\, QLD\, 4165\, Australia
CATEGORIES:All,Bingo,Weekly Activities
ATTACH;FMTTYPE=image/png:https://sharksclub.com.au/wp-content/uploads/2024/07/Bingo-Featured-Image.png
END:VEVENT
BEGIN:VEVENT
DTSTART;TZID=Australia/Brisbane:20250723T183000
DTEND;TZID=Australia/Brisbane:20250723T193000
DTSTAMP:20260424T130832
CREATED:20240724T033640Z
LAST-MODIFIED:20240729T224627Z
UID:10023049-1753295400-1753299000@sharksclub.com.au
SUMMARY:Trivia
DESCRIPTION:Think you’re a trivia master? \nThen come and join us every Wednesday & Thursday night and get ready to challenge your mind! \nWe have plenty of prizes to be won! \nAndrew Nasan hosts every Wednesday\, Mike Van Acker every Thursday.
URL:https://sharksclub.com.au/event/trivia/2025-07-23/
LOCATION:Vic Point Sharks\, 325 Colburn Avenue\, Victoria Point\, QLD\, 4165\, Australia
CATEGORIES:All,Trivia,Weekly Activities
ATTACH;FMTTYPE=image/jpeg:https://sharksclub.com.au/wp-content/uploads/2024/07/Trivia-Wed-Thurs-FEATURED-IMAGE.jpg
END:VEVENT
BEGIN:VEVENT
DTSTART;TZID=Australia/Brisbane:20250724T183000
DTEND;TZID=Australia/Brisbane:20250724T193000
DTSTAMP:20260424T130832
CREATED:20240724T033640Z
LAST-MODIFIED:20240729T224627Z
UID:10023050-1753381800-1753385400@sharksclub.com.au
SUMMARY:Trivia
DESCRIPTION:Think you’re a trivia master? \nThen come and join us every Wednesday & Thursday night and get ready to challenge your mind! \nWe have plenty of prizes to be won! \nAndrew Nasan hosts every Wednesday\, Mike Van Acker every Thursday.
URL:https://sharksclub.com.au/event/trivia/2025-07-24/
LOCATION:Vic Point Sharks\, 325 Colburn Avenue\, Victoria Point\, QLD\, 4165\, Australia
CATEGORIES:All,Trivia,Weekly Activities
ATTACH;FMTTYPE=image/jpeg:https://sharksclub.com.au/wp-content/uploads/2024/07/Trivia-Wed-Thurs-FEATURED-IMAGE.jpg
END:VEVENT
BEGIN:VEVENT
DTSTART;TZID=Australia/Brisbane:20250729T190000
DTEND;TZID=Australia/Brisbane:20250729T210000
DTSTAMP:20260424T130832
CREATED:20240715T041022Z
LAST-MODIFIED:20260330T232956Z
UID:10050505-1753815600-1753822800@sharksclub.com.au
SUMMARY:Tuesday Bingo - $1\,000 & $1\,500 Jackpots!!
DESCRIPTION:Tuesday Bingo at the Sharks is HUGE! \nJoin us for a fun-filled evening of Bingo every Tuesday in our comfortable\, air-conditioned Function Room. \nGet settled at 6pm for a 7pm eyes-down. We have complimentary self-serve tea and coffee available\, or why not order dinner from Zest Bistro? \nHeaps of Prizes including our 2 x MAJOR JACKPOTS of $1\,000 and $1\,500 each week! \nYou can even book our Member’s Courtesy Bus if you do not wish to drive BOOK NOW! \nAll funds raised go towards the LEUKAEMIA FOUNDATION
URL:https://sharksclub.com.au/event/tuesday-bingo/2025-07-29/
LOCATION:Vic Point Sharks\, 325 Colburn Avenue\, Victoria Point\, QLD\, 4165\, Australia
CATEGORIES:All,Bingo,Weekly Activities
ATTACH;FMTTYPE=image/png:https://sharksclub.com.au/wp-content/uploads/2024/07/1-1.png
END:VEVENT
BEGIN:VEVENT
DTSTART;TZID=Australia/Brisbane:20250730T103000
DTEND;TZID=Australia/Brisbane:20250730T130000
DTSTAMP:20260424T130832
CREATED:20240715T035954Z
LAST-MODIFIED:20260211T040326Z
UID:10048811-1753871400-1753880400@sharksclub.com.au
SUMMARY:Wednesday Bingo
DESCRIPTION:Wednesday Bingo at the Sharks! \nJoin us for a fun-filled Bingo morning every Wednesday in our comfortable\, air-conditioned Function Room. \nCome early and enjoy a great time with fellow Bingo enthusiasts! \nOur Members Courtesy Bus is also available if you do not wish to drive BOOK NOW! \n~ All funds raised help support our Sharks Football teams ~
URL:https://sharksclub.com.au/event/wednesday-bingo/2025-07-30/
LOCATION:Vic Point Sharks\, 325 Colburn Avenue\, Victoria Point\, QLD\, 4165\, Australia
CATEGORIES:All,Bingo,Weekly Activities
ATTACH;FMTTYPE=image/png:https://sharksclub.com.au/wp-content/uploads/2024/07/Bingo-Featured-Image.png
END:VEVENT
BEGIN:VEVENT
DTSTART;TZID=Australia/Brisbane:20250730T183000
DTEND;TZID=Australia/Brisbane:20250730T193000
DTSTAMP:20260424T130832
CREATED:20240724T033640Z
LAST-MODIFIED:20240729T224627Z
UID:10023051-1753900200-1753903800@sharksclub.com.au
SUMMARY:Trivia
DESCRIPTION:Think you’re a trivia master? \nThen come and join us every Wednesday & Thursday night and get ready to challenge your mind! \nWe have plenty of prizes to be won! \nAndrew Nasan hosts every Wednesday\, Mike Van Acker every Thursday.
URL:https://sharksclub.com.au/event/trivia/2025-07-30/
LOCATION:Vic Point Sharks\, 325 Colburn Avenue\, Victoria Point\, QLD\, 4165\, Australia
CATEGORIES:All,Trivia,Weekly Activities
ATTACH;FMTTYPE=image/jpeg:https://sharksclub.com.au/wp-content/uploads/2024/07/Trivia-Wed-Thurs-FEATURED-IMAGE.jpg
END:VEVENT
BEGIN:VEVENT
DTSTART;TZID=Australia/Brisbane:20250731T183000
DTEND;TZID=Australia/Brisbane:20250731T193000
DTSTAMP:20260424T130832
CREATED:20240724T033640Z
LAST-MODIFIED:20240729T224627Z
UID:10023052-1753986600-1753990200@sharksclub.com.au
SUMMARY:Trivia
DESCRIPTION:Think you’re a trivia master? \nThen come and join us every Wednesday & Thursday night and get ready to challenge your mind! \nWe have plenty of prizes to be won! \nAndrew Nasan hosts every Wednesday\, Mike Van Acker every Thursday.
URL:https://sharksclub.com.au/event/trivia/2025-07-31/
LOCATION:Vic Point Sharks\, 325 Colburn Avenue\, Victoria Point\, QLD\, 4165\, Australia
CATEGORIES:All,Trivia,Weekly Activities
ATTACH;FMTTYPE=image/jpeg:https://sharksclub.com.au/wp-content/uploads/2024/07/Trivia-Wed-Thurs-FEATURED-IMAGE.jpg
END:VEVENT
BEGIN:VEVENT
DTSTART;TZID=Australia/Brisbane:20250805T190000
DTEND;TZID=Australia/Brisbane:20250805T210000
DTSTAMP:20260424T130832
CREATED:20240715T041022Z
LAST-MODIFIED:20260330T232956Z
UID:10050506-1754420400-1754427600@sharksclub.com.au
SUMMARY:Tuesday Bingo - $1\,000 & $1\,500 Jackpots!!
DESCRIPTION:Tuesday Bingo at the Sharks is HUGE! \nJoin us for a fun-filled evening of Bingo every Tuesday in our comfortable\, air-conditioned Function Room. \nGet settled at 6pm for a 7pm eyes-down. We have complimentary self-serve tea and coffee available\, or why not order dinner from Zest Bistro? \nHeaps of Prizes including our 2 x MAJOR JACKPOTS of $1\,000 and $1\,500 each week! \nYou can even book our Member’s Courtesy Bus if you do not wish to drive BOOK NOW! \nAll funds raised go towards the LEUKAEMIA FOUNDATION
URL:https://sharksclub.com.au/event/tuesday-bingo/2025-08-05/
LOCATION:Vic Point Sharks\, 325 Colburn Avenue\, Victoria Point\, QLD\, 4165\, Australia
CATEGORIES:All,Bingo,Weekly Activities
ATTACH;FMTTYPE=image/png:https://sharksclub.com.au/wp-content/uploads/2024/07/1-1.png
END:VEVENT
BEGIN:VEVENT
DTSTART;TZID=Australia/Brisbane:20250806T103000
DTEND;TZID=Australia/Brisbane:20250806T130000
DTSTAMP:20260424T130832
CREATED:20240715T035954Z
LAST-MODIFIED:20260211T040326Z
UID:10048812-1754476200-1754485200@sharksclub.com.au
SUMMARY:Wednesday Bingo
DESCRIPTION:Wednesday Bingo at the Sharks! \nJoin us for a fun-filled Bingo morning every Wednesday in our comfortable\, air-conditioned Function Room. \nCome early and enjoy a great time with fellow Bingo enthusiasts! \nOur Members Courtesy Bus is also available if you do not wish to drive BOOK NOW! \n~ All funds raised help support our Sharks Football teams ~
URL:https://sharksclub.com.au/event/wednesday-bingo/2025-08-06/
LOCATION:Vic Point Sharks\, 325 Colburn Avenue\, Victoria Point\, QLD\, 4165\, Australia
CATEGORIES:All,Bingo,Weekly Activities
ATTACH;FMTTYPE=image/png:https://sharksclub.com.au/wp-content/uploads/2024/07/Bingo-Featured-Image.png
END:VEVENT
BEGIN:VEVENT
DTSTART;TZID=Australia/Brisbane:20250806T183000
DTEND;TZID=Australia/Brisbane:20250806T193000
DTSTAMP:20260424T130832
CREATED:20240724T033640Z
LAST-MODIFIED:20240729T224627Z
UID:10023053-1754505000-1754508600@sharksclub.com.au
SUMMARY:Trivia
DESCRIPTION:Think you’re a trivia master? \nThen come and join us every Wednesday & Thursday night and get ready to challenge your mind! \nWe have plenty of prizes to be won! \nAndrew Nasan hosts every Wednesday\, Mike Van Acker every Thursday.
URL:https://sharksclub.com.au/event/trivia/2025-08-06/
LOCATION:Vic Point Sharks\, 325 Colburn Avenue\, Victoria Point\, QLD\, 4165\, Australia
CATEGORIES:All,Trivia,Weekly Activities
ATTACH;FMTTYPE=image/jpeg:https://sharksclub.com.au/wp-content/uploads/2024/07/Trivia-Wed-Thurs-FEATURED-IMAGE.jpg
END:VEVENT
BEGIN:VEVENT
DTSTART;TZID=Australia/Brisbane:20250807T183000
DTEND;TZID=Australia/Brisbane:20250807T193000
DTSTAMP:20260424T130832
CREATED:20240724T033640Z
LAST-MODIFIED:20240729T224627Z
UID:10023054-1754591400-1754595000@sharksclub.com.au
SUMMARY:Trivia
DESCRIPTION:Think you’re a trivia master? \nThen come and join us every Wednesday & Thursday night and get ready to challenge your mind! \nWe have plenty of prizes to be won! \nAndrew Nasan hosts every Wednesday\, Mike Van Acker every Thursday.
URL:https://sharksclub.com.au/event/trivia/2025-08-07/
LOCATION:Vic Point Sharks\, 325 Colburn Avenue\, Victoria Point\, QLD\, 4165\, Australia
CATEGORIES:All,Trivia,Weekly Activities
ATTACH;FMTTYPE=image/jpeg:https://sharksclub.com.au/wp-content/uploads/2024/07/Trivia-Wed-Thurs-FEATURED-IMAGE.jpg
END:VEVENT
BEGIN:VEVENT
DTSTART;TZID=Australia/Brisbane:20250812T190000
DTEND;TZID=Australia/Brisbane:20250812T210000
DTSTAMP:20260424T130832
CREATED:20240715T041022Z
LAST-MODIFIED:20260330T232956Z
UID:10050507-1755025200-1755032400@sharksclub.com.au
SUMMARY:Tuesday Bingo - $1\,000 & $1\,500 Jackpots!!
DESCRIPTION:Tuesday Bingo at the Sharks is HUGE! \nJoin us for a fun-filled evening of Bingo every Tuesday in our comfortable\, air-conditioned Function Room. \nGet settled at 6pm for a 7pm eyes-down. We have complimentary self-serve tea and coffee available\, or why not order dinner from Zest Bistro? \nHeaps of Prizes including our 2 x MAJOR JACKPOTS of $1\,000 and $1\,500 each week! \nYou can even book our Member’s Courtesy Bus if you do not wish to drive BOOK NOW! \nAll funds raised go towards the LEUKAEMIA FOUNDATION
URL:https://sharksclub.com.au/event/tuesday-bingo/2025-08-12/
LOCATION:Vic Point Sharks\, 325 Colburn Avenue\, Victoria Point\, QLD\, 4165\, Australia
CATEGORIES:All,Bingo,Weekly Activities
ATTACH;FMTTYPE=image/png:https://sharksclub.com.au/wp-content/uploads/2024/07/1-1.png
END:VEVENT
BEGIN:VEVENT
DTSTART;TZID=Australia/Brisbane:20250813T103000
DTEND;TZID=Australia/Brisbane:20250813T130000
DTSTAMP:20260424T130832
CREATED:20240715T035954Z
LAST-MODIFIED:20260211T040326Z
UID:10048813-1755081000-1755090000@sharksclub.com.au
SUMMARY:Wednesday Bingo
DESCRIPTION:Wednesday Bingo at the Sharks! \nJoin us for a fun-filled Bingo morning every Wednesday in our comfortable\, air-conditioned Function Room. \nCome early and enjoy a great time with fellow Bingo enthusiasts! \nOur Members Courtesy Bus is also available if you do not wish to drive BOOK NOW! \n~ All funds raised help support our Sharks Football teams ~
URL:https://sharksclub.com.au/event/wednesday-bingo/2025-08-13/
LOCATION:Vic Point Sharks\, 325 Colburn Avenue\, Victoria Point\, QLD\, 4165\, Australia
CATEGORIES:All,Bingo,Weekly Activities
ATTACH;FMTTYPE=image/png:https://sharksclub.com.au/wp-content/uploads/2024/07/Bingo-Featured-Image.png
END:VEVENT
BEGIN:VEVENT
DTSTART;TZID=Australia/Brisbane:20250813T183000
DTEND;TZID=Australia/Brisbane:20250813T193000
DTSTAMP:20260424T130832
CREATED:20240724T033640Z
LAST-MODIFIED:20240729T224627Z
UID:10023055-1755109800-1755113400@sharksclub.com.au
SUMMARY:Trivia
DESCRIPTION:Think you’re a trivia master? \nThen come and join us every Wednesday & Thursday night and get ready to challenge your mind! \nWe have plenty of prizes to be won! \nAndrew Nasan hosts every Wednesday\, Mike Van Acker every Thursday.
URL:https://sharksclub.com.au/event/trivia/2025-08-13/
LOCATION:Vic Point Sharks\, 325 Colburn Avenue\, Victoria Point\, QLD\, 4165\, Australia
CATEGORIES:All,Trivia,Weekly Activities
ATTACH;FMTTYPE=image/jpeg:https://sharksclub.com.au/wp-content/uploads/2024/07/Trivia-Wed-Thurs-FEATURED-IMAGE.jpg
END:VEVENT
BEGIN:VEVENT
DTSTART;TZID=Australia/Brisbane:20250814T183000
DTEND;TZID=Australia/Brisbane:20250814T193000
DTSTAMP:20260424T130832
CREATED:20240724T033640Z
LAST-MODIFIED:20240729T224627Z
UID:10023056-1755196200-1755199800@sharksclub.com.au
SUMMARY:Trivia
DESCRIPTION:Think you’re a trivia master? \nThen come and join us every Wednesday & Thursday night and get ready to challenge your mind! \nWe have plenty of prizes to be won! \nAndrew Nasan hosts every Wednesday\, Mike Van Acker every Thursday.
URL:https://sharksclub.com.au/event/trivia/2025-08-14/
LOCATION:Vic Point Sharks\, 325 Colburn Avenue\, Victoria Point\, QLD\, 4165\, Australia
CATEGORIES:All,Trivia,Weekly Activities
ATTACH;FMTTYPE=image/jpeg:https://sharksclub.com.au/wp-content/uploads/2024/07/Trivia-Wed-Thurs-FEATURED-IMAGE.jpg
END:VEVENT
BEGIN:VEVENT
DTSTART;TZID=Australia/Brisbane:20250819T190000
DTEND;TZID=Australia/Brisbane:20250819T210000
DTSTAMP:20260424T130832
CREATED:20240715T041022Z
LAST-MODIFIED:20260330T232956Z
UID:10050508-1755630000-1755637200@sharksclub.com.au
SUMMARY:Tuesday Bingo - $1\,000 & $1\,500 Jackpots!!
DESCRIPTION:Tuesday Bingo at the Sharks is HUGE! \nJoin us for a fun-filled evening of Bingo every Tuesday in our comfortable\, air-conditioned Function Room. \nGet settled at 6pm for a 7pm eyes-down. We have complimentary self-serve tea and coffee available\, or why not order dinner from Zest Bistro? \nHeaps of Prizes including our 2 x MAJOR JACKPOTS of $1\,000 and $1\,500 each week! \nYou can even book our Member’s Courtesy Bus if you do not wish to drive BOOK NOW! \nAll funds raised go towards the LEUKAEMIA FOUNDATION
URL:https://sharksclub.com.au/event/tuesday-bingo/2025-08-19/
LOCATION:Vic Point Sharks\, 325 Colburn Avenue\, Victoria Point\, QLD\, 4165\, Australia
CATEGORIES:All,Bingo,Weekly Activities
ATTACH;FMTTYPE=image/png:https://sharksclub.com.au/wp-content/uploads/2024/07/1-1.png
END:VEVENT
BEGIN:VEVENT
DTSTART;TZID=Australia/Brisbane:20250820T103000
DTEND;TZID=Australia/Brisbane:20250820T130000
DTSTAMP:20260424T130832
CREATED:20240715T035954Z
LAST-MODIFIED:20260211T040326Z
UID:10048814-1755685800-1755694800@sharksclub.com.au
SUMMARY:Wednesday Bingo
DESCRIPTION:Wednesday Bingo at the Sharks! \nJoin us for a fun-filled Bingo morning every Wednesday in our comfortable\, air-conditioned Function Room. \nCome early and enjoy a great time with fellow Bingo enthusiasts! \nOur Members Courtesy Bus is also available if you do not wish to drive BOOK NOW! \n~ All funds raised help support our Sharks Football teams ~
URL:https://sharksclub.com.au/event/wednesday-bingo/2025-08-20/
LOCATION:Vic Point Sharks\, 325 Colburn Avenue\, Victoria Point\, QLD\, 4165\, Australia
CATEGORIES:All,Bingo,Weekly Activities
ATTACH;FMTTYPE=image/png:https://sharksclub.com.au/wp-content/uploads/2024/07/Bingo-Featured-Image.png
END:VEVENT
BEGIN:VEVENT
DTSTART;TZID=Australia/Brisbane:20250820T183000
DTEND;TZID=Australia/Brisbane:20250820T193000
DTSTAMP:20260424T130832
CREATED:20240724T033640Z
LAST-MODIFIED:20240729T224627Z
UID:10023057-1755714600-1755718200@sharksclub.com.au
SUMMARY:Trivia
DESCRIPTION:Think you’re a trivia master? \nThen come and join us every Wednesday & Thursday night and get ready to challenge your mind! \nWe have plenty of prizes to be won! \nAndrew Nasan hosts every Wednesday\, Mike Van Acker every Thursday.
URL:https://sharksclub.com.au/event/trivia/2025-08-20/
LOCATION:Vic Point Sharks\, 325 Colburn Avenue\, Victoria Point\, QLD\, 4165\, Australia
CATEGORIES:All,Trivia,Weekly Activities
ATTACH;FMTTYPE=image/jpeg:https://sharksclub.com.au/wp-content/uploads/2024/07/Trivia-Wed-Thurs-FEATURED-IMAGE.jpg
END:VEVENT
BEGIN:VEVENT
DTSTART;TZID=Australia/Brisbane:20250821T183000
DTEND;TZID=Australia/Brisbane:20250821T193000
DTSTAMP:20260424T130832
CREATED:20240724T033640Z
LAST-MODIFIED:20240729T224627Z
UID:10023058-1755801000-1755804600@sharksclub.com.au
SUMMARY:Trivia
DESCRIPTION:Think you’re a trivia master? \nThen come and join us every Wednesday & Thursday night and get ready to challenge your mind! \nWe have plenty of prizes to be won! \nAndrew Nasan hosts every Wednesday\, Mike Van Acker every Thursday.
URL:https://sharksclub.com.au/event/trivia/2025-08-21/
LOCATION:Vic Point Sharks\, 325 Colburn Avenue\, Victoria Point\, QLD\, 4165\, Australia
CATEGORIES:All,Trivia,Weekly Activities
ATTACH;FMTTYPE=image/jpeg:https://sharksclub.com.au/wp-content/uploads/2024/07/Trivia-Wed-Thurs-FEATURED-IMAGE.jpg
END:VEVENT
BEGIN:VEVENT
DTSTART;TZID=Australia/Brisbane:20250826T190000
DTEND;TZID=Australia/Brisbane:20250826T210000
DTSTAMP:20260424T130832
CREATED:20240715T041022Z
LAST-MODIFIED:20260330T232956Z
UID:10050509-1756234800-1756242000@sharksclub.com.au
SUMMARY:Tuesday Bingo - $1\,000 & $1\,500 Jackpots!!
DESCRIPTION:Tuesday Bingo at the Sharks is HUGE! \nJoin us for a fun-filled evening of Bingo every Tuesday in our comfortable\, air-conditioned Function Room. \nGet settled at 6pm for a 7pm eyes-down. We have complimentary self-serve tea and coffee available\, or why not order dinner from Zest Bistro? \nHeaps of Prizes including our 2 x MAJOR JACKPOTS of $1\,000 and $1\,500 each week! \nYou can even book our Member’s Courtesy Bus if you do not wish to drive BOOK NOW! \nAll funds raised go towards the LEUKAEMIA FOUNDATION
URL:https://sharksclub.com.au/event/tuesday-bingo/2025-08-26/
LOCATION:Vic Point Sharks\, 325 Colburn Avenue\, Victoria Point\, QLD\, 4165\, Australia
CATEGORIES:All,Bingo,Weekly Activities
ATTACH;FMTTYPE=image/png:https://sharksclub.com.au/wp-content/uploads/2024/07/1-1.png
END:VEVENT
BEGIN:VEVENT
DTSTART;TZID=Australia/Brisbane:20250827T103000
DTEND;TZID=Australia/Brisbane:20250827T130000
DTSTAMP:20260424T130832
CREATED:20240715T035954Z
LAST-MODIFIED:20260211T040326Z
UID:10048815-1756290600-1756299600@sharksclub.com.au
SUMMARY:Wednesday Bingo
DESCRIPTION:Wednesday Bingo at the Sharks! \nJoin us for a fun-filled Bingo morning every Wednesday in our comfortable\, air-conditioned Function Room. \nCome early and enjoy a great time with fellow Bingo enthusiasts! \nOur Members Courtesy Bus is also available if you do not wish to drive BOOK NOW! \n~ All funds raised help support our Sharks Football teams ~
URL:https://sharksclub.com.au/event/wednesday-bingo/2025-08-27/
LOCATION:Vic Point Sharks\, 325 Colburn Avenue\, Victoria Point\, QLD\, 4165\, Australia
CATEGORIES:All,Bingo,Weekly Activities
ATTACH;FMTTYPE=image/png:https://sharksclub.com.au/wp-content/uploads/2024/07/Bingo-Featured-Image.png
END:VEVENT
BEGIN:VEVENT
DTSTART;TZID=Australia/Brisbane:20250827T183000
DTEND;TZID=Australia/Brisbane:20250827T193000
DTSTAMP:20260424T130832
CREATED:20240724T033640Z
LAST-MODIFIED:20240729T224627Z
UID:10023059-1756319400-1756323000@sharksclub.com.au
SUMMARY:Trivia
DESCRIPTION:Think you’re a trivia master? \nThen come and join us every Wednesday & Thursday night and get ready to challenge your mind! \nWe have plenty of prizes to be won! \nAndrew Nasan hosts every Wednesday\, Mike Van Acker every Thursday.
URL:https://sharksclub.com.au/event/trivia/2025-08-27/
LOCATION:Vic Point Sharks\, 325 Colburn Avenue\, Victoria Point\, QLD\, 4165\, Australia
CATEGORIES:All,Trivia,Weekly Activities
ATTACH;FMTTYPE=image/jpeg:https://sharksclub.com.au/wp-content/uploads/2024/07/Trivia-Wed-Thurs-FEATURED-IMAGE.jpg
END:VEVENT
BEGIN:VEVENT
DTSTART;TZID=Australia/Brisbane:20250828T183000
DTEND;TZID=Australia/Brisbane:20250828T193000
DTSTAMP:20260424T130832
CREATED:20240724T033640Z
LAST-MODIFIED:20240729T224627Z
UID:10023060-1756405800-1756409400@sharksclub.com.au
SUMMARY:Trivia
DESCRIPTION:Think you’re a trivia master? \nThen come and join us every Wednesday & Thursday night and get ready to challenge your mind! \nWe have plenty of prizes to be won! \nAndrew Nasan hosts every Wednesday\, Mike Van Acker every Thursday.
URL:https://sharksclub.com.au/event/trivia/2025-08-28/
LOCATION:Vic Point Sharks\, 325 Colburn Avenue\, Victoria Point\, QLD\, 4165\, Australia
CATEGORIES:All,Trivia,Weekly Activities
ATTACH;FMTTYPE=image/jpeg:https://sharksclub.com.au/wp-content/uploads/2024/07/Trivia-Wed-Thurs-FEATURED-IMAGE.jpg
END:VEVENT
BEGIN:VEVENT
DTSTART;TZID=Australia/Brisbane:20250902T190000
DTEND;TZID=Australia/Brisbane:20250902T210000
DTSTAMP:20260424T130832
CREATED:20240715T041022Z
LAST-MODIFIED:20260330T232956Z
UID:10050510-1756839600-1756846800@sharksclub.com.au
SUMMARY:Tuesday Bingo - $1\,000 & $1\,500 Jackpots!!
DESCRIPTION:Tuesday Bingo at the Sharks is HUGE! \nJoin us for a fun-filled evening of Bingo every Tuesday in our comfortable\, air-conditioned Function Room. \nGet settled at 6pm for a 7pm eyes-down. We have complimentary self-serve tea and coffee available\, or why not order dinner from Zest Bistro? \nHeaps of Prizes including our 2 x MAJOR JACKPOTS of $1\,000 and $1\,500 each week! \nYou can even book our Member’s Courtesy Bus if you do not wish to drive BOOK NOW! \nAll funds raised go towards the LEUKAEMIA FOUNDATION
URL:https://sharksclub.com.au/event/tuesday-bingo/2025-09-02/
LOCATION:Vic Point Sharks\, 325 Colburn Avenue\, Victoria Point\, QLD\, 4165\, Australia
CATEGORIES:All,Bingo,Weekly Activities
ATTACH;FMTTYPE=image/png:https://sharksclub.com.au/wp-content/uploads/2024/07/1-1.png
END:VEVENT
BEGIN:VEVENT
DTSTART;TZID=Australia/Brisbane:20250903T103000
DTEND;TZID=Australia/Brisbane:20250903T130000
DTSTAMP:20260424T130832
CREATED:20240715T035954Z
LAST-MODIFIED:20260211T040326Z
UID:10048816-1756895400-1756904400@sharksclub.com.au
SUMMARY:Wednesday Bingo
DESCRIPTION:Wednesday Bingo at the Sharks! \nJoin us for a fun-filled Bingo morning every Wednesday in our comfortable\, air-conditioned Function Room. \nCome early and enjoy a great time with fellow Bingo enthusiasts! \nOur Members Courtesy Bus is also available if you do not wish to drive BOOK NOW! \n~ All funds raised help support our Sharks Football teams ~
URL:https://sharksclub.com.au/event/wednesday-bingo/2025-09-03/
LOCATION:Vic Point Sharks\, 325 Colburn Avenue\, Victoria Point\, QLD\, 4165\, Australia
CATEGORIES:All,Bingo,Weekly Activities
ATTACH;FMTTYPE=image/png:https://sharksclub.com.au/wp-content/uploads/2024/07/Bingo-Featured-Image.png
END:VEVENT
BEGIN:VEVENT
DTSTART;TZID=Australia/Brisbane:20250903T183000
DTEND;TZID=Australia/Brisbane:20250903T193000
DTSTAMP:20260424T130832
CREATED:20240724T033640Z
LAST-MODIFIED:20240729T224627Z
UID:10023061-1756924200-1756927800@sharksclub.com.au
SUMMARY:Trivia
DESCRIPTION:Think you’re a trivia master? \nThen come and join us every Wednesday & Thursday night and get ready to challenge your mind! \nWe have plenty of prizes to be won! \nAndrew Nasan hosts every Wednesday\, Mike Van Acker every Thursday.
URL:https://sharksclub.com.au/event/trivia/2025-09-03/
LOCATION:Vic Point Sharks\, 325 Colburn Avenue\, Victoria Point\, QLD\, 4165\, Australia
CATEGORIES:All,Trivia,Weekly Activities
ATTACH;FMTTYPE=image/jpeg:https://sharksclub.com.au/wp-content/uploads/2024/07/Trivia-Wed-Thurs-FEATURED-IMAGE.jpg
END:VEVENT
BEGIN:VEVENT
DTSTART;TZID=Australia/Brisbane:20250904T183000
DTEND;TZID=Australia/Brisbane:20250904T193000
DTSTAMP:20260424T130832
CREATED:20240724T033640Z
LAST-MODIFIED:20240729T224627Z
UID:10023062-1757010600-1757014200@sharksclub.com.au
SUMMARY:Trivia
DESCRIPTION:Think you’re a trivia master? \nThen come and join us every Wednesday & Thursday night and get ready to challenge your mind! \nWe have plenty of prizes to be won! \nAndrew Nasan hosts every Wednesday\, Mike Van Acker every Thursday.
URL:https://sharksclub.com.au/event/trivia/2025-09-04/
LOCATION:Vic Point Sharks\, 325 Colburn Avenue\, Victoria Point\, QLD\, 4165\, Australia
CATEGORIES:All,Trivia,Weekly Activities
ATTACH;FMTTYPE=image/jpeg:https://sharksclub.com.au/wp-content/uploads/2024/07/Trivia-Wed-Thurs-FEATURED-IMAGE.jpg
END:VEVENT
BEGIN:VEVENT
DTSTART;TZID=Australia/Brisbane:20250909T190000
DTEND;TZID=Australia/Brisbane:20250909T210000
DTSTAMP:20260424T130832
CREATED:20240715T041022Z
LAST-MODIFIED:20260330T232956Z
UID:10050511-1757444400-1757451600@sharksclub.com.au
SUMMARY:Tuesday Bingo - $1\,000 & $1\,500 Jackpots!!
DESCRIPTION:Tuesday Bingo at the Sharks is HUGE! \nJoin us for a fun-filled evening of Bingo every Tuesday in our comfortable\, air-conditioned Function Room. \nGet settled at 6pm for a 7pm eyes-down. We have complimentary self-serve tea and coffee available\, or why not order dinner from Zest Bistro? \nHeaps of Prizes including our 2 x MAJOR JACKPOTS of $1\,000 and $1\,500 each week! \nYou can even book our Member’s Courtesy Bus if you do not wish to drive BOOK NOW! \nAll funds raised go towards the LEUKAEMIA FOUNDATION
URL:https://sharksclub.com.au/event/tuesday-bingo/2025-09-09/
LOCATION:Vic Point Sharks\, 325 Colburn Avenue\, Victoria Point\, QLD\, 4165\, Australia
CATEGORIES:All,Bingo,Weekly Activities
ATTACH;FMTTYPE=image/png:https://sharksclub.com.au/wp-content/uploads/2024/07/1-1.png
END:VEVENT
BEGIN:VEVENT
DTSTART;TZID=Australia/Brisbane:20250910T103000
DTEND;TZID=Australia/Brisbane:20250910T130000
DTSTAMP:20260424T130832
CREATED:20240715T035954Z
LAST-MODIFIED:20260211T040326Z
UID:10048817-1757500200-1757509200@sharksclub.com.au
SUMMARY:Wednesday Bingo
DESCRIPTION:Wednesday Bingo at the Sharks! \nJoin us for a fun-filled Bingo morning every Wednesday in our comfortable\, air-conditioned Function Room. \nCome early and enjoy a great time with fellow Bingo enthusiasts! \nOur Members Courtesy Bus is also available if you do not wish to drive BOOK NOW! \n~ All funds raised help support our Sharks Football teams ~
URL:https://sharksclub.com.au/event/wednesday-bingo/2025-09-10/
LOCATION:Vic Point Sharks\, 325 Colburn Avenue\, Victoria Point\, QLD\, 4165\, Australia
CATEGORIES:All,Bingo,Weekly Activities
ATTACH;FMTTYPE=image/png:https://sharksclub.com.au/wp-content/uploads/2024/07/Bingo-Featured-Image.png
END:VEVENT
END:VCALENDAR