BEGIN:VCALENDAR
VERSION:2.0
PRODID:-//Victoria Point Sharks Sporting Club - ECPv6.15.20//NONSGML v1.0//EN
CALSCALE:GREGORIAN
METHOD:PUBLISH
X-WR-CALNAME:Victoria Point Sharks Sporting Club
X-ORIGINAL-URL:https://sharksclub.com.au
X-WR-CALDESC:Events for Victoria Point Sharks Sporting Club
REFRESH-INTERVAL;VALUE=DURATION:PT1H
X-Robots-Tag:noindex
X-PUBLISHED-TTL:PT1H
BEGIN:VTIMEZONE
TZID:Australia/Brisbane
BEGIN:STANDARD
TZOFFSETFROM:+1000
TZOFFSETTO:+1000
TZNAME:AEST
DTSTART:20300101T000000
END:STANDARD
END:VTIMEZONE
BEGIN:VEVENT
DTSTART;TZID=Australia/Brisbane:20310423T103000
DTEND;TZID=Australia/Brisbane:20310423T130000
DTSTAMP:20260425T130813
CREATED:20240715T035954Z
LAST-MODIFIED:20260211T040326Z
UID:10050913-1934706600-1934715600@sharksclub.com.au
SUMMARY:Wednesday Bingo
DESCRIPTION:Wednesday Bingo at the Sharks! \nJoin us for a fun-filled Bingo morning every Wednesday in our comfortable\, air-conditioned Function Room. \nCome early and enjoy a great time with fellow Bingo enthusiasts! \nOur Members Courtesy Bus is also available if you do not wish to drive BOOK NOW! \n~ All funds raised help support our Sharks Football teams ~
URL:https://sharksclub.com.au/event/wednesday-bingo/2031-04-23/
LOCATION:Vic Point Sharks\, 325 Colburn Avenue\, Victoria Point\, QLD\, 4165\, Australia
CATEGORIES:All,Bingo,Weekly Activities
ATTACH;FMTTYPE=image/png:https://sharksclub.com.au/wp-content/uploads/2024/07/Bingo-Featured-Image.png
END:VEVENT
BEGIN:VEVENT
DTSTART;TZID=Australia/Brisbane:20310423T173000
DTEND;TZID=Australia/Brisbane:20310423T200000
DTSTAMP:20260425T130813
CREATED:20241031T055819Z
LAST-MODIFIED:20260324T040001Z
UID:10050914-1934731800-1934740800@sharksclub.com.au
SUMMARY:Wednesday Chicken Wings Night
DESCRIPTION:Come to Zest Bistro every Wednesday for Chicken Wings Night and enjoy 1kg of delicious marinated chicken wings for just $18. \nServed with 3 mouth-watering dipping sauces: \nKimchi Mayo ~ Smokey BBQ ~ Honey Soy & Sesame \nJoin us for this midweek treat\, for only $18! \n*Excluding public holidays \nBook now!
URL:https://sharksclub.com.au/event/wednesday-parmigiana-night/2031-04-23/
LOCATION:Zest Bistro at The Sharks\, 325 Colburn Avenue\, Victoria Point\, QLD\, 4165\, Australia
CATEGORIES:All,Meal Specials
ATTACH;FMTTYPE=image/png:https://sharksclub.com.au/wp-content/uploads/2024/10/Chicken-wings-2025-Featured-Image-1.png
END:VEVENT
BEGIN:VEVENT
DTSTART;TZID=Australia/Brisbane:20310424T160000
DTEND;TZID=Australia/Brisbane:20310424T183000
DTSTAMP:20260425T130813
CREATED:20240718T050022Z
LAST-MODIFIED:20250817T072215Z
UID:10050917-1934812800-1934821800@sharksclub.com.au
SUMMARY:Maze Craze!
DESCRIPTION:Join the MAZE CRAZE!!! \nEvery Thursday\, six lucky Members will chomp their way through the MAZE CRAZE and have the chance to win a share of $500 cash each!! \nEnter with every $5 play on the gaming machines\, from 3pm every Thursday. Draws from 4pm. \nMust be a Member JOIN NOW!
URL:https://sharksclub.com.au/event/thursday-treasures/2031-04-24/
LOCATION:Vic Point Sharks\, 325 Colburn Avenue\, Victoria Point\, QLD\, 4165\, Australia
CATEGORIES:All,Promotions,Weekly Promotions
ATTACH;FMTTYPE=image/jpeg:https://sharksclub.com.au/wp-content/uploads/2024/07/CrazeMaze_WebFeatImg.jpg
END:VEVENT
BEGIN:VEVENT
DTSTART;TZID=Australia/Brisbane:20310424T173000
DTEND;TZID=Australia/Brisbane:20310424T203000
DTSTAMP:20260425T130813
CREATED:20241031T064032Z
LAST-MODIFIED:20260409T013615Z
UID:10050918-1934818200-1934829000@sharksclub.com.au
SUMMARY:Thursday Parmi Night
DESCRIPTION:Join us every Thursday night for Parmi Night and indulge in a Crispy Golden Chicken Breast for just $23! \nChoose from 4 sensational toppings: \n* Carbonara \n* Seafood Marinara \n* Hawaaiian \n* Texan with onion rings\, pulled pork\, and BBQ sauce \nAll served with chips and salad. \n*Excludes Public Holidays
URL:https://sharksclub.com.au/event/thursday-night-ribs-wings/2031-04-24/
LOCATION:Zest Bistro at The Sharks\, 325 Colburn Avenue\, Victoria Point\, QLD\, 4165\, Australia
CATEGORIES:All,Meal Specials
ATTACH;FMTTYPE=image/png:https://sharksclub.com.au/wp-content/uploads/2024/10/Thursday-Parmi-2.png
END:VEVENT
END:VCALENDAR