BEGIN:VCALENDAR
VERSION:2.0
PRODID:-//Victoria Point Sharks Sporting Club - ECPv6.15.20//NONSGML v1.0//EN
CALSCALE:GREGORIAN
METHOD:PUBLISH
X-ORIGINAL-URL:https://sharksclub.com.au
X-WR-CALDESC:Events for Victoria Point Sharks Sporting Club
REFRESH-INTERVAL;VALUE=DURATION:PT1H
X-Robots-Tag:noindex
X-PUBLISHED-TTL:PT1H
BEGIN:VTIMEZONE
TZID:Australia/Brisbane
BEGIN:STANDARD
TZOFFSETFROM:+1000
TZOFFSETTO:+1000
TZNAME:AEST
DTSTART:20300101T000000
END:STANDARD
END:VTIMEZONE
BEGIN:VEVENT
DTSTART;TZID=Australia/Brisbane:20310420T120000
DTEND;TZID=Australia/Brisbane:20310420T200000
DTSTAMP:20260422T203445
CREATED:20241031T065912Z
LAST-MODIFIED:20260330T234119Z
UID:10050903-1934452800-1934481600@sharksclub.com.au
SUMMARY:Sunday Roast - Lunch & Dinner
DESCRIPTION:Nobody loves a roast more than we do especially when it’s a Traditional English Roast! \n\n🔥 Choose your Roast: Lamb\, Pork\, or Beef\n\n\n🥔 Pick your size: Three hearty portions to suit any appetite\n\n\n✨ Make it extra special with add-ons: Pigs in blankets\, Creamy cauliflower cheese\, or an extra Yorkshire Pudding (because one is never enough!)\n\n\n💲Prices start from just $17\n\n\n \n\n\nJoin us Sundays for Lunch or Dinner 😀\n\n*Excludes Public Holidays. \nBook now!
URL:https://sharksclub.com.au/event/sunday-roast-night/2031-04-20/
LOCATION:Zest Bistro at The Sharks\, 325 Colburn Avenue\, Victoria Point\, QLD\, 4165\, Australia
CATEGORIES:All,Meal Specials
ATTACH;FMTTYPE=image/png:https://sharksclub.com.au/wp-content/uploads/2024/10/Traditional-English-Roast-Card-960-x-400-px-1.png
END:VEVENT
BEGIN:VEVENT
DTSTART;TZID=Australia/Brisbane:20310422T190000
DTEND;TZID=Australia/Brisbane:20310422T210000
DTSTAMP:20260422T203445
CREATED:20240715T041022Z
LAST-MODIFIED:20260330T232956Z
UID:10050912-1934650800-1934658000@sharksclub.com.au
SUMMARY:Tuesday Bingo - $1\,000 & $1\,500 Jackpots!!
DESCRIPTION:Tuesday Bingo at the Sharks is HUGE! \nJoin us for a fun-filled evening of Bingo every Tuesday in our comfortable\, air-conditioned Function Room. \nGet settled at 6pm for a 7pm eyes-down. We have complimentary self-serve tea and coffee available\, or why not order dinner from Zest Bistro? \nHeaps of Prizes including our 2 x MAJOR JACKPOTS of $1\,000 and $1\,500 each week! \nYou can even book our Member’s Courtesy Bus if you do not wish to drive BOOK NOW! \nAll funds raised go towards the LEUKAEMIA FOUNDATION
URL:https://sharksclub.com.au/event/tuesday-bingo/2031-04-22/
LOCATION:Vic Point Sharks\, 325 Colburn Avenue\, Victoria Point\, QLD\, 4165\, Australia
CATEGORIES:All,Bingo,Weekly Activities
ATTACH;FMTTYPE=image/png:https://sharksclub.com.au/wp-content/uploads/2024/07/1-1.png
END:VEVENT
END:VCALENDAR