BEGIN:VCALENDAR
VERSION:2.0
PRODID:-//Victoria Point Sharks Sporting Club - ECPv6.15.20//NONSGML v1.0//EN
CALSCALE:GREGORIAN
METHOD:PUBLISH
X-ORIGINAL-URL:https://sharksclub.com.au
X-WR-CALDESC:Events for Victoria Point Sharks Sporting Club
REFRESH-INTERVAL;VALUE=DURATION:PT1H
X-Robots-Tag:noindex
X-PUBLISHED-TTL:PT1H
BEGIN:VTIMEZONE
TZID:Australia/Brisbane
BEGIN:STANDARD
TZOFFSETFROM:+1000
TZOFFSETTO:+1000
TZNAME:AEST
DTSTART:20240101T000000
END:STANDARD
END:VTIMEZONE
BEGIN:VEVENT
DTSTART;TZID=Australia/Brisbane:20250425T103000
DTEND;TZID=Australia/Brisbane:20250425T124500
DTSTAMP:20260420T161106
CREATED:20240715T040429Z
LAST-MODIFIED:20251212T072559Z
UID:10033012-1745577000-1745585100@sharksclub.com.au
SUMMARY:Friday Bingo
DESCRIPTION:Friday Bingo at the Sharks! \nJoin us for a fun-filled Bingo morning every Friday in our comfortable\, air-conditioned Function Room. \nGet settled in at 10am ready for eyes-down at 10.30am. We have complimentary self-serve tea and coffee available\, or why not order one of our lunch specials from Zest? \nCome early and enjoy a great time with fellow Bingo enthusiasts! \nOur Member’s Courtesy Bus is also available if you do not wish to drive BOOK NOW! \n~ All funds raised help support our Sharks Football teams ~
URL:https://sharksclub.com.au/event/friday-bingo/2025-04-25/
LOCATION:Function Room\, 325 Colburn Avenue\, Victoria Point\, QLD\, 4165\, Australia
CATEGORIES:All,Bingo,Weekly Activities
ATTACH;FMTTYPE=image/png:https://sharksclub.com.au/wp-content/uploads/2024/07/Bingo-Featured-Image-1.png
END:VEVENT
BEGIN:VEVENT
DTSTART;TZID=Australia/Brisbane:20250424T183000
DTEND;TZID=Australia/Brisbane:20250424T193000
DTSTAMP:20260420T161106
CREATED:20240724T033640Z
LAST-MODIFIED:20240729T224627Z
UID:10023024-1745519400-1745523000@sharksclub.com.au
SUMMARY:Trivia
DESCRIPTION:Think you’re a trivia master? \nThen come and join us every Wednesday & Thursday night and get ready to challenge your mind! \nWe have plenty of prizes to be won! \nAndrew Nasan hosts every Wednesday\, Mike Van Acker every Thursday.
URL:https://sharksclub.com.au/event/trivia/2025-04-24/
LOCATION:Vic Point Sharks\, 325 Colburn Avenue\, Victoria Point\, QLD\, 4165\, Australia
CATEGORIES:All,Trivia,Weekly Activities
ATTACH;FMTTYPE=image/jpeg:https://sharksclub.com.au/wp-content/uploads/2024/07/Trivia-Wed-Thurs-FEATURED-IMAGE.jpg
END:VEVENT
BEGIN:VEVENT
DTSTART;TZID=Australia/Brisbane:20250424T173000
DTEND;TZID=Australia/Brisbane:20250424T203000
DTSTAMP:20260420T161106
CREATED:20241031T064032Z
LAST-MODIFIED:20260409T013615Z
UID:10028480-1745515800-1745526600@sharksclub.com.au
SUMMARY:Thursday Parmi Night
DESCRIPTION:Join us every Thursday night for Parmi Night and indulge in a Crispy Golden Chicken Breast for just $23! \nChoose from 4 sensational toppings: \n* Carbonara \n* Seafood Marinara \n* Hawaaiian \n* Texan with onion rings\, pulled pork\, and BBQ sauce \nAll served with chips and salad. \n*Excludes Public Holidays
URL:https://sharksclub.com.au/event/thursday-night-ribs-wings/2025-04-24/
LOCATION:Zest Bistro at The Sharks\, 325 Colburn Avenue\, Victoria Point\, QLD\, 4165\, Australia
CATEGORIES:All,Meal Specials
ATTACH;FMTTYPE=image/png:https://sharksclub.com.au/wp-content/uploads/2024/10/Thursday-Parmi-2.png
END:VEVENT
BEGIN:VEVENT
DTSTART;TZID=Australia/Brisbane:20250424T160000
DTEND;TZID=Australia/Brisbane:20250424T183000
DTSTAMP:20260420T161106
CREATED:20240718T050022Z
LAST-MODIFIED:20250817T072215Z
UID:10022601-1745510400-1745519400@sharksclub.com.au
SUMMARY:Maze Craze!
DESCRIPTION:Join the MAZE CRAZE!!! \nEvery Thursday\, six lucky Members will chomp their way through the MAZE CRAZE and have the chance to win a share of $500 cash each!! \nEnter with every $5 play on the gaming machines\, from 3pm every Thursday. Draws from 4pm. \nMust be a Member JOIN NOW!
URL:https://sharksclub.com.au/event/thursday-treasures/2025-04-24/
LOCATION:Vic Point Sharks\, 325 Colburn Avenue\, Victoria Point\, QLD\, 4165\, Australia
CATEGORIES:All,Promotions,Weekly Promotions
ATTACH;FMTTYPE=image/jpeg:https://sharksclub.com.au/wp-content/uploads/2024/07/CrazeMaze_WebFeatImg.jpg
END:VEVENT
BEGIN:VEVENT
DTSTART;TZID=Australia/Brisbane:20250423T183000
DTEND;TZID=Australia/Brisbane:20250423T193000
DTSTAMP:20260420T161106
CREATED:20240724T033640Z
LAST-MODIFIED:20240729T224627Z
UID:10023023-1745433000-1745436600@sharksclub.com.au
SUMMARY:Trivia
DESCRIPTION:Think you’re a trivia master? \nThen come and join us every Wednesday & Thursday night and get ready to challenge your mind! \nWe have plenty of prizes to be won! \nAndrew Nasan hosts every Wednesday\, Mike Van Acker every Thursday.
URL:https://sharksclub.com.au/event/trivia/2025-04-23/
LOCATION:Vic Point Sharks\, 325 Colburn Avenue\, Victoria Point\, QLD\, 4165\, Australia
CATEGORIES:All,Trivia,Weekly Activities
ATTACH;FMTTYPE=image/jpeg:https://sharksclub.com.au/wp-content/uploads/2024/07/Trivia-Wed-Thurs-FEATURED-IMAGE.jpg
END:VEVENT
BEGIN:VEVENT
DTSTART;TZID=Australia/Brisbane:20250423T173000
DTEND;TZID=Australia/Brisbane:20250423T200000
DTSTAMP:20260420T161106
CREATED:20241031T055819Z
LAST-MODIFIED:20260324T040001Z
UID:10028219-1745429400-1745438400@sharksclub.com.au
SUMMARY:Wednesday Chicken Wings Night
DESCRIPTION:Come to Zest Bistro every Wednesday for Chicken Wings Night and enjoy 1kg of delicious marinated chicken wings for just $18. \nServed with 3 mouth-watering dipping sauces: \nKimchi Mayo ~ Smokey BBQ ~ Honey Soy & Sesame \nJoin us for this midweek treat\, for only $18! \n*Excluding public holidays \nBook now!
URL:https://sharksclub.com.au/event/wednesday-parmigiana-night/2025-04-23/
LOCATION:Zest Bistro at The Sharks\, 325 Colburn Avenue\, Victoria Point\, QLD\, 4165\, Australia
CATEGORIES:All,Meal Specials
ATTACH;FMTTYPE=image/png:https://sharksclub.com.au/wp-content/uploads/2024/10/Chicken-wings-2025-Featured-Image-1.png
END:VEVENT
BEGIN:VEVENT
DTSTART;TZID=Australia/Brisbane:20250423T103000
DTEND;TZID=Australia/Brisbane:20250423T130000
DTSTAMP:20260420T161106
CREATED:20240715T035954Z
LAST-MODIFIED:20260211T040326Z
UID:10048797-1745404200-1745413200@sharksclub.com.au
SUMMARY:Wednesday Bingo
DESCRIPTION:Wednesday Bingo at the Sharks! \nJoin us for a fun-filled Bingo morning every Wednesday in our comfortable\, air-conditioned Function Room. \nCome early and enjoy a great time with fellow Bingo enthusiasts! \nOur Members Courtesy Bus is also available if you do not wish to drive BOOK NOW! \n~ All funds raised help support our Sharks Football teams ~
URL:https://sharksclub.com.au/event/wednesday-bingo/2025-04-23/
LOCATION:Vic Point Sharks\, 325 Colburn Avenue\, Victoria Point\, QLD\, 4165\, Australia
CATEGORIES:All,Bingo,Weekly Activities
ATTACH;FMTTYPE=image/png:https://sharksclub.com.au/wp-content/uploads/2024/07/Bingo-Featured-Image.png
END:VEVENT
BEGIN:VEVENT
DTSTART;TZID=Australia/Brisbane:20250422T190000
DTEND;TZID=Australia/Brisbane:20250422T210000
DTSTAMP:20260420T161106
CREATED:20240715T041022Z
LAST-MODIFIED:20260330T232956Z
UID:10050491-1745348400-1745355600@sharksclub.com.au
SUMMARY:Tuesday Bingo - $1\,000 & $1\,500 Jackpots!!
DESCRIPTION:Tuesday Bingo at the Sharks is HUGE! \nJoin us for a fun-filled evening of Bingo every Tuesday in our comfortable\, air-conditioned Function Room. \nGet settled at 6pm for a 7pm eyes-down. We have complimentary self-serve tea and coffee available\, or why not order dinner from Zest Bistro? \nHeaps of Prizes including our 2 x MAJOR JACKPOTS of $1\,000 and $1\,500 each week! \nYou can even book our Member’s Courtesy Bus if you do not wish to drive BOOK NOW! \nAll funds raised go towards the LEUKAEMIA FOUNDATION
URL:https://sharksclub.com.au/event/tuesday-bingo/2025-04-22/
LOCATION:Vic Point Sharks\, 325 Colburn Avenue\, Victoria Point\, QLD\, 4165\, Australia
CATEGORIES:All,Bingo,Weekly Activities
ATTACH;FMTTYPE=image/png:https://sharksclub.com.au/wp-content/uploads/2024/07/1-1.png
END:VEVENT
BEGIN:VEVENT
DTSTART;TZID=Australia/Brisbane:20250422T173000
DTEND;TZID=Australia/Brisbane:20250422T200000
DTSTAMP:20260420T161106
CREATED:20241031T053443Z
LAST-MODIFIED:20250721T045547Z
UID:10027958-1745343000-1745352000@sharksclub.com.au
SUMMARY:Tuesday - Greek Gyros Night
DESCRIPTION:Craving something delicious? Join us for Greek Gyros Night every Tuesday! \nChoose from 3 delicious flavours: \nLamb – $19 \nChicken – $18 \nHalloumi – $17 \nAll served with cucumber yogurt\, cherry tomato\, red onion\, garlic aioli and chips \n*Excludes Public Holidays \nBook now! \n 
URL:https://sharksclub.com.au/event/barra-tuesday/2025-04-22/
LOCATION:Zest Bistro at The Sharks\, 325 Colburn Avenue\, Victoria Point\, QLD\, 4165\, Australia
CATEGORIES:All,Meal Specials
ATTACH;FMTTYPE=image/png:https://sharksclub.com.au/wp-content/uploads/2024/10/Gyros-Night-2025-Featured-Image-1.png
END:VEVENT
BEGIN:VEVENT
DTSTART;TZID=Australia/Brisbane:20250421T103000
DTEND;TZID=Australia/Brisbane:20250421T133000
DTSTAMP:20260420T161106
CREATED:20241129T013441Z
LAST-MODIFIED:20250916T050721Z
UID:10032679-1745231400-1745242200@sharksclub.com.au
SUMMARY:Morning Melodies
DESCRIPTION:Join us for the 3rd Monday of each month and relax to some easy listening music with Sharon Lee!!  \nWhether you just want to sing-a-long to all your favourite tunes and or perhaps take a spin on the dance floor\, we guarantee you will have a fabulous time. \nSpoil yourself with a nice hot cuppa or perhaps try one of our mouth-watering lunchtime specials (only $14 for Seniors). \n 
URL:https://sharksclub.com.au/event/morning-melodies-with-sharon-lee/2025-04-21/
LOCATION:Vic Point Sharks\, 325 Colburn Avenue\, Victoria Point\, QLD\, 4165\, Australia
CATEGORIES:All,Entertainment,Morning Melodies
ATTACH;FMTTYPE=image/png:https://sharksclub.com.au/wp-content/uploads/2024/11/Morning-Melodies-Sharon-Lee-VECTOR-1920-x-1005-px-500-x-520-px-960-x-400-px.png
END:VEVENT
BEGIN:VEVENT
DTSTART;TZID=Australia/Brisbane:20250420T120000
DTEND;TZID=Australia/Brisbane:20250420T200000
DTSTAMP:20260420T161106
CREATED:20241031T065912Z
LAST-MODIFIED:20260330T234119Z
UID:10050825-1745150400-1745179200@sharksclub.com.au
SUMMARY:Sunday Roast - Lunch & Dinner
DESCRIPTION:Nobody loves a roast more than we do especially when it’s a Traditional English Roast! \n\n🔥 Choose your Roast: Lamb\, Pork\, or Beef\n\n\n🥔 Pick your size: Three hearty portions to suit any appetite\n\n\n✨ Make it extra special with add-ons: Pigs in blankets\, Creamy cauliflower cheese\, or an extra Yorkshire Pudding (because one is never enough!)\n\n\n💲Prices start from just $17\n\n\n \n\n\nJoin us Sundays for Lunch or Dinner 😀\n\n*Excludes Public Holidays. \nBook now!
URL:https://sharksclub.com.au/event/sunday-roast-night/2025-04-20/
LOCATION:Zest Bistro at The Sharks\, 325 Colburn Avenue\, Victoria Point\, QLD\, 4165\, Australia
CATEGORIES:All,Meal Specials
ATTACH;FMTTYPE=image/png:https://sharksclub.com.au/wp-content/uploads/2024/10/Traditional-English-Roast-Card-960-x-400-px-1.png
END:VEVENT
BEGIN:VEVENT
DTSTART;TZID=Australia/Brisbane:20250401T120000
DTEND;TZID=Australia/Brisbane:20250430T200000
DTSTAMP:20260420T161106
CREATED:20250402T020058Z
LAST-MODIFIED:20250429T230046Z
UID:10034285-1743508800-1746043200@sharksclub.com.au
SUMMARY:April Food Special - Taste of the Orient
DESCRIPTION:🥢 April Special: Taste of the Orient – Pork 3 Ways! 🥢 \nThis month\, treat yourself to a flavor-packed journey through Asia with our delicious Pork 3 Ways for just $24! \n🍽️ What’s on your plate?\n🔥 Char Siu – Succulent BBQ pork\n🥟 Xiao Dumplings – Juicy\, tender pork-filled dumplings\n🍜 Egg Noodles Broth \nAll served with oriental-inspired vegetables for the perfect balance. \nA feast for your senses\, crafted with authentic flavors and fresh ingredients! \n📅 Limited-time April special – available for Lunch & Dinner each day (excluding Public Holidays) \nBOOK A TABLE \n 
URL:https://sharksclub.com.au/event/april-food-special-taste-of-the-orient/
LOCATION:Vic Point Sharks\, 325 Colburn Avenue\, Victoria Point\, QLD\, 4165\, Australia
CATEGORIES:All,Meal Specials
ATTACH;FMTTYPE=image/png:https://sharksclub.com.au/wp-content/uploads/2025/04/Dumplings-featured-image-1.png
END:VEVENT
END:VCALENDAR