BEGIN:VCALENDAR
VERSION:2.0
PRODID:-//Victoria Point Sharks Sporting Club - ECPv6.15.20//NONSGML v1.0//EN
CALSCALE:GREGORIAN
METHOD:PUBLISH
X-ORIGINAL-URL:https://sharksclub.com.au
X-WR-CALDESC:Events for Victoria Point Sharks Sporting Club
REFRESH-INTERVAL;VALUE=DURATION:PT1H
X-Robots-Tag:noindex
X-PUBLISHED-TTL:PT1H
BEGIN:VTIMEZONE
TZID:Australia/Brisbane
BEGIN:STANDARD
TZOFFSETFROM:+1000
TZOFFSETTO:+1000
TZNAME:AEST
DTSTART:20300101T000000
END:STANDARD
END:VTIMEZONE
BEGIN:VEVENT
DTSTART;TZID=Australia/Brisbane:20310415T190000
DTEND;TZID=Australia/Brisbane:20310415T210000
DTSTAMP:20260420T051250
CREATED:20240715T041022Z
LAST-MODIFIED:20260330T232956Z
UID:10050895-1934046000-1934053200@sharksclub.com.au
SUMMARY:Tuesday Bingo - $1\,000 & $1\,500 Jackpots!!
DESCRIPTION:Tuesday Bingo at the Sharks is HUGE! \nJoin us for a fun-filled evening of Bingo every Tuesday in our comfortable\, air-conditioned Function Room. \nGet settled at 6pm for a 7pm eyes-down. We have complimentary self-serve tea and coffee available\, or why not order dinner from Zest Bistro? \nHeaps of Prizes including our 2 x MAJOR JACKPOTS of $1\,000 and $1\,500 each week! \nYou can even book our Member’s Courtesy Bus if you do not wish to drive BOOK NOW! \nAll funds raised go towards the LEUKAEMIA FOUNDATION
URL:https://sharksclub.com.au/event/tuesday-bingo/2031-04-15/
LOCATION:Vic Point Sharks\, 325 Colburn Avenue\, Victoria Point\, QLD\, 4165\, Australia
CATEGORIES:All,Bingo,Weekly Activities
ATTACH;FMTTYPE=image/png:https://sharksclub.com.au/wp-content/uploads/2024/07/1-1.png
END:VEVENT
BEGIN:VEVENT
DTSTART;TZID=Australia/Brisbane:20310416T103000
DTEND;TZID=Australia/Brisbane:20310416T130000
DTSTAMP:20260420T051250
CREATED:20240715T035954Z
LAST-MODIFIED:20260211T040326Z
UID:10050896-1934101800-1934110800@sharksclub.com.au
SUMMARY:Wednesday Bingo
DESCRIPTION:Wednesday Bingo at the Sharks! \nJoin us for a fun-filled Bingo morning every Wednesday in our comfortable\, air-conditioned Function Room. \nCome early and enjoy a great time with fellow Bingo enthusiasts! \nOur Members Courtesy Bus is also available if you do not wish to drive BOOK NOW! \n~ All funds raised help support our Sharks Football teams ~
URL:https://sharksclub.com.au/event/wednesday-bingo/2031-04-16/
LOCATION:Vic Point Sharks\, 325 Colburn Avenue\, Victoria Point\, QLD\, 4165\, Australia
CATEGORIES:All,Bingo,Weekly Activities
ATTACH;FMTTYPE=image/png:https://sharksclub.com.au/wp-content/uploads/2024/07/Bingo-Featured-Image.png
END:VEVENT
BEGIN:VEVENT
DTSTART;TZID=Australia/Brisbane:20310416T173000
DTEND;TZID=Australia/Brisbane:20310416T200000
DTSTAMP:20260420T051250
CREATED:20241031T055819Z
LAST-MODIFIED:20260324T040001Z
UID:10050897-1934127000-1934136000@sharksclub.com.au
SUMMARY:Wednesday Chicken Wings Night
DESCRIPTION:Come to Zest Bistro every Wednesday for Chicken Wings Night and enjoy 1kg of delicious marinated chicken wings for just $18. \nServed with 3 mouth-watering dipping sauces: \nKimchi Mayo ~ Smokey BBQ ~ Honey Soy & Sesame \nJoin us for this midweek treat\, for only $18! \n*Excluding public holidays \nBook now!
URL:https://sharksclub.com.au/event/wednesday-parmigiana-night/2031-04-16/
LOCATION:Zest Bistro at The Sharks\, 325 Colburn Avenue\, Victoria Point\, QLD\, 4165\, Australia
CATEGORIES:All,Meal Specials
ATTACH;FMTTYPE=image/png:https://sharksclub.com.au/wp-content/uploads/2024/10/Chicken-wings-2025-Featured-Image-1.png
END:VEVENT
BEGIN:VEVENT
DTSTART;TZID=Australia/Brisbane:20310417T160000
DTEND;TZID=Australia/Brisbane:20310417T183000
DTSTAMP:20260420T051250
CREATED:20240718T050022Z
LAST-MODIFIED:20250817T072215Z
UID:10050898-1934208000-1934217000@sharksclub.com.au
SUMMARY:Maze Craze!
DESCRIPTION:Join the MAZE CRAZE!!! \nEvery Thursday\, six lucky Members will chomp their way through the MAZE CRAZE and have the chance to win a share of $500 cash each!! \nEnter with every $5 play on the gaming machines\, from 3pm every Thursday. Draws from 4pm. \nMust be a Member JOIN NOW!
URL:https://sharksclub.com.au/event/thursday-treasures/2031-04-17/
LOCATION:Vic Point Sharks\, 325 Colburn Avenue\, Victoria Point\, QLD\, 4165\, Australia
CATEGORIES:All,Promotions,Weekly Promotions
ATTACH;FMTTYPE=image/jpeg:https://sharksclub.com.au/wp-content/uploads/2024/07/CrazeMaze_WebFeatImg.jpg
END:VEVENT
BEGIN:VEVENT
DTSTART;TZID=Australia/Brisbane:20310417T173000
DTEND;TZID=Australia/Brisbane:20310417T203000
DTSTAMP:20260420T051250
CREATED:20241031T064032Z
LAST-MODIFIED:20260409T013615Z
UID:10050899-1934213400-1934224200@sharksclub.com.au
SUMMARY:Thursday Parmi Night
DESCRIPTION:Join us every Thursday night for Parmi Night and indulge in a Crispy Golden Chicken Breast for just $23! \nChoose from 4 sensational toppings: \n* Carbonara \n* Seafood Marinara \n* Hawaaiian \n* Texan with onion rings\, pulled pork\, and BBQ sauce \nAll served with chips and salad. \n*Excludes Public Holidays
URL:https://sharksclub.com.au/event/thursday-night-ribs-wings/2031-04-17/
LOCATION:Zest Bistro at The Sharks\, 325 Colburn Avenue\, Victoria Point\, QLD\, 4165\, Australia
CATEGORIES:All,Meal Specials
ATTACH;FMTTYPE=image/png:https://sharksclub.com.au/wp-content/uploads/2024/10/Thursday-Parmi-2.png
END:VEVENT
BEGIN:VEVENT
DTSTART;TZID=Australia/Brisbane:20310418T183000
DTEND;TZID=Australia/Brisbane:20310418T223000
DTSTAMP:20260420T051250
CREATED:20240715T041713Z
LAST-MODIFIED:20251208T062541Z
UID:10050900-1934303400-1934317800@sharksclub.com.au
SUMMARY:Live Music
DESCRIPTION:Enjoy free weekly live music at The Sharks! \nExperience the best of local live music! Join us in our vibrant main lounge where talented musicians and bands perform a variety of genres to suit all tastes. \nWhether you’re looking for a relaxing evening with smooth jazz\, an upbeat night with lively rock\, or anything in between\, we have something for everyone.
URL:https://sharksclub.com.au/event/live-music/2031-04-18/
LOCATION:Vic Point Sharks\, 325 Colburn Avenue\, Victoria Point\, QLD\, 4165\, Australia
CATEGORIES:All,Entertainment,Live Music
ATTACH;FMTTYPE=image/jpeg:https://sharksclub.com.au/wp-content/uploads/2024/07/Fri-Sat-night-Entertainment-Featured-Event.jpg
END:VEVENT
BEGIN:VEVENT
DTSTART;TZID=Australia/Brisbane:20310419T170000
DTEND;TZID=Australia/Brisbane:20310419T213000
DTSTAMP:20260420T051250
CREATED:20240718T045503Z
LAST-MODIFIED:20250818T093040Z
UID:10050901-1934384400-1934400600@sharksclub.com.au
SUMMARY:Buckaroo Blitz
DESCRIPTION:Are you ready for the BUCKAROO BLITZ? \nEvery Saturday from 7pm\, 10 lucky members will get to play BUCKAROO BLITZ and have the chance to win $100 cash! \nEnter from 5pm with every $5 play on the gaming machines. Draws from 7pm. \nMust be a Member!  JOIN NOW!
URL:https://sharksclub.com.au/event/money-mountain/2031-04-19/
LOCATION:Vic Point Sharks\, 325 Colburn Avenue\, Victoria Point\, QLD\, 4165\, Australia
CATEGORIES:All,Promotions,Weekly Promotions
ATTACH;FMTTYPE=image/jpeg:https://sharksclub.com.au/wp-content/uploads/2025/08/BuckarooBlitz_WebFeatImg.jpg
END:VEVENT
BEGIN:VEVENT
DTSTART;TZID=Australia/Brisbane:20310419T183000
DTEND;TZID=Australia/Brisbane:20310419T223000
DTSTAMP:20260420T051250
CREATED:20240715T041713Z
LAST-MODIFIED:20251208T062541Z
UID:10050902-1934389800-1934404200@sharksclub.com.au
SUMMARY:Live Music
DESCRIPTION:Enjoy free weekly live music at The Sharks! \nExperience the best of local live music! Join us in our vibrant main lounge where talented musicians and bands perform a variety of genres to suit all tastes. \nWhether you’re looking for a relaxing evening with smooth jazz\, an upbeat night with lively rock\, or anything in between\, we have something for everyone.
URL:https://sharksclub.com.au/event/live-music/2031-04-19/
LOCATION:Vic Point Sharks\, 325 Colburn Avenue\, Victoria Point\, QLD\, 4165\, Australia
CATEGORIES:All,Entertainment,Live Music
ATTACH;FMTTYPE=image/jpeg:https://sharksclub.com.au/wp-content/uploads/2024/07/Fri-Sat-night-Entertainment-Featured-Event.jpg
END:VEVENT
END:VCALENDAR